BEGIN:VCALENDAR
VERSION:2.0
PRODID:-//https://techplay.jp//JP
CALSCALE:GREGORIAN
METHOD:PUBLISH
X-WR-CALDESC:【倉庫管理ウェビナーB3】出荷作業を素早くミ
 スなくスムーズに！クラウド倉庫管理システム（出荷
 編）
X-WR-CALNAME:【倉庫管理ウェビナーB3】出荷作業を素早くミ
 スなくスムーズに！クラウド倉庫管理システム（出荷
 編）
X-WR-TIMEZONE:Asia/Tokyo
BEGIN:VTIMEZONE
TZID:Asia/Tokyo
BEGIN:STANDARD
DTSTART:19700101T000000
TZOFFSETFROM:+0900
TZOFFSETTO:+0900
TZNAME:JST
END:STANDARD
END:VTIMEZONE
BEGIN:VEVENT
UID:850605@techplay.jp
SUMMARY:【倉庫管理ウェビナーB3】出荷作業を素早くミス
 なくスムーズに！クラウド倉庫管理システム（出荷編
 ）
DTSTART;TZID=Asia/Tokyo:20220407T150000
DTEND;TZID=Asia/Tokyo:20220425T140000
DTSTAMP:20260421T045811Z
CREATED:20220303T022414Z
DESCRIPTION:イベント詳細はこちら\nhttps://techplay.jp/event/85060
 5?utm_medium=referral&utm_source=ics&utm_campaign=ics\n\n【倉庫管理
 ウェビナーB3】\n出荷作業を素早くミスなくスムーズに
 ！クラウド倉庫管理システム（出荷編）\n\n倉庫管理シ
 ステムとハンディーターミナル活用によるピッキング
 ・検品・梱包・発送のスムーズな処理と正確・高度な
 出荷業務の実現について、スマブツクラウドのデモを
 交えて解説します。\n目次\n０１．出荷業務のミス撲滅
 のためには０２．在庫引当　　　　０３．ピッキング
 リスト０４．出荷検品０５．梱包０６．デモンストレ
 ーション（ピッキング、出荷検品）０７．送り状\n\nCEC
 新潟情報サービス制作の倉庫管理業務を徹底解説したW
 EBセミナーです。定期開催となっておりますので、ご
 都合のつく時間にご視聴いただけます。\n【視聴方法
 】zoomウェビナーを視聴いただきますお申し込み後、開
 催当日に参加用URLをメールいたします。※参加者の皆
 様のビデオ、マイクは停止されております。\nCECウェ
 ビナー詳細はこちら\nお申込みはこちら\n\nイベント概
 要\nCEC定期開催ウェビナー【倉庫管理ウェビナーB3】\n
 主　催：CEC新潟情報サービス株式会社日　時：4月07日(
 木)	15:00～15:30　　　　4月13日(水)	11:00～11:30　　　　4
 月19日(火)	11:00～11:30　　　　4月25日(月)	14:00～14:30場　
 所：オンライン（Zoomウェビナー）参加費：無料\n参加
 費\n無料\nお問い合わせ\nCEC新潟情報サービス株式会社
 　営業企画開発室025‐243-5105
LOCATION:オンライン
URL:https://techplay.jp/event/850605?utm_medium=referral&utm_source=ics&utm
 _campaign=ics
END:VEVENT
END:VCALENDAR
