BEGIN:VCALENDAR
VERSION:2.0
PRODID:-//https://techplay.jp//JP
CALSCALE:GREGORIAN
METHOD:PUBLISH
X-WR-CALDESC:PHP勉強会②
X-WR-CALNAME:PHP勉強会②
X-WR-TIMEZONE:Asia/Tokyo
BEGIN:VTIMEZONE
TZID:Asia/Tokyo
BEGIN:STANDARD
DTSTART:19700101T000000
TZOFFSETFROM:+0900
TZOFFSETTO:+0900
TZNAME:JST
END:STANDARD
END:VTIMEZONE
BEGIN:VEVENT
UID:850735@techplay.jp
SUMMARY:PHP勉強会②
DTSTART;TZID=Asia/Tokyo:20220319T130000
DTEND;TZID=Asia/Tokyo:20220319T150000
DTSTAMP:20260420T062950Z
CREATED:20220304T052241Z
DESCRIPTION:イベント詳細はこちら\nhttps://techplay.jp/event/85073
 5?utm_medium=referral&utm_source=ics&utm_campaign=ics\n\nPHP勉強会\n
 概要\nプログラミング未経験者・PHPを学びたいITエンジ
 ニア向けに、PHPの勉強会を開催します。\nこんなお悩
 みありませんか？・新たにPHPを勉強したいが、一人で
 はできない…・これからの仕事でPHPを使うこととなっ
 た・Web系エンジニアへと転向したい\nそんな方々を対
 象としてPHPの勉強会を開催します。\nタイムスケジュ
 ール\n以下タイムテーブルに従って進めていきます。\n
 \n\n\n時間\n内容\n\n\n\n\n13:00-13:10\nはじめに\n\n\n13:10-13:20\
 n参加者の自己紹介\n\n\n13:20-14:20\nPHPの基本文法(演算子
 ＆条件分岐)＆練習問題の演習\n\n\n14:20-14:30\nおわりに\n
 \n\n14:30-15:00\n振り返り\n\n\n\n※ 当日予告なく時間配分
 ・内容が変更になる可能性がございます。\n参加費\n無
 料\n開催形態\n当日はzoomにて開催します。参加登録後
 、TechPlayからの参加者へのお知らせにZoom情報を記載し
 ておりますので、ご覧ください。15分前にはミーティ
 ングを開始いたします。\n勉強会の内容\nPHPの基本文法
 ②\n\n演算子\n条件分岐\n\n講師紹介\n原田礼花 メーカ
 ー系SIerに勤め、通信事業者様向けにJavaやPHPによるWEB
 アプリ開発や保守を行ってきました。 PHPは二つ目の言
 語として、保守作業をとおして学習をすすめ、PHPの開
 発案件へ参入しました。 SE歴は6年になります。\n質問
 ・ご連絡先\n何かご不明点があれば、下記ご連絡先に
 お願いいたします。funtech341@gmail.com\nFunTechについて\nプ
 ログラミングスクールのFunTechです。PHPを学びたいITエ
 ンジニアの方や、プログラミング未経験者に向けた学
 習プログラムをご用意しています。\n・仕事の選択肢
 が広がらない・ライフスタイルの変化に合わせてフル
 リモートに転向したい\nこんなお悩みをお持ちの方の
 お悩み解決に貢献していくことを目的に運営していま
 す。\n詳しくは下記サイトをご覧ください。https://fun-te
 ch.online/
LOCATION:オンライン
URL:https://techplay.jp/event/850735?utm_medium=referral&utm_source=ics&utm
 _campaign=ics
END:VEVENT
END:VCALENDAR
