BEGIN:VCALENDAR
VERSION:2.0
PRODID:-//https://techplay.jp//JP
CALSCALE:GREGORIAN
METHOD:PUBLISH
X-WR-CALDESC:【ラクス】プロダクトマネージャーの仕事紹
 介／キャリア座談会
X-WR-CALNAME:【ラクス】プロダクトマネージャーの仕事紹
 介／キャリア座談会
X-WR-TIMEZONE:Asia/Tokyo
BEGIN:VTIMEZONE
TZID:Asia/Tokyo
BEGIN:STANDARD
DTSTART:19700101T000000
TZOFFSETFROM:+0900
TZOFFSETTO:+0900
TZNAME:JST
END:STANDARD
END:VTIMEZONE
BEGIN:VEVENT
UID:850964@techplay.jp
SUMMARY:【ラクス】プロダクトマネージャーの仕事紹介／
 キャリア座談会
DTSTART;TZID=Asia/Tokyo:20220328T190000
DTEND;TZID=Asia/Tokyo:20220328T200000
DTSTAMP:20260425T040414Z
CREATED:20220307T002031Z
DESCRIPTION:イベント詳細はこちら\nhttps://techplay.jp/event/85096
 4?utm_medium=referral&utm_source=ics&utm_campaign=ics\n\nイベント概
 要\nラクスでは、ビジネスの業務効率化や付加価値向
 上を支援するSaaSを多数提供しており、延べ70\,000社の
 お客様にご利用いただいています。これまでも約2年に
 1回のペースで新たなプロダクトをリリースしてきまし
 た。\n今回はビジネス、テクノロジー、デザイン各部
 門の要となり、プロダクトの成長を導くプロダクトマ
 ネージャー（PdM）の仕事をご紹介。複数のプロダクト
 事例を取り上げながら、チーム体制や業務内容、キャ
 リアパスなどをざっくばらんにお話します！\n【テー
 マ例】\n\nプロダクト開発体制（開発チーム、PdMチーム
 の役割分担等）\n製品企画、事業部、開発チームとの
 関わり方、業務分担\n入社後の業務担当例\nチームの課
 題や展望\nプロダクトマネージャーのバックグラウン
 ドやキャリアパス\n\n※ お時間の関係ですべてを取り
 上げられない可能性もございます。予めご了承くださ
 い。\n少人数制で質問等も大歓迎の会ですので、是非
 お気軽にご参加ください！\nお申込はこちら\n\nお申込
 期日：2022/3/28(月) 18:00迄\n画面右側「イベントに申し込
 む」 よりご登録ください\n\n参考※当社技術スタック(
 一部)\n\n言語：Java\, PHP\, Go\, Python\, Node.js\nフレームワ
 ーク: Spring Boot\, Laravel 等\nフロントエンド： TypeScript\, 
 React/Redux\, Vue.js\nインフラ：オンプレミス\, AWS\, Docker\, 
 k8s\n開発プロセス：アジャイル（大規模スクラム LeSS等
 ）、ウォーターフォール\nコードレビュー：Pull Request 
 ベース（GitLabのMergeRequest）\nCI\,テスト：GitLab CI\, Jenkins
 \, gradle\, Selenium/Selenide\n\n※ 技術構成はプロダクトによ
 り異なります。\n開催概要\n\n日時: 2022/3/28(月) 19:00-20:00
 \n会場: オンライン（Zoom）\n\nメッセージにて開催前にZ
 oomURLを通知いたします。\nZoomへの入室は10分前からと
 なります。\n\n\n参加費: 無料\n\n※イベント参加人数が
 少ない場合など、中止とする場合がございますのでご
 了承ください。\nタイムスケジュール\n\n\n\n時間\n内容\
 n\n\n\n\n19:00 ～ 19:10\n司会自己紹介/会社紹介/チェックイ
 ン\n\n\n19:10 ～ 19:50\nPdMチーム体制・プロダクト・ビジ
 ネス・開発との関わり等紹介　ご質問大歓迎！\n\n\n19:5
 0 〜 20:00\nキャリア情報・アンケート\n\n\n20:00\n終了予
 定\n\n\n\n当社参加メンバー\n\n米田慎太郎 / 技術・採用
 広報2020年ラクス入社IT出版や人材企業で新規事業開発
 、マーケティング、経営企画・内部統制やセールス組
 織のマネジメントを経験。現在は技術・採用広報とし
 て、イベントやテックブログの企画運営を担当。\n菊
 池伸匡 / 採用広報2021年ラクス入社HR Techプロダクトの
 オフショア開発PLやIT企業の人事等を経験。開発本部の
 採用広報として、エンジニア・デザイナー向けのイベ
 ント企画運営を担当。社会人大学で情報学を学んでい
 ます。\n
LOCATION:オンライン
URL:https://techplay.jp/event/850964?utm_medium=referral&utm_source=ics&utm
 _campaign=ics
END:VEVENT
END:VCALENDAR
