BEGIN:VCALENDAR
VERSION:2.0
PRODID:-//https://techplay.jp//JP
CALSCALE:GREGORIAN
METHOD:PUBLISH
X-WR-CALDESC:【Accenture Tech Talk #5】最新テクノロジーを活用
 したデータドリブンでの継続的業務改善とは
X-WR-CALNAME:【Accenture Tech Talk #5】最新テクノロジーを活用
 したデータドリブンでの継続的業務改善とは
X-WR-TIMEZONE:Asia/Tokyo
BEGIN:VTIMEZONE
TZID:Asia/Tokyo
BEGIN:STANDARD
DTSTART:19700101T000000
TZOFFSETFROM:+0900
TZOFFSETTO:+0900
TZNAME:JST
END:STANDARD
END:VTIMEZONE
BEGIN:VEVENT
UID:851128@techplay.jp
SUMMARY:【Accenture Tech Talk #5】最新テクノロジーを活用した
 データドリブンでの継続的業務改善とは
DTSTART;TZID=Asia/Tokyo:20220328T190000
DTEND;TZID=Asia/Tokyo:20220328T203000
DTSTAMP:20260421T051416Z
CREATED:20220308T001651Z
DESCRIPTION:イベント詳細はこちら\nhttps://techplay.jp/event/85112
 8?utm_medium=referral&utm_source=ics&utm_campaign=ics\n\n★Accenture Te
 ch Talk『部門・領域説明会』第５弾！★\nTechnology for Liv
 ing Systems (TfLS)TfLSは「Living Systems（進化し続けるシステ
 ム）」を実現するテクノロジー専門組織。ソリューシ
 ョン設計やシステム開発、デジタルソリューションを
 組み込んだビジネス設計を担っています。最新テクノ
 ロジーを活用したデータドリブンでの継続的業務改善
 についてお話いたします。\n概要\n「アクセンチュア=
 コンサル会社」というイメージを持っていませんか？ 
 この数年で、あらゆる産業界にデジタルトランスフォ
 ーメーション（DX）の波が押し寄せており、アクセン
 チュアの強みである「IT×コンサル」の両輪を駆使した
 ビジネスモデルが競争優位を発揮しています。社員数
 は、1万8000人と3年で3倍以上となり、その中でも多くの
 エンジニアが活躍しています。今では、コンサルティ
 ング企業からの転職者だけでなく、SIerをはじめとして
 ウェブ業界、スタートアップからの転職希望者も増え
 ています。\nAccenture Tech Talkでは、そんなアクセンチュ
 アの秘密と魅力、およびエンジニアリングとコンサル
 ティングを融合したプロジェクトの具体例について、
 テクノロジー コンサルティング本部内に全21ある各ド
 メインの担当者からお伝えします。\n全19回、年間を通
 じて行いますので、ぜひご興味がある方はご参加下さ
 いませ。**\n=============================================\n★Accentu
 re Tech Talk『ドメイン説明会』第５弾！★第二回目は、
 テクノロジー コンサルティング本部のTfLS（Technology for
  Living Systems）という組織でRPA等の自動化を推進するシ
 ニア・マネジャーの戸塚　雅也より『最新テクノロジ
 ーを活用したデータドリブンでの継続的業務改善とは
 』という題目でテクノロジーを駆使した業務自動化・
 高度化事例をご紹介します。\n■説明会概要本講演で
 はテクノロジー コンサルティング本部のTfLS（Technology 
 for Living Systems）という組織やTfLSが推進を行う「Living Sy
 stems」のご説明と、実際のプロジェクト事例をご紹介
 します。「Living Systems」はアクセンチュアの造語で、
 ビジネスの変化に合わせ、データを活用しながら進化
 し続けていくシステムを意味しており、デジタルツイ
 ンとも深い関わりがあります。この世界観を実現する
 ために、私達がどのようなテクノロジーを用いてどの
 ようなソリューションを描いているか、最新の事例と
 ともにお話したいと思います。\nタイムスケジュール\n
 \n\n\n\n開始時間\n終了時間\n内容\n\n\n\n\n19:00\n19:10\nオー
 プニング/会社説明Accenture Tech Talkについての概要、TfLS
 の説明\n\n\n19:10\n19:40\n■メイントーク最新テクノロジ
 ーを活用したデータドリブンでの継続的業務改善とは\
 n\n\n19:40\n20:10\n戸塚とTfLSのメンバーを含めた座談会と
 なります。\n\n\n20:10\n20:30\nQ&A登壇者（戸塚、TfLS）に対
 しての質問を随時受付、回答させて頂きます。\n\n\n\n
 登壇者\n\nTozuka.M\nアクセンチュア株式会社\n略歴\n\n\n\n
 参加対象\n・エンジニアリングとコンサルティングの
 融合された領域に興味がある方・アクセンチュアのテ
 クノロジー部門に興味のある方・インテリジェントオ
 ートメーションに興味のある方・業務で発生する様々
 なデータを分析し継続的改善に繋げていく活動やその
 仕組み作りに興味のある方・海外の専門家やデリバリ
 ーセンターとも連携しながら、新しいソリューション
 においてスピード感を持ちながらスケールさせるとい
 ったグローバルでの活躍に興味のある方\n\n参加費\n無
 料\nハッシュタグ\n#techplayjp\n注意事項\n\nリクルーティ
 ング、勧誘など、採用目的でのイベント参加はお断り
 しております。\nキャンセル待ち・補欠・落選の方は
 ご参加いただくことが出来ませんのでご了承ください
 。\n欠席される場合は、お手数ですが速やかにキャン
 セル処理をお願い致します。\n無断キャンセルや欠席
 が続く場合、次回以降の参加をお断りさせていただく
 場合がございます。\n
LOCATION:オンライン
URL:https://techplay.jp/event/851128?utm_medium=referral&utm_source=ics&utm
 _campaign=ics
END:VEVENT
END:VCALENDAR
