BEGIN:VCALENDAR
VERSION:2.0
PRODID:-//https://techplay.jp//JP
CALSCALE:GREGORIAN
METHOD:PUBLISH
X-WR-CALDESC:【受付中】PointCab製品説明会(点群→BIM変換ソ
 フト)製品説明会（無料）
X-WR-CALNAME:【受付中】PointCab製品説明会(点群→BIM変換ソ
 フト)製品説明会（無料）
X-WR-TIMEZONE:Asia/Tokyo
BEGIN:VTIMEZONE
TZID:Asia/Tokyo
BEGIN:STANDARD
DTSTART:19700101T000000
TZOFFSETFROM:+0900
TZOFFSETTO:+0900
TZNAME:JST
END:STANDARD
END:VTIMEZONE
BEGIN:VEVENT
UID:851844@techplay.jp
SUMMARY:【受付中】PointCab製品説明会(点群→BIM変換ソフト)
 製品説明会（無料）
DTSTART;TZID=Asia/Tokyo:20220405T110000
DTEND;TZID=Asia/Tokyo:20220405T120000
DTSTAMP:20260422T131557Z
CREATED:20220314T065603Z
DESCRIPTION:イベント詳細はこちら\nhttps://techplay.jp/event/85184
 4?utm_medium=referral&utm_source=ics&utm_campaign=ics\n\nPointCab(点群
 編集ソフト)がどのような商品なのかを説明します。\n
 本説明会は、Zoomウェビナーのオンラインで行います。
 \nーー概要ーー・PointCabとはどのような製品なのか・Poi
 ntCabの特徴、活用方法、重要事項・PointCabのデータ編集
 、価格等\n\nタイムスケジュール\n11:00－11:15 　PointCabの
 概要説明11:15－11:45　PointCabプラグイン　PointCab4Revitに
 ついて11:45－12:00　質疑応答\nどのような方にお勧めか\
 nこれらのツールを使用すると、大規模な点群からBIM要
 素に変換させること簡単になりました。PointCabは、2D／
 3Dのいずれの機能を問わず、点群から平面図または3Dモ
 デルへ最適化されたワークフローを提供します。\n\n※
 　互換性のあるスキャナー\n※ 当日予告なく時間配分
 ・内容が変更になる可能性がございます。\n登壇者\n\n
 有限会社リビングCG　代表取締役社長　関　良平\nご参
 加をお待ちしております。\n\n参加対象・VR撮影機材の
 ご購入をご検討の方・インターネット上で点群データ
 を扱う方・建設設計監理で点群データ収集担当の方・
 建築現場管理をご検討の方・BIM製品導入をご検討中の
 方\nウェブサイト\n有限会社リビングCGhttps://livingcg.jp/po
 intcab/3DBIMソフト販売および教育（ Lumion／Matterport／Point
 Cab）\n参加費\n無料\nハッシュタグ\n#techplayjp#Matterport#VR\
 n注意事項\n\nキャンセル待ち・補欠・落選の方はご参
 加いただくことが出来ませんのでご了承ください。\n
 欠席される場合は、お手数ですが速やかにキャンセル
 処理をお願い致します。\n無断キャンセルや欠席が続
 く場合、次回以降の参加をお断りさせていただく場合
 がございます。\n
LOCATION:オンライン
URL:https://techplay.jp/event/851844?utm_medium=referral&utm_source=ics&utm
 _campaign=ics
END:VEVENT
END:VCALENDAR
