BEGIN:VCALENDAR
VERSION:2.0
PRODID:-//https://techplay.jp//JP
CALSCALE:GREGORIAN
METHOD:PUBLISH
X-WR-CALDESC:【ラクス】マルチヒットSaaSを支える開発戦略
 ・プロセス事例紹介！
X-WR-CALNAME:【ラクス】マルチヒットSaaSを支える開発戦略
 ・プロセス事例紹介！
X-WR-TIMEZONE:Asia/Tokyo
BEGIN:VTIMEZONE
TZID:Asia/Tokyo
BEGIN:STANDARD
DTSTART:19700101T000000
TZOFFSETFROM:+0900
TZOFFSETTO:+0900
TZNAME:JST
END:STANDARD
END:VTIMEZONE
BEGIN:VEVENT
UID:852287@techplay.jp
SUMMARY:【ラクス】マルチヒットSaaSを支える開発戦略・プ
 ロセス事例紹介！
DTSTART;TZID=Asia/Tokyo:20220331T190000
DTEND;TZID=Asia/Tokyo:20220331T200000
DTSTAMP:20260425T000644Z
CREATED:20220318T015608Z
DESCRIPTION:イベント詳細はこちら\nhttps://techplay.jp/event/85228
 7?utm_medium=referral&utm_source=ics&utm_campaign=ics\n\nイベント概
 要\nエンジニア・デザイナーの方向けに、当社ラクス
 の開発体制やスタック、制度やカルチャー、キャリア
 などをご紹介するカジュアルなイベントです。\n今回
 のテーマは「マルチヒットSaaSを支える開発戦略・開発
 プロセス事例紹介！」。ラクスのプロダクト開発では
 、自社サービスの利便性を高めるための様々な改善が
 日々行われています。今回はラクスでのキャリアにご
 興味をお持ちのエンジニアの方向けに、下記トピック
 を中心にお話します。特に若手の方には、今後ラクス
 で挑戦できるテーマの総集編としても聞いていただけ
 ます！\n【トピック例】\n\n利便性や開発スピードを高
 める設計\n\nフロントエンド、バックエンドの分離\nAPI
 設計\n\n\n開発プロセス（品質の担保）\n\nテスト\nコー
 ドレビュー\n\n\n開発戦略\n\nプロダクト未使用技術の検
 証と導入\nオフショア活用\n\n\n\n※ お時間の関係です
 べてを取り上げられない可能性もございます。予めご
 了承ください。\n◆ こんな方におススメ下記にちょっ
 とでもあてはまるエンジニアの方 は、是非話を聞きに
 来てください！\n・腰をすえて自社内チーム開発がし
 たい・主体的に創意工夫できる環境がいい・技術を伸
 ばしたいので、育成に意欲のある環境で働きたい・若
 手エンジニアとして今後のキャリアに関心がある・お
 客様の役に立つ成長プロダクトに関わりたい\n※ご参
 考：ラクスの技術スタック、開発プロセス等\n\n言語：
 Java\, PHP\, Go\, Python\, Node.js\nフレームワーク: Spring Boot\, 
 Laravel 等\nフロントエンド： TypeScript\, React/Redux\, Vue.js\n
 インフラ：オンプレミス\, AWS\, Docker\, k8s\n開発プロセ
 ス：アジャイル（大規模スクラム LeSS等）、ウォータ
 ーフォール\nコードレビュー：Pull Request ベース（GitLab
 のMergeRequest）\nCI\,テスト：GitLab CI\, Jenkins\, gradle\, Seleni
 um/Selenide※ 技術構成はプロダクトにより異なります。\
 n\n申込方法\n\nお申込期日：2022/3/31(木) 18:00迄\n画面右
 側 「イベントに申し込む」 よりご登録ください\n\n
 開催概要\n\n日時: 2021/3/31(木) 19:00-20:00\n会場: オンライ
 ン（Zoom）\n\nメッセージにてZoomURLを通知いたします。\
 nZoomへの入室は10分前からとなります。\n\n\n参加費: 無
 料\n\n※イベント参加人数が少ない場合など、中止とす
 る場合がございますのでご了承ください。※ 本イベン
 ト風景を録画しておりますが、運営改善以外の用途に
 は用いません。皆様の映像は録画されませんのでご安
 心ください。\nタイムスケジュール\n\n\n\n時間\n内容\n\n
 \n\n\n19:00 ～ 19:05\nスタート\n\n\n19:05 ～ 19:10\n自己紹介\n\
 n\n19:10 ～ 19:40\n開発環境・体制/事業・プロダクト/技術
 スタックなど\n\n\n19:40 〜 20:00\nＱ&A クロストーク\n\n\n20
 :00\n終了予定\n\n\n\n当社参加メンバー\n\n米田慎太郎 / 
 技術・採用広報2020年ラクス入社IT出版や人材企業で 新
 規事業開発、マーケティング、経営企画・内部統制や
 セールス組織のマネジメントを経験。現在は技術・採
 用広報として、イベントやテックブログの企画運営を
 担当。\n菊池伸匡 / 採用広報2021年ラクス入社HR Techプロ
 ダクトのオフショア開発PLやIT企業の人事等を経験。開
 発本部の採用広報として、エンジニア・デザイナー向
 けのイベント企画運営を担当。社会人大学で情報学を
 学んでいます。\n\n\nエンジニア中途採用サイト\nラク
 スでは、エンジニア・デザイナーの中途採用を積極的
 に行っております！ご興味ありましたら是非ご確認を
 お願いします。https://career-recruit.rakus.co.jp/career_engineer/\
 nカジュアル面談\nどの職種に応募すれば良いかわから
 ないという方は、カジュアル面談も随時行っておりま
 す。以下フォームよりお申込みください！https://rakus.hu
 bspotpagebuilder.com/visit_engineer/
LOCATION:オンライン
URL:https://techplay.jp/event/852287?utm_medium=referral&utm_source=ics&utm
 _campaign=ics
END:VEVENT
END:VCALENDAR
