BEGIN:VCALENDAR
VERSION:2.0
PRODID:-//https://techplay.jp//JP
CALSCALE:GREGORIAN
METHOD:PUBLISH
X-WR-CALDESC:【4/13(水)16時開催】ロケーションテックセミナ
 ー ～ジーアイビー代表が語る次世代の人流データを活
 用した出店計画～
X-WR-CALNAME:【4/13(水)16時開催】ロケーションテックセミナ
 ー ～ジーアイビー代表が語る次世代の人流データを活
 用した出店計画～
X-WR-TIMEZONE:Asia/Tokyo
BEGIN:VTIMEZONE
TZID:Asia/Tokyo
BEGIN:STANDARD
DTSTART:19700101T000000
TZOFFSETFROM:+0900
TZOFFSETTO:+0900
TZNAME:JST
END:STANDARD
END:VTIMEZONE
BEGIN:VEVENT
UID:852309@techplay.jp
SUMMARY:【4/13(水)16時開催】ロケーションテックセミナー 
 ～ジーアイビー代表が語る次世代の人流データを活用
 した出店計画～
DTSTART;TZID=Asia/Tokyo:20220413T160000
DTEND;TZID=Asia/Tokyo:20220413T170000
DTSTAMP:20260422T205109Z
CREATED:20220318T060730Z
DESCRIPTION:イベント詳細はこちら\nhttps://techplay.jp/event/85230
 9?utm_medium=referral&utm_source=ics&utm_campaign=ics\n\nロケーショ
 ンテックセミナー\nジーアイビー代表が語る次世代の
 人流データを活用した出店計画\n商業施設出店型コイ
 ンランドリー「ブルースカイランドリー」を全国展開
 中の株式会社ジーアイビー代表取締役 鈴木 衛氏を迎
 え、コインランドリー市場における「人流データ」の
 活用について詳しく解説いただきます！！\n概要\n近年
 、コインランドリーの利用者は増加傾向にあり、都市
 部を中心に誰でも入りやすい、明るくおしゃれな店舗
 デザインのコインランドリーを目にする機会が増えて
 きました。今やコインランドリーは、地域密着のクリ
 ーンビジネスであり、生活者にとっての接点が多く生
 活に欠かせないサービス事業となっております。\n今
 回のロケーションテックセミナーでは、商業施設出店
 型コインランドリー 「 ブルースカイランドリー」を
 全国に展開中の株式会社ジーアイビー鈴木 衛代表を講
 師としてお招きして、様々な業種からの参入が相次ぐ
 注目のコインランドリー市場における「人流データ」
 の活用についてお話いただきます。\nタイムスケジュ
 ール\n\n\n\n時間\n内容\n\n\n\n\n16:00〜\n開場、受付開始\n\n
 \n16:02〜16:05\nオープニング\n\n\n16:05〜16:40\nSession01. 人流
 データを活用した出店計画登壇者：株式会社ジーアイ
 ビー  代表取締役 鈴木  衛 氏◆弊社は商業施設への
 出店に特化したコインランドリーを全国にフランチャ
 イズ展開している会社です。以前は、これまでの経験
 による「人の感覚」からの出店がほとんどで、出店前
 の予測売上と出店後の実売上との差が激しい店舗もあ
 りました。これは移設が困難な立地ビジネスであるコ
 インランドリー事業には非常に大きなリスクとなりま
 す。この「出たとこ勝負」の出店から「人流データ」
 を活用した出店への切替えで、事業自体のリスクヘッ
 ジにつながっていると考えています。そのあたりを詳
 しくお話しできればと思っています。\n\n\n16:40〜16:55\nS
 ession02. 出店計画や販売促進のDXの支援分析ツール「Loca
 tion AI Pratform®」のご紹介登壇者：クロスロケーション
 ズ 取締役COO　猪谷 久◆出店計画や販売促進を今話題
 の人流データを活用して改善していきたい。そう思わ
 れている経営者や企業の幹部の方は多いのではないで
 しょうか。しかし、データ分析の専門家が社内にいな
 い、分析ツールの操作が難しいなど導入に関しては様
 々な課題があると思います。このセッションでは、使
 いやすいUIで誰でも操作・分析ができ、企業の人流デ
 ータの実務での活用をスピーディに実現する　Location A
 I Platform®のデモと導入のポイントについてご紹介しま
 す。\n\n\n16:55〜17:00\n質疑応答\n\n\n\n※ 当日予告なく時
 間配分・内容が変更になる可能性がございます。\n登
 壇者\n鈴木　衛 氏株式会社ジーアイビー  代表取締役
 ◆プロフィール2009年MBA修得（AACSB）。2010年株式会社ジ
 ーアイビーを設立。顧客の業績改善のためのビジネス
 マッチング業務を実施。その後、顧客に安定したビジ
 ネスを提供できないかと模索し、コインランドリー事
 業に着目。携わった会社は1\,000社を超え、数々のビジ
 ネスモデルを成功に導いできた知識と経験を活かし、
 コインランドリーの新しいビジネスモデルを設計。全
 国に展開中。\n\n猪谷  久クロスロケーションズ株式会
 社 取締役COO◆プロフィール2014年10月からグローバル・
 ロケーション・インテリジェンス事業を行うNear社日本
 地域の責任者に就任。2018年1月、クロスロケーション
 ズ（株）取締役COOに就任。\nこのような方におすすめ\n
 \n店舗経営や運営ビジネスに携わる方\n出店計画や販売
 促進を話題の人流データを活用して改善していきたい
 方\n最新の位置情報データ活事例を知りたい方\n企業の
 人流データの実務での活用をスピーディに実現したい
 方\n\n開催概要\n\n日程：	2022年4月13日(水)　16:00 – 17:00\
 n費用：	無料\n定員： 100名\n会場：	オンライン開催(Zoom
 )\n\n注意事項\n\nご登録のメールアドレスは、貴法人ド
 メインのメールアドレスをご入力ください。\nフリー
 メールアドレスでのお申し込みはご遠慮ください。\n
 同業他社の方のご参加はお断りさせていただいており
 ます。ご理解のほどお願い申し上げます。\n参加を辞
 退する場合は、詳細ページより申込のキャンセルをお
 願いいたします。\n無断キャンセル・欠席が続く場合
 、次回以降の参加をお断りさせていただく場合がござ
 いますのでご了承ください。\n
LOCATION:オンラインZoom
URL:https://techplay.jp/event/852309?utm_medium=referral&utm_source=ics&utm
 _campaign=ics
END:VEVENT
END:VCALENDAR
