BEGIN:VCALENDAR
VERSION:2.0
PRODID:-//https://techplay.jp//JP
CALSCALE:GREGORIAN
METHOD:PUBLISH
X-WR-CALDESC:出張版 脆弱性対応勉強会 #01（札幌）
X-WR-CALNAME:出張版 脆弱性対応勉強会 #01（札幌）
X-WR-TIMEZONE:Asia/Tokyo
BEGIN:VTIMEZONE
TZID:Asia/Tokyo
BEGIN:STANDARD
DTSTART:19700101T000000
TZOFFSETFROM:+0900
TZOFFSETTO:+0900
TZNAME:JST
END:STANDARD
END:VTIMEZONE
BEGIN:VEVENT
UID:852562@techplay.jp
SUMMARY:出張版 脆弱性対応勉強会 #01（札幌）
DTSTART;TZID=Asia/Tokyo:20220401T190000
DTEND;TZID=Asia/Tokyo:20220401T210000
DTSTAMP:20260420T013930Z
CREATED:20220321T063001Z
DESCRIPTION:イベント詳細はこちら\nhttps://techplay.jp/event/85256
 2?utm_medium=referral&utm_source=ics&utm_campaign=ics\n\n2022/04/02 の
 某勉強会に参加しに行くので、前日に脆弱性対応勉強
 会を 札幌 で実施します！\n\nhttps://yamatosecurity.connpass.co
 m/event/242602/ に参加予定です\n\n出張版、という体裁は
 初めてなので、いろいろイレギュラーです。\n\n参加者
 が登録されてから場所を探します（札幌駅付近をイン
 スタベース辺りで）\nいつもと違う地域で開催なので
 雰囲気が分かりません！開催時刻の要望があればアン
 ケートに記載ください、調整します。\n\n開催概要\n札
 幌駅周辺で、オフラインのみのイベントです。\n脆弱
 性対応の基礎的な考え方をお話します。\n\n脆弱性対応
 勉強会 第01回と同じような、全体的なお話を想定して
 います。\n時間が余ればディスカッションやお悩み相
 談的なこともしようかと思います。\n\n対象者\n\nセキ
 ュリティ業務を行っている方、これから配属される方
 、今後の進路を希望している方\n自社システムなどを
 管理されている方\nセキュリティに興味がある方\nプロ
 アクティブ、アグレッシブにセキュリティ対応を行い
 たい方\nセキュリティの、お話をしたい方/仲間を増や
 したい方\n\n参加条件\n感染症対策の為、以下をお守り
 ください。守られない場合は他の参加者の安全を優先
 し、開催を中止します。\n\nマスクの着用をお願いしま
 す（自分を守る、ではなく、他社を守る、為）\n熱や
 咳等の症状がある場合は、辞退ください（必要なら「
 次回開催」するので、今回は回復を）\n\nスケジュール
 \n2021/10/22(金曜日) 札幌駅周辺\n\; 参加しやすい時間等
 があれば、登録時のアンケートや twitter:hogehuga に連絡
 ください。調整します。\n\n\n\n時刻\n時間\n内容\n\n\n\n\n
 18:50\n10min\n開場\n\n\n19:00\n5min\n開始：本日の要旨説明\n\n
 \n19:05\n45min\n脆弱性対応の考え方\n\n\n20:00\n5min\n質疑応
 答等、順次解散\n\n\n21:00\n--\n閉場（レンタルスペース
 利用時間終わり）、完全退出\n\n\n終了後\n?\nhogehuga氏、
 感染症に注意しつつ晩御飯と水風呂/サウナに行く\n\n\n
LOCATION:カラフル会議室 札幌駅前 北海道札幌市北区北七
 条西4-1-1 (東カン札幌駅前ビル915号室)
URL:https://techplay.jp/event/852562?utm_medium=referral&utm_source=ics&utm
 _campaign=ics
END:VEVENT
END:VCALENDAR
