BEGIN:VCALENDAR
VERSION:2.0
PRODID:-//https://techplay.jp//JP
CALSCALE:GREGORIAN
METHOD:PUBLISH
X-WR-CALDESC:【動画で認知拡大！】YouTube企業チャンネルの
 始め方～動画企画・制作編～
X-WR-CALNAME:【動画で認知拡大！】YouTube企業チャンネルの
 始め方～動画企画・制作編～
X-WR-TIMEZONE:Asia/Tokyo
BEGIN:VTIMEZONE
TZID:Asia/Tokyo
BEGIN:STANDARD
DTSTART:19700101T000000
TZOFFSETFROM:+0900
TZOFFSETTO:+0900
TZNAME:JST
END:STANDARD
END:VTIMEZONE
BEGIN:VEVENT
UID:852628@techplay.jp
SUMMARY:【動画で認知拡大！】YouTube企業チャンネルの始め
 方～動画企画・制作編～
DTSTART;TZID=Asia/Tokyo:20220407T120000
DTEND;TZID=Asia/Tokyo:20220407T130000
DTSTAMP:20260423T212457Z
CREATED:20220322T034353Z
DESCRIPTION:イベント詳細はこちら\nhttps://techplay.jp/event/85262
 8?utm_medium=referral&utm_source=ics&utm_campaign=ics\n\n【動画で認
 知拡大！】YouTube企業チャンネルの始め方～動画企画・
 制作編～\n2022年4月7日（木）12:00～13:00\nYouTubeで動画マ
 ーケティングを行いたいが、なにから手をつけて良い
 かわからない…ということはありませんか？YouTubeは重
 要なマーケティング戦略の一つとなっていますが、成
 果につながる運用が出来ていない企業さまが多いのが
 現状です。今回は「企業のYouTubeチャンネルの始め方」
 と題して”成果”につながる企業の動画制作のノウハ
 ウをご紹介します。\n▼こんな方にオススメです！\n・
 YouTubeでのプロモーションに興味がある担当者様・企業
 用YouTubeチャンネルを検討している担当者様・チャンネ
 ル開設しているが成果が出ていない担当者様\n▼ウェ
 ビナー内容\n・YouTubeを取り巻く現状・チャンネルを伸
 ばすための考え方・YouTube上のニーズを捉える方法・ア
 ルゴリズムとの上手な付き合い方・企業チャンネルの
 事例\n▼開催概要\n・開催日時：2022年4月7日（木）12:00
 ～13:00・参加費：無料・開催方法：ウェビナー　※Zoom
 を利用します・参加方法：お申込後に、別途メールに
 てご案内致します\n▼登壇者\n勝俣 栄太郎\n株式会社CIN
 Cアナリティクス事業本部 コンサルタント\nファシリテ
 ーター：古川 拓株式会社CINCアナリティクス事業本部 
 営業部\n以上となります。皆様のご応募、お待ちして
 おります！\n\n※企業向けのセミナーでございますので
 、フリーメールでの登録はご遠慮くださいますようお
 願いいたします。※なお、競合他社/同業者/企業にご
 所属でない個人の方からのお申込みなど、 当社の判断
 によりセミナー参加をお断りする場合があります。予
 めご了承ください。※終了時刻は前後する可能性がご
 ざいます。※予告なく登壇者・内容の変更がある場合
 がございます。
LOCATION:オンラインセミナー
URL:https://techplay.jp/event/852628?utm_medium=referral&utm_source=ics&utm
 _campaign=ics
END:VEVENT
END:VCALENDAR
