BEGIN:VCALENDAR
VERSION:2.0
PRODID:-//https://techplay.jp//JP
CALSCALE:GREGORIAN
METHOD:PUBLISH
X-WR-CALDESC:成功事例で学ぶ動画マーケティング ～YouTube・
 YouTube Shorts・TikTokを活用した企業チャンネル戦略～
X-WR-CALNAME:成功事例で学ぶ動画マーケティング ～YouTube・
 YouTube Shorts・TikTokを活用した企業チャンネル戦略～
X-WR-TIMEZONE:Asia/Tokyo
BEGIN:VTIMEZONE
TZID:Asia/Tokyo
BEGIN:STANDARD
DTSTART:19700101T000000
TZOFFSETFROM:+0900
TZOFFSETTO:+0900
TZNAME:JST
END:STANDARD
END:VTIMEZONE
BEGIN:VEVENT
UID:852991@techplay.jp
SUMMARY:成功事例で学ぶ動画マーケティング ～YouTube・YouTu
 be Shorts・TikTokを活用した企業チャンネル戦略～
DTSTART;TZID=Asia/Tokyo:20220414T120000
DTEND;TZID=Asia/Tokyo:20220414T130000
DTSTAMP:20260423T194345Z
CREATED:20220324T075803Z
DESCRIPTION:イベント詳細はこちら\nhttps://techplay.jp/event/85299
 1?utm_medium=referral&utm_source=ics&utm_campaign=ics\n\n成功事例で
 学ぶ動画マーケティング～YouTube・YouTube Shorts・TikTokを
 活用した企業チャンネル戦略～\n2022年4月14日（木）12:0
 0～13:00\n動画を使ったマーケティング活動をしたいが
 、何を目的にどのように戦略を立ててよいかわからな
 い...、最近トレンドのTikTokやYouTube Shortsなどのショー
 ト動画も活用してみたいが成果が未知数で手が出しづ
 らい...といった方が多いのではないでしょうか。最新
 の成功事例とともに、CINCのデータ分析ノウハウを活か
 したYouTube・YouTube Shorts、TikTokを利用した動画マーケテ
 ィングの戦略の立て方をご共有いたします。\n▼こん
 な方にオススメです！\n・YouTubeでのプロモーションに
 興味がある担当者様・企業用YouTubeチャンネルを検討し
 ている担当者様・チャンネル開設しているが成果が出
 ていない担当者様\n▼ウェビナー内容\n・YouTubeを取り
 巻く現状・チャンネルを伸ばすための考え方・YouTube上
 のニーズを捉える方法・アルゴリズムとの上手な付き
 合い方・企業チャンネルの事例\n▼開催概要\n・開催日
 時：2022年4月14日（木）12:00～13:00・参加費：無料・開
 催方法：ウェビナー　※Zoomを利用します・参加方法：
 お申込後に、別途メールにてご案内致します\n▼登壇
 者\n古藤 豪\n株式会社CINCアナリティクス事業本部\nフ
 ァシリテーター：古川 拓株式会社CINCアナリティクス
 事業本部 営業部\n以上となります。皆様のご応募、お
 待ちしております！\n\n※企業向けのセミナーでござい
 ますので、フリーメールでの登録はご遠慮くださいま
 すようお願いいたします。※なお、競合他社/同業者/
 企業にご所属でない個人の方からのお申込みなど、 当
 社の判断によりセミナー参加をお断りする場合があり
 ます。予めご了承ください。※終了時刻は前後する可
 能性がございます。※予告なく登壇者・内容の変更が
 ある場合がございます。
LOCATION:オンラインセミナー
URL:https://techplay.jp/event/852991?utm_medium=referral&utm_source=ics&utm
 _campaign=ics
END:VEVENT
END:VCALENDAR
