BEGIN:VCALENDAR
VERSION:2.0
PRODID:-//https://techplay.jp//JP
CALSCALE:GREGORIAN
METHOD:PUBLISH
X-WR-CALDESC:【 Accenture Tech Talk #7 】Salesforce マルチクラウド
 最前線 ～イノベーションは現場で起きている！～
X-WR-CALNAME:【 Accenture Tech Talk #7 】Salesforce マルチクラウド
 最前線 ～イノベーションは現場で起きている！～
X-WR-TIMEZONE:Asia/Tokyo
BEGIN:VTIMEZONE
TZID:Asia/Tokyo
BEGIN:STANDARD
DTSTART:19700101T000000
TZOFFSETFROM:+0900
TZOFFSETTO:+0900
TZNAME:JST
END:STANDARD
END:VTIMEZONE
BEGIN:VEVENT
UID:853203@techplay.jp
SUMMARY:【 Accenture Tech Talk #7 】Salesforce マルチクラウド最
 前線 ～イノベーションは現場で起きている！～
DTSTART;TZID=Asia/Tokyo:20220419T190000
DTEND;TZID=Asia/Tokyo:20220419T203000
DTSTAMP:20260419T153049Z
CREATED:20220326T061759Z
DESCRIPTION:イベント詳細はこちら\nhttps://techplay.jp/event/85320
 3?utm_medium=referral&utm_source=ics&utm_campaign=ics\n\n★ Accenture t
 ech talk 『DTE説明会』 第7弾！★\n今回はテクノロジー 
 コンサルティング本部 クラウドファーストアプリケー
 ションズ（CFA）が担当します。本グループはSalesforce、
 Pega、ServiceNow、Success Factors\, Workday等のSaaSを活用したDX
 推進、システム開発を主に行っております。特に登壇
 者が所属するSalesforceグループではSalesforce社の多種多
 様なクラウド製品を活用したマルチクラウド案件を多
 数推進しております。Salesforceエコシステムにおけるマ
 ルチクラウドソリューションとはどにようなものか、
 官公庁向けプロジェクトを例に、その導入における苦
 労や工夫も交えて当日はお話し出来ればと思います。\
 n概要\n「アクセンチュア=コンサル会社」というイメー
 ジを持っていませんか？ この数年で、あらゆる産業界
 にデジタルトランスフォーメーション（DX）の波が押
 し寄せており、アクセンチュアの強みである「IT×コン
 サル」の両輪を駆使したビジネスモデルが競争優位を
 発揮しています。社員数は、1万8000人と8年で3倍以上と
 なり、その中でも多くのエンジニアが活躍しています
 。今では、コンサルティング企業からの転職者だけで
 なく、SIerをはじめとしてウェブ業界、スタートアップ
 からの転職希望者も増えています。\nAccenture Tech Talkで
 は、そんなアクセンチュアの秘密と魅力、およびエン
 ジニアリングとコンサルティングを融合したプロジェ
 クトの具体例について、テクノロジー コンサルティン
 グ本部内に全21ある各ドメインの担当者からお伝えし
 ます。\n全19回、年間を通じて行いますので、ぜひご興
 味がある方はご参加下さいませ。**\nタイムスケジュー
 ル\n\n\n\n開始時間\n終了時間\n内容\n\n\n\n\n19:00\n19:10\nオ
 ープニング/勉強会の趣旨の説明\n\n\n19:10\n19:30\n■メイ
 ントークSalesforce マルチクラウド最前線　～イノベー
 ションは現場で起きている！～\n\n\n19:30\n20:10\n■パネ
 ルディスカッション他プロジェクトの事例を交えて、S
 alesforceマルチクラウド案件の苦労と魅力をパネラーと
 共に語ります。\n\n\n20:10\n20:30\n■Q&A登壇者に対しての
 質問を随時受付、回答させて頂きます。\n\n\n\n登壇者\n
 Seiichiro.K / Mibu.W\n参加対象\n\nエンジニアリングとコン
 サルティングの融合された領域に興味がある方\nアク
 センチュアグループのテクノロジー部門に興味のある
 方（エンジニア）\nアクセンチュアグループのSalesforce
 プロジェクトに興味がある方\nSalesforceのマルチクラウ
 ドプロジェクトに興味がある方\n海外の専門家やデリ
 バリセンターとも連携しながら、Salesforceソリューショ
 ンにおいてスピード感を持ちながらスケールさせると
 いったグローバルでの活躍に興味のある方\n\n参加費\n
 無料\nハッシュタグ\n#techplayjp\n注意事項\n\nリクルーテ
 ィング、勧誘など、採用目的でのイベント参加はお断
 りしております。\nキャンセル待ち・補欠・落選の方
 はご参加いただくことが出来ませんのでご了承くださ
 い。\n欠席される場合は、お手数ですが速やかにキャ
 ンセル処理をお願い致します。\n無断キャンセルや欠
 席が続く場合、次回以降の参加をお断りさせていただ
 く場合がございます。\n
LOCATION:オンライン
URL:https://techplay.jp/event/853203?utm_medium=referral&utm_source=ics&utm
 _campaign=ics
END:VEVENT
END:VCALENDAR
