BEGIN:VCALENDAR
VERSION:2.0
PRODID:-//https://techplay.jp//JP
CALSCALE:GREGORIAN
METHOD:PUBLISH
X-WR-CALDESC:ゆるIT講座第10回：はじめてのVR制作〜無料ソ
 フト”Unity”を使ってみよう〜
X-WR-CALNAME:ゆるIT講座第10回：はじめてのVR制作〜無料ソ
 フト”Unity”を使ってみよう〜
X-WR-TIMEZONE:Asia/Tokyo
BEGIN:VTIMEZONE
TZID:Asia/Tokyo
BEGIN:STANDARD
DTSTART:19700101T000000
TZOFFSETFROM:+0900
TZOFFSETTO:+0900
TZNAME:JST
END:STANDARD
END:VTIMEZONE
BEGIN:VEVENT
UID:853302@techplay.jp
SUMMARY:ゆるIT講座第10回：はじめてのVR制作〜無料ソフト
 ”Unity”を使ってみよう〜
DTSTART;TZID=Asia/Tokyo:20220404T200000
DTEND;TZID=Asia/Tokyo:20220404T210000
DTSTAMP:20260424T114514Z
CREATED:20220327T091833Z
DESCRIPTION:イベント詳細はこちら\nhttps://techplay.jp/event/85330
 2?utm_medium=referral&utm_source=ics&utm_campaign=ics\n\n「今どきのI
 T技術を、ゆるくちょっとだけ学ぼう」を目指している
 、ゆるIT講座。\n最近メタバース•VRが大ブームですね
 。このバーチャルリアリティ世界の制作は難しいかと
 思いきや、”Unity”という無料のソフトウェアを使う
 と、プログラミングせずにかなり出来てしまうのです
 ！\n 今回は、Unityでの3DCG制作の初歩の初歩として、以
 下３点　①オブジェクト（物体）　②トランスフォー
 ム（位置、回転、大きさ）　③コンポーネント（物体
 に機能追加）について、実際のUnityの画面を表示し操
 作しながら説明します。\nディスプレイを２つ用意し
 、１つは見る用、もう１つは作業用とし一緒にUnityを
 操作すると、学びが深まりますよ。そしてUnity全くの
 未経験から、VRを用いた被爆証言体験コンテンツを開
 発したプロジェクトを紹介します。お気軽にご参加く
 ださい。\n＜講師：さかい＞テクノロジーで社会課題
 を解決するコミュニティ「シンラボ」　広報担当世の
 中にテクノロジーに強い女性を増やすべく、シンラボ
 で広報活動に携わる。経済学部卒。ハードウェアテッ
 ク企業で文系職。数年前からデジタル技術にハマる。B
 BT大学Webビジネスデザイン履修修了。ITパスポート試験
 合格。SDGsに効くIT製品を使うことが好き。\nTwitter：@Tec
 hG_SDGshttps://twitter.com/TechG_SDGs\nタイムスケジュール\n\n\n\
 n時間\n内容\n\n\n\n\n19:55〜\nZoomオープン\n\n\n20:00〜20:25\n
 ゆるIT講座\n\n\n20:25〜20:30\nシンラボの紹介\n\n\n20:30〜20:
 45\n質問・交流会(良かったらご参加ください)\n\n\n\n※ 
 当日予告なく時間配分・内容が変更になる可能性がご
 ざいます。\n参加対象メタバース、VR、ITに関心がある
 皆さん\n参加費\n無料\n参加するには\nZoomをご用意くだ
 さい。各自、ダウンロードをお願いいたします。PC、
 スマホ、どちらでも可能です。詳細はこちらをご覧く
 ださい。https://sinlab.future-tech-association.org/other/sakai/zoom_d
 l/\nシンラボとは\nテクノロジーで社会課題を解決する
 というビジョンを掲げ、一人ひとりが活躍できるエン
 ジニアコミュニティです。シンラボでは、AI・VRなどの
 最新技術に関する知識の習得、SDGs達成のための情報発
 信、スタートアップ支援などを行っており、経験の有
 無を問わず、幅広い職種の方が集まっています。テク
 ノロジーを活かしたプロジェクトを立ち上げ、イメー
 ジを具体化したい。会社では得られないスキル、経験
 を得たい。社外のエンジニアと交流してみたい。そん
 な想いのある方は大歓迎です。\nシンラボの活動につ
 いて詳しく知りたい方はこちら↓↓\nhttps://sinlab.future-t
 ech-association.org/\n注意事項\n\nリクルーティング、勧誘
 など、採用目的でのイベント参加はお断りしておりま
 す。\nキャンセル待ち・補欠・落選の方はご参加いた
 だくことが出来ませんのでご了承ください。\n欠席さ
 れる場合は、お手数ですが速やかにキャンセル処理を
 お願い致します。\n無断キャンセルや欠席が続く場合
 、次回以降の参加をお断りさせていただく場合がござ
 います。\n
LOCATION:オンライン
URL:https://techplay.jp/event/853302?utm_medium=referral&utm_source=ics&utm
 _campaign=ics
END:VEVENT
END:VCALENDAR
