BEGIN:VCALENDAR
VERSION:2.0
PRODID:-//https://techplay.jp//JP
CALSCALE:GREGORIAN
METHOD:PUBLISH
X-WR-CALDESC:サーチコンソールで分かるエラー確認方法と
 対処法～インデックス登録編～
X-WR-CALNAME:サーチコンソールで分かるエラー確認方法と
 対処法～インデックス登録編～
X-WR-TIMEZONE:Asia/Tokyo
BEGIN:VTIMEZONE
TZID:Asia/Tokyo
BEGIN:STANDARD
DTSTART:19700101T000000
TZOFFSETFROM:+0900
TZOFFSETTO:+0900
TZNAME:JST
END:STANDARD
END:VTIMEZONE
BEGIN:VEVENT
UID:853463@techplay.jp
SUMMARY:サーチコンソールで分かるエラー確認方法と対処
 法～インデックス登録編～
DTSTART;TZID=Asia/Tokyo:20220419T120000
DTEND;TZID=Asia/Tokyo:20220419T130000
DTSTAMP:20260419T212638Z
CREATED:20220329T030912Z
DESCRIPTION:イベント詳細はこちら\nhttps://techplay.jp/event/85346
 3?utm_medium=referral&utm_source=ics&utm_campaign=ics\n\nサーチコン
 ソールで分かるエラー確認方法と対処法～インデック
 ス登録編～\n2022年4月19日（火）12:00～13:00\n「SEOのため
 のWebサイトのコンディション確認や分析方法」につい
 てコンサルタントより解説いたします。WebサイトのSEO
 効果を最大化するべく、無料で使える分析ツール「サ
 ーチコンソール」を用いて分析する方法を実例を交え
 ながらご説明いたします。\n▼こんな方にオススメで
 す！\n・デジタルマーケティングご担当者様・SEOご担
 当者様・これからサーチコンソールを使用されるご担
 当者様・サーチコンソールをより有効活用されたいご
 担当者様\n▼ウェビナー内容\n・インデックス登録され
 るまでの道のり・インデックス登録されない要因・イ
 ンデックス登録されない要因の確認方法・インデック
 ス登録されない要因別の対処方法\n▼開催概要\n・開催
 日時：2022年4月19日（火）12:00～13:00・参加費：無料・
 開催方法：ウェビナー　※Zoomを利用します・参加方法
 ：お申込後に、別途メールにてご案内致します\n▼登
 壇者\n尾崎 篤志\n株式会社CINCアナリティクス事業本部 
 コンサルティンググループ チーフ\n以上となります。
 皆様のご応募、お待ちしております！\n\n※企業向けの
 セミナーでございますので、フリーメールでの登録は
 ご遠慮くださいますようお願いいたします。※なお、
 競合他社/同業者/企業にご所属でない個人の方からの
 お申込みなど、 当社の判断によりセミナー参加をお断
 りする場合があります。予めご了承ください。※終了
 時刻は前後する可能性がございます。※予告なく登壇
 者・内容の変更がある場合がございます。
LOCATION:オンラインセミナー
URL:https://techplay.jp/event/853463?utm_medium=referral&utm_source=ics&utm
 _campaign=ics
END:VEVENT
END:VCALENDAR
