BEGIN:VCALENDAR
VERSION:2.0
PRODID:-//https://techplay.jp//JP
CALSCALE:GREGORIAN
METHOD:PUBLISH
X-WR-CALDESC:≪ご好評により再掲載≫　解説動画「データ
 ドリブン経営実践のためのエッセンス」
X-WR-CALNAME:≪ご好評により再掲載≫　解説動画「データ
 ドリブン経営実践のためのエッセンス」
X-WR-TIMEZONE:Asia/Tokyo
BEGIN:VTIMEZONE
TZID:Asia/Tokyo
BEGIN:STANDARD
DTSTART:19700101T000000
TZOFFSETFROM:+0900
TZOFFSETTO:+0900
TZNAME:JST
END:STANDARD
END:VTIMEZONE
BEGIN:VEVENT
UID:853956@techplay.jp
SUMMARY:≪ご好評により再掲載≫　解説動画「データドリ
 ブン経営実践のためのエッセンス」
DTSTART;TZID=Asia/Tokyo:20220404T120000
DTEND;TZID=Asia/Tokyo:20220513T190000
DTSTAMP:20260419T163751Z
CREATED:20220401T080759Z
DESCRIPTION:イベント詳細はこちら\nhttps://techplay.jp/event/85395
 6?utm_medium=referral&utm_source=ics&utm_campaign=ics\n\n【アーカイ
 ブ配信】データドリブン経営実践のためのエッセンス\
 n概要\n課題の本質解決やスピードアップ経営を推進す
 る為には、「データ」に基づいた意思決定が重要な材
 料の一つと言え、その「データ」を活用したデータド
 リブン経営は非常に高い注目を浴びています。本動画
 では、そのデータドリブン経営を進める上での課題と
 その解決策をご案内しております。\n詳細\n\nデータド
 リブン経営とは\n業種別課題感と課題解決へのアプロ
 ーチ\nデータサイエンティスト集団が提供するDD経営支
 援\nD4cが提供するデータドリブン経営支援サービス領
 域\n\n\nスピーカー\n柿内 憲人\n株式会社データフォー
 シーズ　執行役員\nこちらに当てはまる方に是非ご視
 聴いただきたい動画です\n\nデータドリブン経営のやり
 方を知りたい\nAI活用をうまく進めたい\n効果的なデー
 タドリブン経営を知りたい\n内部データを活用したい\n
 データレイクまたは情報プラットフォームを活用した
 い\nデータ分析の能力を高めたい\n\n\n注意事項\n\n競合
 他社/同業者/企業にご所属でない個人の方からのお申
 込みなど、 当社の判断によりお申込みをお断りする場
 合があります。予めご了承ください。\n企業向け動画
 でございますので、フリーメールでのご登録はご遠慮
 くださいますようお願いいたします。\n\n\nデータフォ
 ーシーズってどんな会社？\nデータフォーシーズは、20
 05年よりデータ解析の専業会社として、企業戦略策定
 のためのデータ活用支援、AI/DX導入に向けたシステム
 化企画や実装支援、データを活用したR&D業務支援、デ
 ータ解析適用業務の運用コンサルティングなど、多く
 の企業様向けにデータ解析のご支援をしております。
LOCATION:オンライン
URL:https://techplay.jp/event/853956?utm_medium=referral&utm_source=ics&utm
 _campaign=ics
END:VEVENT
END:VCALENDAR
