BEGIN:VCALENDAR
VERSION:2.0
PRODID:-//https://techplay.jp//JP
CALSCALE:GREGORIAN
METHOD:PUBLISH
X-WR-CALDESC:コードを書かずにプログラミング？ ローコー
 ドで楽々データ処理
X-WR-CALNAME:コードを書かずにプログラミング？ ローコー
 ドで楽々データ処理
X-WR-TIMEZONE:Asia/Tokyo
BEGIN:VTIMEZONE
TZID:Asia/Tokyo
BEGIN:STANDARD
DTSTART:19700101T000000
TZOFFSETFROM:+0900
TZOFFSETTO:+0900
TZNAME:JST
END:STANDARD
END:VTIMEZONE
BEGIN:VEVENT
UID:854179@techplay.jp
SUMMARY:コードを書かずにプログラミング？ ローコードで
 楽々データ処理
DTSTART;TZID=Asia/Tokyo:20220427T120000
DTEND;TZID=Asia/Tokyo:20220427T130000
DTSTAMP:20260423T003205Z
CREATED:20220404T050739Z
DESCRIPTION:イベント詳細はこちら\nhttps://techplay.jp/event/85417
 9?utm_medium=referral&utm_source=ics&utm_campaign=ics\n\nコードを書
 かずにプログラミング？ ローコードで楽々データ処理
 \n概要\nファイルの処理を自動化したいがコードを書く
 のに時間がかかってしまう。プログラミングは得意だ
 けどローコードで楽もしたい。MATLAB にはプログラミン
 グを楽にする機能が増えています。このセミナーでは
 身近な時系列データを使って、コードを書かずにデー
 タの取り込みから分析、そしてレポート作成までを実
 現する流れを紹介します。これから MATLAB を使ってみ
 たい方はもちろん、最近導入された便利な機能にも触
 れますので久しぶりに使う方にもおススメです。アッ
 と驚く使い道が見つかるかもしれません。\n\nローコー
 ドな MATLAB\nデータ取り込み、前処理、分析、可視化\n
 レポートやアプリの作成\n\n登壇者\n宅島 章夫MathWorksの
 エンジニアリングマネージャとして自動車業界を担当
 。主に制御システム開発、データ解析に関わるプロジ
 ェクトに従事。2009年より現職。MATLABユーザ歴21年。MATL
 ABが好きすぎて過去に解説本を1冊執筆（共著）してし
 まいました。 井上 道雄MathWorks のシニアチームリー
 ダとしてデータ解析関連を担当。前職の NASA/JPL では数
 値流体力学（乱流）の研究に従事。より現場に近い数
 値計算の世界を求めて 2014 年に帰国し現職。MathWorks 公
 式ブロガー。Twitter で国内外の MATLAB ユーザーにしつこ
 く絡みます（いいね/RT はすべて手動ですよ）\n登録は
 こちらから\nhttps://jp.mathworks.com/company/events/seminars/low-cod
 e-matlab-3677450.html?s_tid=srchtitle\n参加費\n無料
LOCATION:オンライン
URL:https://techplay.jp/event/854179?utm_medium=referral&utm_source=ics&utm
 _campaign=ics
END:VEVENT
END:VCALENDAR
