BEGIN:VCALENDAR
VERSION:2.0
PRODID:-//https://techplay.jp//JP
CALSCALE:GREGORIAN
METHOD:PUBLISH
X-WR-CALDESC:【ハンズオンセミナー】H2O.ai　Driverless AI 入門
 編
X-WR-CALNAME:【ハンズオンセミナー】H2O.ai　Driverless AI 入門
 編
X-WR-TIMEZONE:Asia/Tokyo
BEGIN:VTIMEZONE
TZID:Asia/Tokyo
BEGIN:STANDARD
DTSTART:19700101T000000
TZOFFSETFROM:+0900
TZOFFSETTO:+0900
TZNAME:JST
END:STANDARD
END:VTIMEZONE
BEGIN:VEVENT
UID:854237@techplay.jp
SUMMARY:【ハンズオンセミナー】H2O.ai　Driverless AI 入門編
DTSTART;TZID=Asia/Tokyo:20220408T150000
DTEND;TZID=Asia/Tokyo:20220408T170000
DTSTAMP:20260419T125127Z
CREATED:20220404T084150Z
DESCRIPTION:イベント詳細はこちら\nhttps://techplay.jp/event/85423
 7?utm_medium=referral&utm_source=ics&utm_campaign=ics\n\nH2O.ai （エイ
 チツーオードットエイアイ）Driverless AI　ハンズオンセ
 ミナー入門編\n●概要\n昨今、データサイエンスの領域
 では、ツールの発展によりデータサイエンティストの
 役割の変化や、機械学習モデルのビジネス実装サイク
 ルの高速化が進んでいます。\nAutoMLはこれまで熟練の
 データサイエンティストが職人技で作成していた予測
 モデルの作成を、高速化、非属人化します。\n世界基
 準のAutoMLであるH2O.aiのDriverless AIを用いると、高度な機
 械学習モデルがGUI操作で容易に構築できます。\nDriverle
 ss AIは機械学習コンペティションであるKaggleのトップG
 randmasterの技を、ビジネスにAIの民主化を促進すべくシ
 リコンバレーで開発された革新的なツールです。\n本
 セミナーでは、クラウドの学習環境を用い、データの
 準備、確認、予測モデルの作成と解釈、そして実装ま
 でをハンズオンで体験していただきます。\n\nご案内\n
 ・オンライン開催 Zoom利用・会社メールアドレスでの
 ご登録をお願いします。フリーアドレスでの参加はご
 遠慮願います。・事前登録制となります。開催前日 17:
 00までにお申し込み願います。\n開催前日に、ご登録メ
 ールアドレス宛、当日の環境案内についてご案内いた
 します。\nアジェンダ\n●機械学習とデータサイエンス
 のワークフロー●サンプルデータ●Driverless AIの基本的
 な使い方・モデル作成の流れ●Driverless AIの詳細・モデ
 ル学習の仕組み・その他の機能\n登壇者\n嶌田　有希　
 Yuki Shimada\nH2O.ai inc.Data Scientist\, Customer Success\n登壇者略
 歴\n\nData ScientistとしてH2O.ai Japan Officeにて技術業務に従
 事。顧客の機械学習活用支援をリード。\nデータサイ
 エンスの実務領域において12年以上の経験。主にコン
 サルティング、ソフトウェアビジネスの立場から、ク
 ライアントへのAI/アナリティクスの活用を長期に渡り
 支援。\nMaster's - Statistics. Georgia Institute of Technology. Bachel
 or's - Mathematics. Unoversity of Califolnia\, Los Angeles.\n\n\n\n\n参
 加対象\n・初めてDriverless AIを使ってみる方・普段使っ
 ていて復習を実施したい方\n参加費\n無料\nハッシュタ
 グ\n#techplayjp\n注意事項\n\nリクルーティング、勧誘など
 、採用目的でのイベント参加はお断りしております。\
 nキャンセル待ち・補欠・落選の方はご参加いただくこ
 とが出来ませんのでご了承ください。\n欠席される場
 合は、お手数ですが速やかにキャンセル処理をお願い
 致します。\n無断キャンセルや欠席が続く場合、次回
 以降の参加をお断りさせていただく場合がございます
 。\n
LOCATION:オンライン（Zoom）
URL:https://techplay.jp/event/854237?utm_medium=referral&utm_source=ics&utm
 _campaign=ics
END:VEVENT
END:VCALENDAR
