BEGIN:VCALENDAR
VERSION:2.0
PRODID:-//https://techplay.jp//JP
CALSCALE:GREGORIAN
METHOD:PUBLISH
X-WR-CALDESC:【4/20（水）開催】『事例でわかる！』製造業
 におけるWebデータ活用術
X-WR-CALNAME:【4/20（水）開催】『事例でわかる！』製造業
 におけるWebデータ活用術
X-WR-TIMEZONE:Asia/Tokyo
BEGIN:VTIMEZONE
TZID:Asia/Tokyo
BEGIN:STANDARD
DTSTART:19700101T000000
TZOFFSETFROM:+0900
TZOFFSETTO:+0900
TZNAME:JST
END:STANDARD
END:VTIMEZONE
BEGIN:VEVENT
UID:854313@techplay.jp
SUMMARY:【4/20（水）開催】『事例でわかる！』製造業にお
 けるWebデータ活用術
DTSTART;TZID=Asia/Tokyo:20220420T140000
DTEND;TZID=Asia/Tokyo:20220420T144000
DTSTAMP:20260422T071119Z
CREATED:20220405T013251Z
DESCRIPTION:イベント詳細はこちら\nhttps://techplay.jp/event/85431
 3?utm_medium=referral&utm_source=ics&utm_campaign=ics\n\n『事例でわ
 かる！』 －製造業におけるWebデータ活用術－\n～事例
 を交え市場調査・製品開発などに使われるWebデータ活
 用術をご紹介～\n概要\n昨今の急速なデジタル技術の高
 度化により、トレンドが移り変わるスピードが加速し
 、消費者の価値観が多様化に富んだ社会へと変化を遂
 げました。それにより同じものを大量生産するという
 これまでの常識も変化し、製造業は大きな転換期を迎
 えています。\n製造業界でもビッグデータを活用し、
 意思決定や課題解決までの時間短縮することは、生産
 性や品質の向上に繋げるために必要不可欠です。\nし
 かしながら、蓄積されたデータをビジネスの判断材料
 に使う動きが加速している中でも、データをビジネス
 上でどう活用すれば良いかわからないといった悩みを
 抱え、足踏みしている企業様も少なくありません。\n
 本セミナーでは、製造業界で実際に活用されている価
 格調査や競合調査などの事例をサンプルに、Webデータ
 を活用して市場動向をつかみ、課題を解決する方法を
 わかりやすくお伝えします。\n・日時：2022年4月20日（
 水）14:00～14:40・会場：オンライン・参加費：無料・事
 前登録フォーム：https://www.keywalker.co.jp/event/manufacturing-_
 webinar-20220420.html・備考：本セミナーは事前録画の映像
 を公開する形式です。\n本セミナーで学べるポイント\n
 \nWebデータで解決できる課題がわかる\nWebデータ活用に
 おける成功のポイントがわかる\nWebデータを活用する
 までのステップがわかる\n\n当日のアジェンダ\n\nWebデ
 ータ活用で解決できる課題とは？\n製造業界のWebデー
 タ収集/Webデータ活用の事例\n製造業界のWebデータ活用
 の成功ポイント\nWebデータ活用の成功ポイント/失敗例\
 nまとめ\n\n当日の資料イメージ\n\n登壇者\n株式会社キ
 ーウォーカー取締役執行役員データコンサルティング
 室長赤沼 隼\n登壇者略歴\n2004年から大手物流会社で通
 販事業者、メーカーへ物流ノウハウを活用したITソリ
 ューションを提供。その後、シンガポール、マレーシ
 アに駐在し海外における物流ネットワークの業務設計
 から構築に注力。2019年、キーウォーカー入社後データ
 ドリブンセールスを武器にAI、ビッグデータの活用支
 援を行う。
LOCATION:オンライン
URL:https://techplay.jp/event/854313?utm_medium=referral&utm_source=ics&utm
 _campaign=ics
END:VEVENT
END:VCALENDAR
