BEGIN:VCALENDAR
VERSION:2.0
PRODID:-//https://techplay.jp//JP
CALSCALE:GREGORIAN
METHOD:PUBLISH
X-WR-CALDESC:開発コスト削減・期間短縮！kintone構築を最速
 で進めるiPaaS活用
X-WR-CALNAME:開発コスト削減・期間短縮！kintone構築を最速
 で進めるiPaaS活用
X-WR-TIMEZONE:Asia/Tokyo
BEGIN:VTIMEZONE
TZID:Asia/Tokyo
BEGIN:STANDARD
DTSTART:19700101T000000
TZOFFSETFROM:+0900
TZOFFSETTO:+0900
TZNAME:JST
END:STANDARD
END:VTIMEZONE
BEGIN:VEVENT
UID:854460@techplay.jp
SUMMARY:開発コスト削減・期間短縮！kintone構築を最速で進
 めるiPaaS活用
DTSTART;TZID=Asia/Tokyo:20220420T170000
DTEND;TZID=Asia/Tokyo:20220420T173000
DTSTAMP:20260419T144349Z
CREATED:20220406T051414Z
DESCRIPTION:イベント詳細はこちら\nhttps://techplay.jp/event/85446
 0?utm_medium=referral&utm_source=ics&utm_campaign=ics\n\nkintone構築を
 最速で進めるiPaaS活用\nCRM・SFA・受注管理・請求管理等
 様々な役割を果たすkintone。用途が広いからこそ、他Saa
 Sやアプリ間の連携を行うことで更に効率的に活用する
 ことが可能です。・名刺管理システムからのkintoneレコ
 ード作成・メール添付ファイルのkintone自動取り込み・
 kintoneアプリ間での情報連携・チャットツールへのステ
 ータス変更通知　　　などSaaS間連携を実現するiPaaSを
 用いたkintone効率化の需要も高まっています。\n本セミ
 ナーでは、iPaaSとは何か？なぜ必要なのか？といった
 疑問の解消からお客様への提案ポイントまで、パート
 ナー企業様にお役立ていただきたい情報を紹介します
 。\n※kintone構築を支援されているパートナー企業様向
 けのセミナーです。※構築支援パートナー企業様以外
 の方も参加可能です。\n■プログラム\nkintone構築にお
 いてiPaaSを活用するメリットや「BizteX Connect」のデモ操
 作、活用事例を紹介します。\n・kintoneにおける“連携
 ”需要と課題・iPaaS「BizteX Connect」とは・基本機能と操
 作デモ・kintone連携事例・パートナー制度の紹介　等\n
 ※講演内容は変更となる場合がございます。\n▶iPaaS「
 BizteX Connect」とは\nBizteX Connect連携SaaS例\n■対象者\nお
 客様からの下記お悩み・ご要望相談を受けていらっし
 ゃる方にお勧めです。\n・kintoneと各種SaaS連携を進めた
 い・kintoneに他ツールからの情報を手動で転記している
 ・kintone等のシステム管理を担当しており効率的な運用
 方法を知りたい・kintoneと連携できるクラウドサービス
 や連携事例を知りたい・社内システム運用の効率化を
 担当されている・属人化しないようにkintoneを構築した
 い\n■日程\n2022年4月20日水曜日17：00～17：30\n■ご参加
 方法\nzoomオンライン開催（PC、スマホ、タブレット）\n
 ※お申し込み後にご視聴URLをお送りいたします。\n■
 ご確認事項\n・お申込みいただいた方は、プライバシ
 ーポリシーに同意いただいたものとします。BizteX株式
 会社\n・各社サービスと類似、または競合するサービ
 スの運営企業様のご参加はご遠慮いただいております
 。あらかじめご了承ください。
LOCATION:オンライン
URL:https://techplay.jp/event/854460?utm_medium=referral&utm_source=ics&utm
 _campaign=ics
END:VEVENT
END:VCALENDAR
