BEGIN:VCALENDAR
VERSION:2.0
PRODID:-//https://techplay.jp//JP
CALSCALE:GREGORIAN
METHOD:PUBLISH
X-WR-CALDESC:【Stripe Japan & Engineer Cafe 主催】Next.jsではじめ
 るシンプルなECサイト開発ワークショップ
X-WR-CALNAME:【Stripe Japan & Engineer Cafe 主催】Next.jsではじめ
 るシンプルなECサイト開発ワークショップ
X-WR-TIMEZONE:Asia/Tokyo
BEGIN:VTIMEZONE
TZID:Asia/Tokyo
BEGIN:STANDARD
DTSTART:19700101T000000
TZOFFSETFROM:+0900
TZOFFSETTO:+0900
TZNAME:JST
END:STANDARD
END:VTIMEZONE
BEGIN:VEVENT
UID:854721@techplay.jp
SUMMARY:【Stripe Japan & Engineer Cafe 主催】Next.jsではじめるシ
 ンプルなECサイト開発ワークショップ
DTSTART;TZID=Asia/Tokyo:20220422T130000
DTEND;TZID=Asia/Tokyo:20220422T170000
DTSTAMP:20260422T022725Z
CREATED:20220408T041918Z
DESCRIPTION:イベント詳細はこちら\nhttps://techplay.jp/event/85472
 1?utm_medium=referral&utm_source=ics&utm_campaign=ics\n\n【Stripe Japan 
 & Engineer Cafe 主催】Next.jsではじめるシンプルなECサイト
 開発ワークショップ概要\nNext.jsを利用することで、よ
 り多様なwebサイト・アプリケーションを開発できるよ
 うになります。今回のワークショップでは、Next.js / Ver
 celそしてStripeを利用した、シンプルなECサイトをフル
 スクラッチする方法を体験できます。\n日時：4/22 (金) 
 1:00PM 〜 5:00PM料金 : 無料場所 : Engineer Cafe 赤煉瓦文化館
 （福岡市中央区天神1丁目15番30号） ＆ Zoomによるオン
 ライン配信\n【会場参加の方】- 会場参加は席に限りが
 ありますので、お早めにお申し込みください。\n来場
 場所：Engineer Cafe 赤煉瓦文化館（福岡市中央区天神1丁
 目15番30号）\n【オンライン参加の方】- オンライン参
 加を希望される方は、こちらからお申し込みください
 。\n■ アジェンダ\n\nNext.jsを利用したアプリのセット
 アップ\nStripeを利用した商品登録と決済ページの設定\n
 Next.jsからStripeの商品情報を読み込んで表示する\nuse-sho
 pping-cartを利用したカート機能の実装\n決済ページの実
 装と、決済成功後の処理を学ぶ\n\n※1時間ごとに5-10分
 程度の休憩を挟みます\n■ 参加費　無料\n■ 必要な物
 以下の条件を満たすパソコンをお持ちであること・Node
 .js verion12以上がインストールされている・Visual Studio Co
 deなどのIDEがインストールされている・ターミナルを
 利用したCLIコマンドの実行ができる・Wi-Fiに接続でき
 、npm installでファイルのダウンロードができる\n■ ス
 ピーカー岡本 秀高Digitalcubeにて5年間JavaScript / TypeScript
 開発者として勤務。StripeのSaaSアプリケーション組み込
 みやStripe / WordPress / AWS / Alexaコミュニティでの活動な
 どを経験し、2021年11月にStripeにDeveloper Advocateとして入
 社。日本で新しくリリースされた機能・製品のサンプ
 ルアプリやコードの紹介や、さまざまな開発者コミュ
 ニティでの登壇やワークショップ開催などを担当。\n
 ■ こんな方におすすめ・基礎的なJavaScript / Reactが理解
 でき、レベルアップしたい方・React / Next.jsでのアプリ
 ・サイト開発に興味がある方・Stripeを利用した簡単なE
 Cサイトの実装を始めたい方・StripeとNext.jsを利用した
 アプリ・サイト開発を検討している方・なるべく少な
 いコードで、決済機能を導入したい方\n■ Stripe につい
 てスタートアップから大規模企業まで、あらゆる規模
 の多数の企業が Stripe ソフトウェアと API を使用して支
 払いを受け付け、入金し、オンラインでビジネスを管
 理しています。公式サイト ▶︎ https://stripe.com/jp\n■ E
 ngineer CafeについてEngineer Cafeは、「エンジニアがより先
 鋭的なチャレンジやスキルの幅を広げることができる
 ように」という想いから、官民一体で生まれたエンジ
 ニアのための施設です。公式サイト ▶︎ https://engineer
 cafe.jp/ja\n注意事項\n\nリクルーティング、勧誘など、採
 用目的でのイベント参加はお断りしております。\nキ
 ャンセル待ち・補欠・落選の方はご参加いただくこと
 が出来ませんのでご了承ください。\n欠席される場合
 は、お手数ですが速やかにキャンセル処理をお願い致
 します。\n無断キャンセルや欠席が続く場合、次回以
 降の参加をお断りさせていただく場合がございます。\
 n
LOCATION:オンライン
URL:https://techplay.jp/event/854721?utm_medium=referral&utm_source=ics&utm
 _campaign=ics
END:VEVENT
END:VCALENDAR
