BEGIN:VCALENDAR
VERSION:2.0
PRODID:-//https://techplay.jp//JP
CALSCALE:GREGORIAN
METHOD:PUBLISH
X-WR-CALDESC:【Meetup＠渋谷】小売×DXを考える、ニトリの店
 舗バックルームツアー＃１
X-WR-CALNAME:【Meetup＠渋谷】小売×DXを考える、ニトリの店
 舗バックルームツアー＃１
X-WR-TIMEZONE:Asia/Tokyo
BEGIN:VTIMEZONE
TZID:Asia/Tokyo
BEGIN:STANDARD
DTSTART:19700101T000000
TZOFFSETFROM:+0900
TZOFFSETTO:+0900
TZNAME:JST
END:STANDARD
END:VTIMEZONE
BEGIN:VEVENT
UID:854727@techplay.jp
SUMMARY:【Meetup＠渋谷】小売×DXを考える、ニトリの店舗バ
 ックルームツアー＃１
DTSTART;TZID=Asia/Tokyo:20220421T080000
DTEND;TZID=Asia/Tokyo:20220421T090000
DTSTAMP:20260420T040822Z
CREATED:20220408T054408Z
DESCRIPTION:イベント詳細はこちら\nhttps://techplay.jp/event/85472
 7?utm_medium=referral&utm_source=ics&utm_campaign=ics\n\n【朝活･Meet
 up】小売×DXを考えるニトリのバックルームツアー#1\n概
 要\n35期連続増収増益を達成したニトリグループ。それ
 を支えてきたのは、自社のITシステムです。\n今回はユ
 ーザー数1300万人の「ニトリアプリ」の開発責任者と、
 実際に店舗のバックルームを見学しながら情報交換会
 を予定しています。途中入場・途中退出可能なイベン
 トとなっておりますので、ぜひお気軽にご参加くださ
 い！\n■タイムスケジュール※お申込みいただいた方
 へ、個別に集合場所等の詳細のご案内をいたします。\
 n\n\n\n時間\n内容\n\n\n\n\n7:50〜\n受付開始\n\n\n8:00～8:05\n
 オープニング\n\n\n8:05〜8:25\n店舗バックルームツアー\n\
 n\n8:25~8:55\n情報交換会\n\n\n8:55～9:00\nクロージング\n\n\n\
 n参加費\n無料（軽食・コーヒーをご用意いたします）\
 n注意事項\n\n欠席される場合は、お手数ですが速やか
 にキャンセル処理をお願い致します。\n
LOCATION:ニトリ渋谷公園通り店
URL:https://techplay.jp/event/854727?utm_medium=referral&utm_source=ics&utm
 _campaign=ics
END:VEVENT
END:VCALENDAR
