BEGIN:VCALENDAR
VERSION:2.0
PRODID:-//https://techplay.jp//JP
CALSCALE:GREGORIAN
METHOD:PUBLISH
X-WR-CALDESC:【受付中】MK360∔(360度プロジェクター)のオン&
 オフライン製品発表会（無料）
X-WR-CALNAME:【受付中】MK360∔(360度プロジェクター)のオン&
 オフライン製品発表会（無料）
X-WR-TIMEZONE:Asia/Tokyo
BEGIN:VTIMEZONE
TZID:Asia/Tokyo
BEGIN:STANDARD
DTSTART:19700101T000000
TZOFFSETFROM:+0900
TZOFFSETTO:+0900
TZNAME:JST
END:STANDARD
END:VTIMEZONE
BEGIN:VEVENT
UID:855376@techplay.jp
SUMMARY:【受付中】MK360∔(360度プロジェクター)のオン&オ
 フライン製品発表会（無料）
DTSTART;TZID=Asia/Tokyo:20220520T150000
DTEND;TZID=Asia/Tokyo:20220520T190000
DTSTAMP:20260420T004126Z
CREATED:20220414T053710Z
DESCRIPTION:イベント詳細はこちら\nhttps://techplay.jp/event/85537
 6?utm_medium=referral&utm_source=ics&utm_campaign=ics\n\n世界初 360°
 プロジェクター現地体験会およびオンライン製品説明
 会\n～八丁堀ショールームオープン記念～\nありがとう
 ございます。本イベントは無事開催されました。Youtube
 リンクMK360＋& Labpano製品説明会\n******************************
 **********************************\n5月20日(金)　15：00－18：30\n
 　　　　　　　　　　　　　　　　　　↑ PVを再生す
 る\n概要\n本イベントは、二部構成になっています。\n
 一部は、八丁堀ショールーム( 360° Real HATCHOBORI roo8) で
 おこないます。　　　　東京都中央区新富1-12-4 シーラ
 カンスビル8階　　　　※入れ替え制　　　　※スペイ
 ンバルセロナとライブ中継します。\n二部は、MK360＋(36
 0度プロジェクター) とLabpano(8Kカメラ)の製品説明会で
 す。　　　　※YouTubeライブ配信\n　　　　　　　　　
 　　　　　　　↑ PVを再生する\n\nホームページ》■MK3
 60＋(360度プロジェクター) ：https://livingcg.jp/mk360■Labpano
 (8Kカメラ)：https://livingcg.jp/labpano\n第一部　八丁堀ショ
 ールーム見学会（要予約、完全入替制）\n\n\n\n時間\n内
 容\n\n\n\n\n前半\n\n\n\n15:00〜15:45\n八丁堀ショールーム見
 学会※15：20～約10分間　スペインバルセロナ　サクラ
 ダファミリア大聖堂　生ライブ中継\n\n\n後半\n\n\n\n15:45
 〜16:30\n八丁堀ショールーム見学会※16：10～約10分間　
 スペインバルセロナ　サクラダファミリア大聖堂　生
 ライブ中継\n\n\n\n第二部　MK360＋& Pilot One 製品説明会（
 オンラインイベント）\nMK360⁺ 製品説明会\n\n\n\n時間\n
 内容\n\n\n\n\n17:00〜17:05\nはじめに　LivingCG　関より\n\n\n1
 7:05〜17:30\nBroomx社　Ignasi氏よりテーマ：「MK360⁺　360パ
 ノラマ動画とは」\n\n\n17:30〜17:40\n製品概要　LivingCG 関
 より\n\n\n17:40〜17:45\n質疑応答\n\n\n\n\n\n\n\n\n\n\n\nPilot One 
 8K 360°カメラ製品説明会\n\n\n\n時間\n内容\n\n\n\n\n17:45〜1
 7:50\nはじめに　LivingCG社　関より\n\n\n17:50〜18:15\nLabpano
 社　Ned氏よりテーマ：「Labpano８Kカメラの事例紹介」\n
 \n\n18:15〜18:25\nPilot One 製品概要　LivingCG 関より\n\n\n18:25
 〜18:30\n質疑応答\n\n\n\n※ 当日予告なく時間配分・内容
 が変更になる可能性がございます。\n登壇者\n■　BROOMX
 社　Ignasi氏\n■　Labpano社　Ned氏\n■　有限会社リビン
 グCG　代表取締役　関　良平\nご参加をお待ちしており
 ます。\n\nどのような方にお勧めか\nMK360を室内で投影
 すると、ゴーグルなど使用せずに簡単に360°パノラマ
 画像が視聴できるようになりました。MK360は、お手持
 ちのVR画像を裸眼で楽しむことが可能です。\n\n参加対
 象・空きスペースの有効活用をお考えの方・VRに不快
 を感じられる方・VR投影機材のご購入をご検討の方・
 室内でパノラマ画像を投影されたい方・建設設計でバ
 ーチャルシミュレーションをされたい方・新しいマル
 チメディアデバイスをご検討の娯楽施設の運営者・外
 出せずにバーチャル旅行を迫力のパノラマ画像で楽し
 まれたい方\n\nウェブサイト\n有限会社リビングCG　MK360
 ⁺Labpano\n参加費\n無料\nハッシュタグ\n#techplayjp\n注意事
 項\n\nリクルーティング、勧誘など、採用目的でのイベ
 ント参加はお断りしております。\nキャンセル待ち・
 補欠・落選の方はご参加いただくことが出来ませんの
 でご了承ください。\n欠席される場合は、お手数です
 が速やかにキャンセル処理をお願い致します。\n無断
 キャンセルや欠席が続く場合、次回以降の参加をお断
 りさせていただく場合がございます。\n
LOCATION:オンライン
URL:https://techplay.jp/event/855376?utm_medium=referral&utm_source=ics&utm
 _campaign=ics
END:VEVENT
END:VCALENDAR
