BEGIN:VCALENDAR
VERSION:2.0
PRODID:-//https://techplay.jp//JP
CALSCALE:GREGORIAN
METHOD:PUBLISH
X-WR-CALDESC:”見込み客を動かす”自社サイト活用のポイ
 ント！ 成果につながるサイト運用とコンテンツ設計
X-WR-CALNAME:”見込み客を動かす”自社サイト活用のポイ
 ント！ 成果につながるサイト運用とコンテンツ設計
X-WR-TIMEZONE:Asia/Tokyo
BEGIN:VTIMEZONE
TZID:Asia/Tokyo
BEGIN:STANDARD
DTSTART:19700101T000000
TZOFFSETFROM:+0900
TZOFFSETTO:+0900
TZNAME:JST
END:STANDARD
END:VTIMEZONE
BEGIN:VEVENT
UID:855486@techplay.jp
SUMMARY:”見込み客を動かす”自社サイト活用のポイント
 ！ 成果につながるサイト運用とコンテンツ設計
DTSTART;TZID=Asia/Tokyo:20220421T100000
DTEND;TZID=Asia/Tokyo:20220421T112000
DTSTAMP:20260420T152929Z
CREATED:20220415T005427Z
DESCRIPTION:イベント詳細はこちら\nhttps://techplay.jp/event/85548
 6?utm_medium=referral&utm_source=ics&utm_campaign=ics\n\n”見込み客
 を動かす”自社サイト活用のポイント！成果につなが
 るサイト運用とコンテンツ設計\nこんな方におすすめ\n
 \n\n施策をオンラインにシフトし、自社サイトをより活
 用していきたい\n\n\nサイトからの新規顧客開拓・問い
 合わせ獲得をしていきたい\n\n\nサイトの更新性を高め
 最大限に活用していきたい\n\n\n\n概要\nオンライン化が
 進む今、自社サイトはより重要なマーケティングツー
 ルとなっています。しかし、いくら立派なサイトを作
 っても、「運用しづらい」「更新できていない」「デ
 ザインはいいけれどPV数は伸びない」「問い合わせが
 来ない」といった状態では意味がないもの。今回のセ
 ミナーでは、自社サイトを最適化するためのサイト基
 盤と、サイトに不可欠な内容のコンテンツについて徹
 底解説します。Webサイトをフル活用して、自社のマー
 ケティングをもう一歩先に進めたい方はぜひご参加く
 ださい！\nタイムスケジュール\n\n\n\n時間\n内容\n\n\n\n\n
 9:50〜\n接続可能\n\n\n10:00～10:05\nオープニング\n\n\n10:05
 ～10:35\nインフォネット「オンライン時代のWEBサイト活
 用術！～スピーディな情報発信の決め手は”CMS"～」\n\
 n\n10:35～11:05\nイノーバ「B2Bの商談創出に特化したサイ
 ト内コンテンツと設計のポイント」\n\n\n11:05～11:20\n質
 疑応答\n\n\n\n※質疑応答のお時間は前後する可能性が
 ございます\n登壇者\n\n佐藤 絵理菜\n株式会社インフォ
 ネット　Solution Business Division プランナー\n事業会社に
 て広報や営業事務として勤務したのち、2021年にインフ
 ォネットに入社。WEBプランナーとして、受注前のコン
 ペ案件の企画・提案に関わる業務を担当。お客様サイ
 トの課題を分析し、お客様の成果創出につながる戦略
 を立案しています。\n\n\n吉野 珠子\n株式会社イノーバ
 　マーテック部マーケティングG　リーダー\n2019年にイ
 ノーバに新卒入社。インサイドセールスを経て、自社
 マーケティング専任担当に。\n自社オウンドメディア
 のSEOディレクション、ホワイトペーパー制作、ウェビ
 ナー戦略・企画運営等の実務を経て、現在はメンバー
 を取りまとめるリーダーの役割を務めています。\n\n参
 加対象\n\n企業のマーケティングご担当者・責任者の方
 、営業ご担当者・責任者の方、経営戦略の方\n\n1社複
 数名でご参加いただいても問題ございません。※競合
 にあたる企業の方の申し込みはお断りをさせて頂いて
 おります。ご了承ください。\n参加費\n無料\nハッシュ
 タグ\n#techplayjp
LOCATION:オンライン（Zoom）
URL:https://techplay.jp/event/855486?utm_medium=referral&utm_source=ics&utm
 _campaign=ics
END:VEVENT
END:VCALENDAR
