BEGIN:VCALENDAR
VERSION:2.0
PRODID:-//https://techplay.jp//JP
CALSCALE:GREGORIAN
METHOD:PUBLISH
X-WR-CALDESC:2022年4月最新版！Googleアルゴリズムアップデー
 ト～最新データから見る変動と対策方法～
X-WR-CALNAME:2022年4月最新版！Googleアルゴリズムアップデー
 ト～最新データから見る変動と対策方法～
X-WR-TIMEZONE:Asia/Tokyo
BEGIN:VTIMEZONE
TZID:Asia/Tokyo
BEGIN:STANDARD
DTSTART:19700101T000000
TZOFFSETFROM:+0900
TZOFFSETTO:+0900
TZNAME:JST
END:STANDARD
END:VTIMEZONE
BEGIN:VEVENT
UID:855520@techplay.jp
SUMMARY:2022年4月最新版！Googleアルゴリズムアップデート
 ～最新データから見る変動と対策方法～
DTSTART;TZID=Asia/Tokyo:20220510T120000
DTEND;TZID=Asia/Tokyo:20220510T130000
DTSTAMP:20260422T013831Z
CREATED:20220415T060042Z
DESCRIPTION:イベント詳細はこちら\nhttps://techplay.jp/event/85552
 0?utm_medium=referral&utm_source=ics&utm_campaign=ics\n\n2022年4月最
 新版！Googleアルゴリズムアップデート～最新データか
 ら見る変動と対策方法～\n2022年5月10日（火）12:00～13:00
 \n自社で開発・提供しているWebマーケティングの調査
 ・分析ツール「Keywordmap（キーワードマップ）」を活用
 し、Googleのアルゴリズムアップデートについて調査し
 た「2022年4月版Googleアルゴリズムアップデートレポー
 ト」を、現役コンサルタントが解説いたします。\n▼
 こんな方にオススメです！\n・Googleアルゴリズムアッ
 プデートの影響を受けたWebサイト担当者様・今後Webメ
 ディア運営を検討しているマーケティング担当者様・
 事業会社でWebメディアを運営されているご担当者様・S
 ERPsの変化をいち早く把握したいご担当者様\n▼ウェビ
 ナー内容\n・SERPs変動の概要・SERPs変動分析・Appendix・Go
 ogle検索機能・仕様変更・推奨アクション\n▼開催概要\
 n・開催日時：2022年5月10日（火）12:00～13:00・参加費：
 無料・開催方法：ウェビナー　※Zoomを利用します・参
 加方法：お申込後に、別途メールにてご案内致します\
 n▼登壇者\n尾崎 篤志\n株式会社CINCアナリティクス事業
 本部 コンサルティンググループ チーフ\n以上となりま
 す。皆様のご応募、お待ちしております！\n\n※企業向
 けのセミナーでございますので、フリーメールでの登
 録はご遠慮くださいますようお願いいたします。※な
 お、競合他社/同業者/企業にご所属でない個人の方か
 らのお申込みなど、 当社の判断によりセミナー参加を
 お断りする場合があります。予めご了承ください。※
 終了時刻は前後する可能性がございます。※予告なく
 登壇者・内容の変更がある場合がございます。
LOCATION:オンラインセミナー
URL:https://techplay.jp/event/855520?utm_medium=referral&utm_source=ics&utm
 _campaign=ics
END:VEVENT
END:VCALENDAR
