BEGIN:VCALENDAR
VERSION:2.0
PRODID:-//https://techplay.jp//JP
CALSCALE:GREGORIAN
METHOD:PUBLISH
X-WR-CALDESC:あなたにぴったりのテスト自動化ツール診断
 しませんか？
X-WR-CALNAME:あなたにぴったりのテスト自動化ツール診断
 しませんか？
X-WR-TIMEZONE:Asia/Tokyo
BEGIN:VTIMEZONE
TZID:Asia/Tokyo
BEGIN:STANDARD
DTSTART:19700101T000000
TZOFFSETFROM:+0900
TZOFFSETTO:+0900
TZNAME:JST
END:STANDARD
END:VTIMEZONE
BEGIN:VEVENT
UID:855872@techplay.jp
SUMMARY:あなたにぴったりのテスト自動化ツール診断しま
 せんか？
DTSTART;TZID=Asia/Tokyo:20220513T160000
DTEND;TZID=Asia/Tokyo:20220513T170000
DTSTAMP:20260421T001225Z
CREATED:20220419T055513Z
DESCRIPTION:イベント詳細はこちら\nhttps://techplay.jp/event/85587
 2?utm_medium=referral&utm_source=ics&utm_campaign=ics\n\n概要\n「テ
 スト自動化」というキーワードは世の中にも浸透しつ
 つありますが、それに伴いテスト自動化ツールの種類
 は増え続けています。UIテスト/E2Eテスト自動化の実現
 にあたって、ツールは欠かせない要素であるからこそ
 環境や用途、実現したい内容に合ったツールを選定す
 ることは非常に重要なポイントです。現在検討してい
 る、あるいは利用しているテスト自動化ツールが、あ
 なたにぴったりなツール か診断しませんか？\n本セミ
 ナーでは、前半ではUIテスト/E2Eテスト自動化ツールの
 選定ポイントを診断形式でご説明します。後半では、
 弊社取り扱い製品である UIテスト自動化ツール Ranorex 
 のデモで、自動化の例をご紹介します。\nテスト自動
 化を検討中の方、ツールを選定中の方、今使用してい
 るツールの乗り換えを検討中の方などテストツールの
 選び方にご興味のある方は、ぜひ本セミナーにご参加
 ください。\n本セミナーは、Zoomを利用したWEBセミナー
 です。お申込みいただきますと「参加者への情報」にU
 RLなどが表示されます。\nタイムテーブル\n\n\n\n時間\n
 内容\n\n\n\n\n16:00～16:20\nあなたにぴったりのテスト自動
 化ツールとは\n\n\n16:20～16:50\nUIテスト自動化ツール「Ra
 norex」 紹介とデモ\n\n\n16:50～17:00\n質疑応答\n\n\n\n次の
 ような方におすすめです\n\nこれからテスト自動化に取
 り組もうとしている方\nテスト自動化ツールの選定を
 行う予定の方\nテスト自動化ツールの変更を検討中の
 方\nテストシナリオの管理・メンテナンス・運用に課
 題を感じている方\n\n参加費\n無料\nお問い合わせ\nテク
 マトリックス株式会社　ソフトウェアエンジニアリン
 グ事業部
LOCATION:オンライン(Zoom)
URL:https://techplay.jp/event/855872?utm_medium=referral&utm_source=ics&utm
 _campaign=ics
END:VEVENT
END:VCALENDAR
