BEGIN:VCALENDAR
VERSION:2.0
PRODID:-//https://techplay.jp//JP
CALSCALE:GREGORIAN
METHOD:PUBLISH
X-WR-CALDESC:MITRE Engenuity最新レポートを解説
X-WR-CALNAME:MITRE Engenuity最新レポートを解説
X-WR-TIMEZONE:Asia/Tokyo
BEGIN:VTIMEZONE
TZID:Asia/Tokyo
BEGIN:STANDARD
DTSTART:19700101T000000
TZOFFSETFROM:+0900
TZOFFSETTO:+0900
TZNAME:JST
END:STANDARD
END:VTIMEZONE
BEGIN:VEVENT
UID:856069@techplay.jp
SUMMARY:MITRE Engenuity最新レポートを解説
DTSTART;TZID=Asia/Tokyo:20220519T130000
DTEND;TZID=Asia/Tokyo:20220519T140000
DTSTAMP:20260420T110058Z
CREATED:20220420T065620Z
DESCRIPTION:イベント詳細はこちら\nhttps://techplay.jp/event/85606
 9?utm_medium=referral&utm_source=ics&utm_campaign=ics\n\nMITRE Engenuity
 最新レポートを解説\n概要\nサイバーセキュリティベン
 ダー各社が参加した攻撃シミュレーションテストであ
 るMITRE　Enenuity 2022の第4ラウンドでは、Wizard SpiderとSandw
 ormが取り上げられました。本ウェビナーでは、今回のM
 ITRE Engenuity 2022のテストの概要と結果について解説しま
 す。\n本ウェビナーのポイント：\n・最新のMITRE Engenuity
  テストの攻撃シナリオ・SentinelOneと参加各社の評価結
 果・SentinelOneによる特許取得済みのAIを活用した自律的
 なエンドポイント保護ソリューションが「ワンクリッ
 ク」で実現する修復、ロールバック機能\nスピーカー\n
 SentinelOne Japan株式会社シニアセールスエンジニア富田 
 隆一\n参加費\n無料\nハッシュタグ\n#techplayjp\n注意事項\
 n\nリクルーティング、勧誘など、採用目的でのイベン
 ト参加はお断りしております。\nキャンセル待ち・補
 欠・落選の方はご参加いただくことが出来ませんので
 ご了承ください。\n欠席される場合は、お手数ですが
 速やかにキャンセル処理をお願い致します。\n無断キ
 ャンセルや欠席が続く場合、次回以降の参加をお断り
 させていただく場合がございます。\n
LOCATION:オンライン
URL:https://techplay.jp/event/856069?utm_medium=referral&utm_source=ics&utm
 _campaign=ics
END:VEVENT
END:VCALENDAR
