BEGIN:VCALENDAR
VERSION:2.0
PRODID:-//https://techplay.jp//JP
CALSCALE:GREGORIAN
METHOD:PUBLISH
X-WR-CALDESC:5/18(水）AWS初心者向け クラウド基礎知識ウェ
 ビナー
X-WR-CALNAME:5/18(水）AWS初心者向け クラウド基礎知識ウェ
 ビナー
X-WR-TIMEZONE:Asia/Tokyo
BEGIN:VTIMEZONE
TZID:Asia/Tokyo
BEGIN:STANDARD
DTSTART:19700101T000000
TZOFFSETFROM:+0900
TZOFFSETTO:+0900
TZNAME:JST
END:STANDARD
END:VTIMEZONE
BEGIN:VEVENT
UID:856282@techplay.jp
SUMMARY:5/18(水）AWS初心者向け クラウド基礎知識ウェビナ
 ー
DTSTART;TZID=Asia/Tokyo:20220518T150000
DTEND;TZID=Asia/Tokyo:20220518T161000
DTSTAMP:20260423T080637Z
CREATED:20220422T021435Z
DESCRIPTION:イベント詳細はこちら\nhttps://techplay.jp/event/85628
 2?utm_medium=referral&utm_source=ics&utm_campaign=ics\n\n5/18(水）AWS
 初心者向け クラウド基礎知識ウェビナー\n概要\n株式
 会社TOKAIコミュニケーションズは、2022年5月18日(水)にAW
 S初心者の方向け クラウド基礎知識ウェビナーを開催
 いたします。\n企業のクラウド利用が急速に進んでい
 ます。デジタルトランスフォーメーション（DX）を推
 進する企業が増え、クラウド導入は業務効率化のキー
 ポイントになっています。\nしかしIT投資を検討する立
 場・決定する立場の方の中には、「そもそもクラウド
 の基礎知識が足りないため、社内導入を進められない
 」とお考えの方も多いのではないでしょうか？\n今回
 のセミナーでは、企業がクラウドを導入するメリット
 ・クラウドの基本的な知識を初心者の方でも分かる難
 易度でご紹介します。\nまた当日はアマゾン ウェブ サ
 ービス ジャパン様にご登壇頂き、「なぜクラウドが企
 業の成長に必要なのか」を分かりやすくご説明いただ
 きます。\nクラウドを導入検討中で、基礎的な知識を
 知りたい方へオススメのセミナーです。\n<こんな方に
 オススメです>● クラウドの基礎知識を知りたい　・
 導入決定者なのに、クラウドを理解できていない…。
 　・クラウドの利用メリットを知りたい。\n● AWSにつ
 いて知りたい　・「AWS」って最近よく聞くけど、なん
 だか難しそう…。　・なぜAWSが多くの企業で利用され
 ているのか知りたい。\n皆様のご参加を心よりお待ち
 しております。\nタイムスケジュール\n\n\n\n時間\n内容\
 n\n\n\n\n14:45-15:00\n受付開始\n\n\n15:00-15:05\n講演のご案内\n
 \n\n15:05-15:25\nなぜクラウド利用が企業成長に繋がるの
 か？（仮）アマゾン ウェブ サービス ジャパン合同会
 社\n\n\n15:25-15:55\nいまからでも大丈夫！AWS導入前におさ
 えておきたいクラウドのキーポイントとは？（仮）株
 式会社TOKAIコミュニケーションズ\n\n\n15:55-16:05\n質疑応
 答講演者がライブで質問を回答します。\n\n\n16:05-16:10\n
 講演終了のご案内\n\n\n\n※講演タイトルは変更になる
 可能性があります。※個人およびフリーランスの方、
 弊社が競合と判断した企業様からのお申し込みはお断
 りをさせていただく場合がございます。あらかじめご
 了承ください。\n参加費\n無料\n参加方法\n申込ページ
 （https://onl.bz/y8DHHTN)からお申込みをお願いします。※
 お申込み期限　5月18日(水)14:30までとなります。\nZoomウ
 ェビナーを使用し、ウェビナーを開催します。事前にZ
 oomウェビナーにアクセスできるブラウザ環境（Google Chr
 ome、Mozilla Firefox）を準備いただき、環境チェックをお
 願いします。（環境チェックURL　 https://zoom.us/test　）\
 n共催\n株式会社TOKAIコミュニケーションズアマゾン ウ
 ェブ サービス ジャパン合同会社\n注意事項\n\nリクル
 ーティング、勧誘など、採用目的でのイベント参加は
 お断りしております。\nキャンセル待ち・補欠・落選
 の方はご参加いただくことが出来ませんのでご了承く
 ださい。\n欠席される場合は、お手数ですが速やかに
 キャンセル処理をお願い致します。\n無断キャンセル
 や欠席が続く場合、次回以降の参加をお断りさせてい
 ただく場合がございます。\n申込時アンケートを正確
 に回答頂けていない場合、個別にご連絡させていただ
 く場合がございます。\n
LOCATION:オンライン
URL:https://techplay.jp/event/856282?utm_medium=referral&utm_source=ics&utm
 _campaign=ics
END:VEVENT
END:VCALENDAR
