BEGIN:VCALENDAR
VERSION:2.0
PRODID:-//https://techplay.jp//JP
CALSCALE:GREGORIAN
METHOD:PUBLISH
X-WR-CALDESC:求人サイトの記事コンテンツによるSEO対策！
 必要な理由からポイントまで解説
X-WR-CALNAME:求人サイトの記事コンテンツによるSEO対策！
 必要な理由からポイントまで解説
X-WR-TIMEZONE:Asia/Tokyo
BEGIN:VTIMEZONE
TZID:Asia/Tokyo
BEGIN:STANDARD
DTSTART:19700101T000000
TZOFFSETFROM:+0900
TZOFFSETTO:+0900
TZNAME:JST
END:STANDARD
END:VTIMEZONE
BEGIN:VEVENT
UID:856333@techplay.jp
SUMMARY:求人サイトの記事コンテンツによるSEO対策！必要
 な理由からポイントまで解説
DTSTART;TZID=Asia/Tokyo:20220519T140000
DTEND;TZID=Asia/Tokyo:20220519T143000
DTSTAMP:20260420T200003Z
CREATED:20220422T082753Z
DESCRIPTION:イベント詳細はこちら\nhttps://techplay.jp/event/85633
 3?utm_medium=referral&utm_source=ics&utm_campaign=ics\n\n\n求人サイ
 トの記事コンテンツによるSEO対策！必要な理由からポ
 イントまで解説\n\n概要\n求人サイトの記事コンテンツ
 によるSEOについて解説するセミナーです。\n熾烈なSEO
 対策競争が繰り広げられる求人サイトですが、その中
 でも成果を上げるサイトは存在します。\n「少しでも
 成果を上げ、目標達成に近づきたい…」そんな方には
 記事コンテンツによるSEO対策をおすすめしています。\
 n主要なビッグワードでの上位表示が難しい場合でも、
 求職者の膨大な検索ワードでなら容易に1位を取ること
 も夢ではありません。\n今回は大手人材会社での実績
 多数の株式会社ipeが、現場の経験を交えて実践的なコ
 ンテンツSEO対策をご紹介しますので、ぜひ一度ご参加
 ください。\n株式会社ipeについて\n大規模サイトのSEOコ
 ンサルティングを中心に活動し、最先端のSEO技術を提
 供するをテーマに掲げサービス提供しています。\nタ
 イムスケジュール\n\n\n\n時間\n内容\n\n\n\n\n13:45〜\n受付
 開始\n\n\n14:00〜14:30\n求人サイトで記事コンテンツが必
 要な理由・取り組むメリット\n\n\n\nSEOを意識した記事
 コンテンツ作成のポイント\n\n\n\n記事コンテンツの取
 り組み事例\n\n\n\nipeの事例\n\n\n\nまとめ\n\n\n\n質疑応答\
 n\n\n\n※ 当日予告なく時間配分・内容が変更になる可
 能性がございます。\n登壇者\n\n梅津　孝介\n株式会社ip
 e セールスチーム\n法政大学理工学部卒。在学時はテキ
 ストマイニングを用いて企業におけるSNSの活用方法を
 研究していた。\n大学2年次からは外資系コンサルティ
 ングファームにインターンとして入社し、営業支援を
 行う。\n株式会社ipeへジョイン後はフィールドセール
 スを中心に活動を続けている。\n在学中から培ったデ
 ジタルマーケティング領域の知見は深く、そのレベル
 は社内でも類をみないほど。\n多くのクライアントへ
 の提案にその知見は活かされている。\n\n\nこんな方に
 おすすめ\n\n\n求人サイトでWeb集客を強化したい\n一覧
 ページが上がらないので、何か別の施策を試したい\n
 安定してセッションとCVを得ていきたい\n\n参加費\n無
 料\nハッシュタグ\n#techplayjp\n注意事項\n\nリクルーティ
 ング、勧誘など、採用目的でのイベント参加はお断り
 しております。\nキャンセル待ち・補欠・落選の方は
 ご参加いただくことが出来ませんのでご了承ください
 。\n欠席される場合は、お手数ですが速やかにキャン
 セル処理をお願い致します。\n無断キャンセルや欠席
 が続く場合、次回以降の参加をお断りさせていただく
 場合がございます。\n
LOCATION:オンライン
URL:https://techplay.jp/event/856333?utm_medium=referral&utm_source=ics&utm
 _campaign=ics
END:VEVENT
END:VCALENDAR
