BEGIN:VCALENDAR
VERSION:2.0
PRODID:-//https://techplay.jp//JP
CALSCALE:GREGORIAN
METHOD:PUBLISH
X-WR-CALDESC:再検索キーワードを使ってコンテンツの質を
 高める方法
X-WR-CALNAME:再検索キーワードを使ってコンテンツの質を
 高める方法
X-WR-TIMEZONE:Asia/Tokyo
BEGIN:VTIMEZONE
TZID:Asia/Tokyo
BEGIN:STANDARD
DTSTART:19700101T000000
TZOFFSETFROM:+0900
TZOFFSETTO:+0900
TZNAME:JST
END:STANDARD
END:VTIMEZONE
BEGIN:VEVENT
UID:856770@techplay.jp
SUMMARY:再検索キーワードを使ってコンテンツの質を高め
 る方法
DTSTART;TZID=Asia/Tokyo:20220524T120000
DTEND;TZID=Asia/Tokyo:20220524T130000
DTSTAMP:20260422T133421Z
CREATED:20220426T092322Z
DESCRIPTION:イベント詳細はこちら\nhttps://techplay.jp/event/85677
 0?utm_medium=referral&utm_source=ics&utm_campaign=ics\n\n再検索キー
 ワードを使ってコンテンツの質を高める方法\n2022年5月
 24日（火）12:00～13:00\n最近のSEOにおける重要なものの
 一つに「ラストサーチ（検索行動が完結する）」とな
 るページを作ることが挙げられます。ラストサーチの
 ページを作るためには再検索キーワードを分析するこ
 とが重要になります。Googleの再検索キーワードとは何
 なのか、再検索キーワードのデータ収集・分析を通じ
 てコンテンツの質を上げるための手法を解説致します
 。\n▼こんな方にオススメです！\n・SEO担当者の方・メ
 ディア運営担当の方・デジタルマーケティング担当の
 方・サイト運営担当の方\n▼ウェビナー内容\n・再検索
 キーワードとは・検索意図に答えるページを作るため
 に再検索キーワードを参考にする・再検索キーワード
 の抽出の仕方・再検索キーワードの分析の仕方・コン
 テンツ構成案の作り方・まとめ\n▼開催概要\n・開催日
 時：2022年5月24日（火）12:00～13:00・参加費：無料・開
 催方法：ウェビナー　※Zoomを利用します・参加方法：
 お申込後に、別途メールにてご案内致します\n▼登壇
 者\n尾崎 篤志\n株式会社CINCアナリティクス事業本部 コ
 ンサルティンググループ チーフ\n以上となります。皆
 様のご応募、お待ちしております！\n\n※企業向けのセ
 ミナーでございますので、フリーメールでの登録はご
 遠慮くださいますようお願いいたします。※なお、競
 合他社/同業者/企業にご所属でない個人の方からのお
 申込みなど、 当社の判断によりセミナー参加をお断り
 する場合があります。予めご了承ください。※終了時
 刻は前後する可能性がございます。※予告なく登壇者
 ・内容の変更がある場合がございます。
LOCATION:オンラインセミナー
URL:https://techplay.jp/event/856770?utm_medium=referral&utm_source=ics&utm
 _campaign=ics
END:VEVENT
END:VCALENDAR
