BEGIN:VCALENDAR
VERSION:2.0
PRODID:-//https://techplay.jp//JP
CALSCALE:GREGORIAN
METHOD:PUBLISH
X-WR-CALDESC:Google検索1位にあなたのHPを表示させる自社ホ
 ームページSEO強化セミナー
X-WR-CALNAME:Google検索1位にあなたのHPを表示させる自社ホ
 ームページSEO強化セミナー
X-WR-TIMEZONE:Asia/Tokyo
BEGIN:VTIMEZONE
TZID:Asia/Tokyo
BEGIN:STANDARD
DTSTART:19700101T000000
TZOFFSETFROM:+0900
TZOFFSETTO:+0900
TZNAME:JST
END:STANDARD
END:VTIMEZONE
BEGIN:VEVENT
UID:857995@techplay.jp
SUMMARY:Google検索1位にあなたのHPを表示させる自社ホーム
 ページSEO強化セミナー
DTSTART;TZID=Asia/Tokyo:20220525T140000
DTEND;TZID=Asia/Tokyo:20220525T150000
DTSTAMP:20260425T025139Z
CREATED:20220510T012131Z
DESCRIPTION:イベント詳細はこちら\nhttps://techplay.jp/event/85799
 5?utm_medium=referral&utm_source=ics&utm_campaign=ics\n\nアフターコ
 ロナの勝者の条件は\nズバリ、「ホームページのアッ
 プデートだ！」と\n・企業のプロダクトマネージャー\n
 ・新規事業の責任者\n・中小企業の経営者・営業部長\n
 以上の方々からコロナ禍におけるホームページの必要
 性を痛感しているとよく相談を受ける私たちですが、
 それもそのはずです。\nなぜなら、2019年時点で帝国デ
 ータバンクの倒産企業調査で倒産理由の７７％は販売
 不振が原因という結果にも反映していましたし、コロ
 ナ禍で見込み顧客との接触機会が減り、2019年よりも販
 売不振が加速して深刻な状況に追い込まれている企業
 が増加しているからです。\nということで、自社ホー
 ムページのアクセスがUPしないため頭を抱えている．
 ．．とご相談いただきます。\n今回は、そんなホーム
 ページ集客のコツを学び、即実践したい方にとって、
 最高の60分になるかもしれません。\nその理由は、全日
 本SEO検定1級取得者が講師だからとなります。※本来有
 料の内容\nそして、今回の「成約につながる問合せを
 獲得するホームページ集客セミナー【SEO対策編】」は
 無料でオンライン受講することが可能です。\nあなた
 のホームページが抱える課題の解決策が見つかる確率
 は、非常に高いと思います。\n昨年9月から通算40回以
 上開催していますが、受講者の方は\n・早くも成果が
 出始めている方\n・「ムダな失敗をしなくて良かった
 」と喜ばれている方\n・集客できない原因が理解でき
 、改善策もすぐ実施できた方\nなどがいらっしゃいま
 す。\nさらに、今回のセミナー参加者には有料級の無
 料相談30分（おひとり様１回限りの希望者限定）の特
 典付きです。\n無料相談の具体的なメリットは３つあ
 ります。\n・自社のHPの問題点を知ることができる\n・
 競合他社HPへ流入しているキーワードがわかる\n・やっ
 てはいけないことが、やる前にわかる\n以上の内容な
 ため効果を実感される方が非常に多いです。\n※問い
 合わせ増加につきオンライン開催回数は月6回限定の少
 人数制になっております。お申込みはお早めに！\n事
 前アンケートやセミナー開催後に参加者の方からの質
 問を受け付けております。\n・自分が狙っているキー
 ワードでHPを上位表示させるにはどのくらい期間と費
 用や労力かかるのか\n・自分が実行しようとしている
 施策はSEOの専門家の視点で見た時に効果ありそうです
 か？\n・自社で実行するとなると人数が少なくてチー
 ム体制が作れず着手するには、まず社員の採用からで
 しょうか？どう改善していけばいいですか？など\nご
 質問にはお時間が許す限りお答えしますので、アンケ
 ートもしくは当日ライブチャットにてご質問ください
 。\nまたこちらからセミナーを受講した感想や今後実
 施してほしいセミナー内容などを随時受付中です。あ
 なたを悩ませるホームページ集客に関するお悩みを解
 決できるチャンスです！\n※SEOの役割の範囲内でした
 ら、別の内容のセミナー企画して開催いたします。\n\n
 HP集客セミナー受講メリット\n・ホームページから集客
 できず悩んでいることが解決する・ホームページで集
 客する方法がわかる・ホームページ集客の実績のある
 業者選びが難航しない\nタイムスケジュール\n\n\n\n時間
 \n内容\n\n\n\n\n13：50～\n受付開始\n\n\n14：00～\nセミナー
 開始\n\n\n\n1.問い合わせ獲得と成約につながった事例\n\
 n\n\n2.成約につながる問い合わせを獲得できない３つの
 原因\n\n\n\n3.HPを強化するために明日からできるSEO対策\
 n\n\n\n4.質問タイム\n\n\n\n※ 当日予告なく時間配分・内
 容が変更になる可能性がございます。　出欠確認のた
 め5分前には受付をお願いします。　ライブチャットに
 て、登録されたお名前をご入力ください。\n\n登壇者　
 原志穂　@spherenet_hara\n原志穂株式会社スフィアネット
 　WEBディレクター全日本SEO検定1級取得者\n中学時代に
 祖父が経営する写真館が歴史も実績もあるにもかかわ
 らず、店舗集客に問題を抱えて借金まみれになった経
 験から集客や経営で結果をだせる専門家になるために
 商業高校に入学。\n前職の信用組合では集客に苦しみ
 融資や経営が厳しくなっている個人商店や小企業の多
 さに驚き、改めて、集客の大切さを痛感するも自分で
 は何も集客で貢献できない苦しみを味わう。\nそこで
 、小さな企業が伸びるにはwebでの集客が必要不可欠と
 気づく\n2019.7月入社\nwebディレクターとして、半導体、
 電化製品メーカー、写真館、IT会社などのホームペー
 ジ集客支援を担当して、成約につながるアクセスアッ
 プにこだわり続けて、現在に至ります。\n検索した時
 に自分のホームページがでてこない、もっと問い合わ
 せや売上を増やしたいという問題を抱えたお客様にと
 って、最高の解決策をご提案できればと感じておりま
 す。\n当日はお気軽にご質問ください。\n会社情報\n社
 名：株式会社スフィアネット所在地：福岡市博多区博
 多駅東1丁目9番11号 大成博多駅東ビル2F設立：平成１７
 年１２月７日代表者：姫野浩二事業内容：webマーケテ
 ィング事業、webシステム受託・SES事業お問い合わせ：0
 92-400-1760
LOCATION:オンライン
URL:https://techplay.jp/event/857995?utm_medium=referral&utm_source=ics&utm
 _campaign=ics
END:VEVENT
END:VCALENDAR
