BEGIN:VCALENDAR
VERSION:2.0
PRODID:-//https://techplay.jp//JP
CALSCALE:GREGORIAN
METHOD:PUBLISH
X-WR-CALDESC:海外の最新事例から学ぶ～デジタルを活用し
 た新規事業 20連発！～
X-WR-CALNAME:海外の最新事例から学ぶ～デジタルを活用し
 た新規事業 20連発！～
X-WR-TIMEZONE:Asia/Tokyo
BEGIN:VTIMEZONE
TZID:Asia/Tokyo
BEGIN:STANDARD
DTSTART:19700101T000000
TZOFFSETFROM:+0900
TZOFFSETTO:+0900
TZNAME:JST
END:STANDARD
END:VTIMEZONE
BEGIN:VEVENT
UID:858065@techplay.jp
SUMMARY:海外の最新事例から学ぶ～デジタルを活用した新
 規事業 20連発！～
DTSTART;TZID=Asia/Tokyo:20220526T120000
DTEND;TZID=Asia/Tokyo:20220526T130000
DTSTAMP:20260421T170836Z
CREATED:20220510T083129Z
DESCRIPTION:イベント詳細はこちら\nhttps://techplay.jp/event/85806
 5?utm_medium=referral&utm_source=ics&utm_campaign=ics\n\n海外の最新
 事例から学ぶ～デジタルを活用した新規事業 20連発！
 ～\n▼内容\nDX（デジタルトランスフォーメーション）
 が国内でも幅広い業種や業務に広がりつつあり、製造
 業など幅広い業種でデジタルツインも新たなキーワー
 ドとして浮上しています。こうした中、戦略をどのよ
 うに立案し、具体的なアイデアをどのように企画する
 のか。実行に向けたプロセスでお悩みの新規事業に関
 係する担当者は少なくありません。そこで、デジタル
 を活用した事業企画のご担当者様に向けた講座を企画
 しました。シリコンバレーを中心とした20以上の海外DX
 事例をご紹介いたします。ひとえにデジタル活用とい
 っても様々な業種で、様々なジャンルの課題を、様々
 なアプローチで解消しています。イノベーティブな多
 くの事例を把握することで、「自社で何ができるのか
 」の検討材料としていただければと思います。プレゼ
 ンターはシリコンバレーのDX事情に精通した元日経BP社
 シリコンバレー支局長、エクサウィザーズマネージン
 グエディターの市嶋洋平が務めます。\n▼こんな方に
 おすすめ\n・新規事業にかかわる担当部門の方・デジ
 タル活用、DX推進にかかわる担当部門の方\n▼講義内容
 \n（AI）AI基軸にビジネスモデルを構築（社会）社会イ
 ノベーション／製造革新（CS）カスタマーサクセスを
 重視／KPI変更（変革）規制や業界動向にあわせて大胆
 に変革　（UX）シンプルなUIや利用方法（Sub）サブスク
 リプション／D2C（行動）利用者の行動変容（メタ）メ
 タバース／デジタルツイン（SDG）社会的意義の重視／
 超高齢社会対応／脱炭素（Mob）モビリティ／ドローン
 以上、20事例以上をご紹介する予定です。（一部内容
 が変更になる可能性があることを予めご了承ください
 ）\n▼講師プロフィール\n市嶋 洋平（いちしま・よう
 へい）\n株式会社エクサウィザーズ\nエクサウィザーズ
 でテクノロジーやビジネスのコンテンツ企画・編集、
 新事業の開発などを担当する。1996年日経BP入社、2014年
 に日経ビッグデータを創刊し、ビジネス部門や経営の
 ケーススタディやデータ市場を中心に取材。18年4月に
 シリコンバレー支局に赴任し、編集委員・支局長。21
 年9月にエクサウィザーズに転じて現職。日本経済新聞
 社で電機業界の取材も担当した。「シリコンバレーの
 次はシアトルだ、AIゲームチェンジャー」（日経BP） 
 などの著書がある。早稲田大学理工学研究科（工業経
 営）修了。新潟県出身。\n\n▼注意事項\n\n開催方法：We
 bセミナー　※Zoomを利用します\n参加方法：お申込後に
 、別途メールにてご案内致します。\n競合他社様のお
 申込みはお断りする場合がございます。予めご容赦く
 ださい。\n
LOCATION:オンライン
URL:https://techplay.jp/event/858065?utm_medium=referral&utm_source=ics&utm
 _campaign=ics
END:VEVENT
END:VCALENDAR
