BEGIN:VCALENDAR
VERSION:2.0
PRODID:-//https://techplay.jp//JP
CALSCALE:GREGORIAN
METHOD:PUBLISH
X-WR-CALDESC:【位置情報広告セミナー】新規顧客獲得のた
 めの位置情報広告  ～位置情報広告で顧客を広く獲得
 ～
X-WR-CALNAME:【位置情報広告セミナー】新規顧客獲得のた
 めの位置情報広告  ～位置情報広告で顧客を広く獲得
 ～
X-WR-TIMEZONE:Asia/Tokyo
BEGIN:VTIMEZONE
TZID:Asia/Tokyo
BEGIN:STANDARD
DTSTART:19700101T000000
TZOFFSETFROM:+0900
TZOFFSETTO:+0900
TZNAME:JST
END:STANDARD
END:VTIMEZONE
BEGIN:VEVENT
UID:858066@techplay.jp
SUMMARY:【位置情報広告セミナー】新規顧客獲得のための
 位置情報広告  ～位置情報広告で顧客を広く獲得～
DTSTART;TZID=Asia/Tokyo:20220519T160000
DTEND;TZID=Asia/Tokyo:20220519T170000
DTSTAMP:20260423T183707Z
CREATED:20220510T083425Z
DESCRIPTION:イベント詳細はこちら\nhttps://techplay.jp/event/85806
 6?utm_medium=referral&utm_source=ics&utm_campaign=ics\n\n【5/19（木）
 16時開始】位置情報広告セミナー 新規顧客獲得のため
 の位置情報広告\n◆概要\n新年度は進学、入社、転勤、
 転職など、ライフスタイルや行動パターンが大きく変
 わる節目の季節です。さらに2022年の春は新型コロナウ
 ィルス感染症のまん延防止等重点措置が終了し、人出
 が繁華街や店舗に戻り始めています。\n人々のリアル
 な移動・行動が活発化する中でいかに多くの新規の潜
 在顧客に足を運んでもらえるかは、小売業・飲食業は
 もちろん、ショッピングモールやアミューズメント施
 設、あるいはイベントや販促活動をするメーカー企業
 にとっても重要な課題となります。\n今回のセミナー
 では位置情報広告の仕組みを使って、新規顧客にリー
 チし集客コンバージョンを促せるキャンペーンについ
 てご紹介いたします。\n◆セミナー情報\n全国の百貨店
 来訪者の傾向を人流データを活用して分析（リアル人
 流モニタリングを活用して全国の百貨店来訪者データ
 スマホノGPSデータを元に分析)した結果を用いて、位置
 情報を使うことで従来のメディアや広告手法ではリー
 チできなかったユーザー層の行動を把握した上で、行
 動に併せたメッセージを届けることも可能となること
 をご紹介いたします。\n特に店舗を持たないブランド
 企業様にとっても新たな顧客層開拓のヒントになるか
 もしれません。本セミナーでは位置情報を活用した基
 礎情報からキャンペーンの設計についても詳しく解説
 していきます。\n◆特典\n先着20社様限定！配信10万イ
 ンプレッション(広告表示回数)をプレゼントセミナー
 にご参加いただいた中から先着20社様に、広告配信10万
 円分（10万インプレッション分）が無料になる特別キ
 ャンペーンを実施します。本セミナーに参加いただい
 た方へご案内をいたしますので是非お申込みください
 。\n開催概要\n日　時： 2022年5月19日（木）　時　間　1
 6：00 ～ 17：00定　員： 50名　 ※先着順参加費： 無料
 開催方法： オンライン（Zoomウェビナー）セミナー詳
 細ページ：https://www.x-locations.com/seminar/20220519/※本セミ
 ナーご登録後に当日の視聴用のURLをご案内いたします
 。\n◆講師\n\n石塚　修Customer Success Directorクロスロケー
 ションズ株式会社\n位置情報広告についての基礎情報
 からその仕組みを使ったキャンぺーン設計（分析エリ
 アPOIの選択、ターゲットの設定、配信）や新規顧客に
 リーチし、集客、コンバージョンを促せるキャンペー
 ンについて解説いたします。また、本セミナーに参加
 いただいた方への特典として、”先着20社様限定！ 配
 信10万円分無料キャンペーン”の特典情報についてご
 案内いたします。\n\nこのような方におすすめ\n\n位置
 情報広告についての基礎情報を詳しく知りたい方\n位
 置情報の仕組みを使ったキャンぺーン設計について詳
 しく知りたい方\nリアル人流DMP広告(顧客の行動データ
 をDMP活用)について興味をお持ちの方\n「配信10万円分
 無料キャンペーン」を活用して位置情報広告サービス
 を利用したい方\n\n◆参加費無料　※オンライン開催　
  Zoomウェビナー\n◆注意事項お申し込みには貴社名・ア
 ドレス・部署・電話番号が必須となります。リクルー
 ティング、勧誘など、採用目的でのイベント参加はお
 断りしております。参加を辞退する場合は、詳細ペー
 ジより申込のキャンセルをお願いいたします。同業他
 社さまのご参加はお断りさせていただいております。
 ご理解のほどお願い申し上げます。\n【個人情報の取
 り扱い】個人情報保護管理者兼お問い合わせ窓口 ：〒
 150-0022　東京都渋谷区恵比寿南1丁目2-9　小林ビル6階ク
 ロスロケーションズ株式会社　個人情報保護管理責任
 者　取締役CFOメールアドレス：privacy＠x-locations.com利用
 目的 ：セミナーへの参加のご案内、当社のサービスに
 関するご案内・営業およびマーケティング活動のため
 任意性：お客様からご提供頂ける個人情報はお客様の
 任意です。但し必要な項目をご提供頂けない場合は利
 用目的を達成できないことがあります。※ 本セミナー
 のお申込みをもって、上記内容に同意したものとみな
 します。
LOCATION:オンラインZoom
URL:https://techplay.jp/event/858066?utm_medium=referral&utm_source=ics&utm
 _campaign=ics
END:VEVENT
END:VCALENDAR
