BEGIN:VCALENDAR
VERSION:2.0
PRODID:-//https://techplay.jp//JP
CALSCALE:GREGORIAN
METHOD:PUBLISH
X-WR-CALDESC:PHP経験を活かす！自社プロダクト開発
X-WR-CALNAME:PHP経験を活かす！自社プロダクト開発
X-WR-TIMEZONE:Asia/Tokyo
BEGIN:VTIMEZONE
TZID:Asia/Tokyo
BEGIN:STANDARD
DTSTART:19700101T000000
TZOFFSETFROM:+0900
TZOFFSETTO:+0900
TZNAME:JST
END:STANDARD
END:VTIMEZONE
BEGIN:VEVENT
UID:858306@techplay.jp
SUMMARY:PHP経験を活かす！自社プロダクト開発
DTSTART;TZID=Asia/Tokyo:20220530T180000
DTEND;TZID=Asia/Tokyo:20220530T183000
DTSTAMP:20260425T165015Z
CREATED:20220512T000602Z
DESCRIPTION:イベント詳細はこちら\nhttps://techplay.jp/event/85830
 6?utm_medium=referral&utm_source=ics&utm_campaign=ics\n\nイベント概
 要\nラクスでは、ビジネスの業務効率化や付加価値向
 上を支援するSaaSを多数提供しており、延べ80\,000社の
 お客様にご利用いただいています。業務効率化SaaS「楽
 楽販売」「メールディーラー」「チャットディーラー
 」「配配メール」「ブラストメール」をはじめとする
 多くのプロダクトがPHPで開発されており、安定して好
 調な成長を続けています。\n本イベントはPHPの開発経
 験をお持ちの方向けに、プロダクト、開発体制やプロ
 セス、ラクスでのキャリアパスなどをQ&Aも交えつつ気
 楽にご紹介するイベントです。\n※ 選考無関係のカジ
 ュアルイベントです。お気軽にご参加ください！\nこ
 んなことをお話します\n\nプロダクト紹介\n開発プロセ
 ス／仕事の進め方\n技術スタック／開発事例\n多様なキ
 ャリアパス\n募集ポジションや選考フロー\n\nこんな方
 におススメ\n\nラクスの選考に興味がありポジションに
 ついて聞きたい\nラクスの開発チームの体制、技術ス
 タック、働き方について知りたい\nPHPエンジニアとし
 てのキャリアを考えたい\n\nお申込はこちら\n\nお申込
 期日：2022/5/30(月) 17:00迄\nconnpass画面 「このイベント
 に申し込む」 よりご登録ください\n\n※ご参考 関連技
 術スタック等（一部）\n\nバックエンド：PHP\, Node.js\nフ
 レームワーク: Laravel\, CKEditor\, Socket.IO\, Express\, Handlebar
 s\, npm\, Composer\, ImageMagick\nフロントエンド： jQuery\, Vue.j
 s\, Bootstrap\nCI/テスト：Pupperteer、PHPUnit、Mocha、Jenkins、JM
 eter、Ansible\n開発プロセス：スクラム\, ウォーターフォ
 ール\n\n開催概要\n\n日時: 2022/5/30(月) 18:00-18:30\n会場: オ
 ンライン（Zoom）\n\nメッセージにて開催前にZoomURLを通
 知いたします。\nZoomへの入室は10分前からとなります
 。\n途中参加・途中退出も可能です。\n\n\n参加費: 無料
 \n\n※イベント参加人数が少ない場合など、内容変更も
 しくは中止とする場合がございますのでご了承くださ
 い。\nタイムスケジュール\n\n\n\n時間\n内容\n\n\n\n\n18:00 
 ～ 18:05\n会社概要\n\n\n18:05 ～ 18:25\nPHP開発事例・体制・
 開発プロセス等\n\n\n18:25 〜 18:30\nキャリア情報・アン
 ケート\n\n\n18:30\n終了予定\n\n\n\n当社参加メンバー\n\n開
 発メンバー参加調整中\n米田慎太郎 / 技術・採用広報20
 20年ラクス入社IT出版や人材企業で新規事業開発、マー
 ケティング、経営企画・内部統制やセールス組織のマ
 ネジメントを経験。現在は技術・採用広報として、イ
 ベントやテックブログの企画運営を担当。\n菊池伸匡 /
  採用広報2021年ラクス入社HR Techプロダクトのオフショ
 ア開発PLやIT企業の人事等を経験。開発本部の採用広報
 として、エンジニア・デザイナー向けのイベント企画
 運営を担当。社会人大学で情報学を学んでいます。\n\n
 こちらもご覧ください\n【5分でわかる】開発本部紹介
 資料主催の技術イベント一覧テックブログ\n個別に話
 を聞きたいという方向けに・・・\n開発本部中途サイ
 ト当社サイトよりカジュアル面談も常時受け付けてお
 ります！\n注意事項\n\n当イベントの内容およびスケジ
 ュールは、予告なく変更となる場合があります。予め
 ご了承ください。\n他の参加者の方の妨げになるよう
 な行為は禁止、運営側の判断でご退出をお願いする場
 合があります。\nブログやSNSなどで当イベントに関す
 る発信を行う際には、公序良俗に反する内容のないよ
 う、ご協力をお願いします。\n当イベントはオンライ
 ン開催のため、通信状況によって音声や映像の乱れが
 ある場合がございます。\nイベント風景を録画してお
 りますが、運営改善以外には用いません。皆様の映像
 は録画されませんのでご安心ください。\n配信トラブ
 ル時のアナウンスはTwitterより行います。\n
LOCATION:オンライン
URL:https://techplay.jp/event/858306?utm_medium=referral&utm_source=ics&utm
 _campaign=ics
END:VEVENT
END:VCALENDAR
