BEGIN:VCALENDAR
VERSION:2.0
PRODID:-//https://techplay.jp//JP
CALSCALE:GREGORIAN
METHOD:PUBLISH
X-WR-CALDESC:バリューエージェントの強み紹介、成功事例
 を伝えるウェビナー
X-WR-CALNAME:バリューエージェントの強み紹介、成功事例
 を伝えるウェビナー
X-WR-TIMEZONE:Asia/Tokyo
BEGIN:VTIMEZONE
TZID:Asia/Tokyo
BEGIN:STANDARD
DTSTART:19700101T000000
TZOFFSETFROM:+0900
TZOFFSETTO:+0900
TZNAME:JST
END:STANDARD
END:VTIMEZONE
BEGIN:VEVENT
UID:858318@techplay.jp
SUMMARY:バリューエージェントの強み紹介、成功事例を伝
 えるウェビナー
DTSTART;TZID=Asia/Tokyo:20220513T130000
DTEND;TZID=Asia/Tokyo:20220513T140000
DTSTAMP:20260425T164831Z
CREATED:20220512T014502Z
DESCRIPTION:イベント詳細はこちら\nhttps://techplay.jp/event/85831
 8?utm_medium=referral&utm_source=ics&utm_campaign=ics\n\nバリューエ
 ージェントの強み紹介、成功事例を伝えるウェビナー\
 n概要\n2020年にコロナ禍に入って以降、それまでより一
 層Webマーケティングに力を入れ出したという企業は少
 なくありません。しかし、Webマーケティングは「予算
 や社内のリソースを使ったから」という理由で簡単に
 成果が出せる訳でもない、というのが現状です。そん
 な中、弊社バリューエージェントでは「まだ知名度が
 低い会社」や「月額予算が10~30万円程度の会社」で多
 くの実績を出してきました。\nそこで、今回は●バリ
 ューエージェントの強みの紹介●成功させるための考
 え方●実際の事例の詳細をご紹介します。\nなぜ、そ
 のような施策をとったのか、また何を行って、どのよ
 うな結果になったのかをお伝えします。\n●Webマーケ
 ティングを依頼する会社を探している●Webマーケティ
 ング会社選びで失敗したくない●成果の出なかった企
 業がどうやって成功しているのかを知りたい上記のよ
 うな方は、ぜひセミナーにお越しください。\n登壇者\n
 株式会社バリューエージェント　代表取締役\n上野山 
 光雄（WEBマーケッター/WEBコンサルタント）\n\n専門学
 校を卒業後　店頭公開のITシステム会社にSEとして就職
 、その後建築会社の営業で活躍　売上げ100億円超の企
 業で取締役を3年間経験。2005年に株式会社バリューエ
 ージェント設立　マーケティングシステム、店舗集客
 、WEBマーケティング事業で中小企業を中心に500社を超
 える集客サービスの導入実績。\n\n□YouTube出演実績\n自
 社のYouTubeチャンネル「バリューチャンネル」では、合
 計400本以上の動画でWeb集客について解説を行っている
 。\n\n□過去のセミナー・研修実績\n●Googleアナリティ
 クスの使い方・分析方法研修\n●Webマーケティングの
 基礎とSEO対策講座\n●売れるホームページの作り方 12
 のポイント　吹田商工会議所\n●集客と成約するホー
 ムページ作成セミナー　北大阪商工会議所主催\n●Ｗeb
 販路開拓セミナー「有効なＷeb広告の出し方」豊中商
 工会議所\n●Webで販路開拓を目指すセミナー　和歌山
 商工会議所\n●自社開催＆クライアント先での研修\n●
 売れるホームページ12のポイントセミナー\n●売れるラ
 ンディングページ作成研修\n●SEOに強いライティング
 研修\n●Googleアナリティクスを使って改善点を見つけ
 出す方法研修\n●有効なツイッター運用研修\n\n参加対
 象\n\n経営者\nWeb担当者\n\n参加費\n無料
LOCATION:オンライン
URL:https://techplay.jp/event/858318?utm_medium=referral&utm_source=ics&utm
 _campaign=ics
END:VEVENT
END:VCALENDAR
