BEGIN:VCALENDAR
VERSION:2.0
PRODID:-//https://techplay.jp//JP
CALSCALE:GREGORIAN
METHOD:PUBLISH
X-WR-CALDESC:値上げに強い商談力！ 顧客をミカタにつけて
 連続商談
X-WR-CALNAME:値上げに強い商談力！ 顧客をミカタにつけて
 連続商談
X-WR-TIMEZONE:Asia/Tokyo
BEGIN:VTIMEZONE
TZID:Asia/Tokyo
BEGIN:STANDARD
DTSTART:19700101T000000
TZOFFSETFROM:+0900
TZOFFSETTO:+0900
TZNAME:JST
END:STANDARD
END:VTIMEZONE
BEGIN:VEVENT
UID:858951@techplay.jp
SUMMARY:値上げに強い商談力！ 顧客をミカタにつけて連続
 商談
DTSTART;TZID=Asia/Tokyo:20220530T120000
DTEND;TZID=Asia/Tokyo:20220530T130000
DTSTAMP:20260419T174053Z
CREATED:20220517T061100Z
DESCRIPTION:イベント詳細はこちら\nhttps://techplay.jp/event/85895
 1?utm_medium=referral&utm_source=ics&utm_campaign=ics\n\n値上げに強
 い商談力！ 顧客をミカタにつけて連続商談\nこんな方
 におすすめです☑メーカーの営業責任者☑営業企画、
 販売促進責任者・担当者☑マーケティング・広告宣伝
 責任者・担当者\n原材料高によるコストアップが続い
 ています。\n一方、値上げを決めた商品は、家計を脅
 かす商品とでも言うような報道のされ方です。しかし
 今のコスト高は、社会問題と社会問題を解決するコス
 トが原因です。そう考えると、上がることはあっても
 下がることは考えにくいのです。\nしかし値上げを表
 明した後、厳しいのが流通企業との商談です。商品部
 のバイヤーに値上げ交渉を行い、理解してもらって店
 頭価格の引き上げに踏み切っていただくまでには、大
 きな営業パワーを使うはずです。\nそこで本セミナー
 では、「値上げに強い商談力」を支援するツール・仕
 掛けを紹介します。\n①誰にでも②すぐできて③しか
 もローコスト\nそれのみか、値上げが共感になり付加
 価値が加わる仕掛けです。\n流通企業を巻き込み、顧
 客をナカマにミカタにする仕掛けで、連続的に継続的
 に仕掛けられることが特徴です。具体的な事例を紹介
 し、値上げ商談のヒントにしていただきたいと思って
 います。\n登壇者\n深井 賢一\n株式会社 YRK andCMO / 取締
 役 兼 TOKYO代表\n一般社団法人ソーシャルプロダクツ普
 及推進協会 事務局長。1989年 株式会社 YRK and入社。マ
 ーケティングプランナーとして、食品・日用品・医薬
 品などのマーケティングやプロモーション、流通小売
 業の業態開発・売場開発に携わる。現在はソーシャル
 プロダクツの適正な市場普及や、SDGsの本業化・ブラン
 ディング・コミュニケーション活用を企業に導入する
 ためコンサルタントとして活躍。\n\n\n片山　典人\n株
 式会社 YRK and事業コンサルティング東京TMOTチームマネ
 ージャー\n広告代理店勤務を経て2010年に株式会社YRK and
 入社。営業としてメーカーやサービス業など様々な業
 種業態のプロモーションやCRM業務を担当。2018年よりTMO
 Tプラットフォームカンパニーに配属となり、自社ASPサ
 ービス（C-SO／MiiNA）のセールス拡販に従事。2020年10月
 よりマネージャーに就任し、自社ASPサービス（C-SO／Mii
 NA）のさらなる拡販と、デジタルを活用したプロモー
 ションや愛用者マーケティングなどをクライアントの
 課題に応じて提供している。\n\n\n参加費\n無料\n注意事
 項\n\nWi-Fi環境など高速通信が可能な電波の良い所でご
 視聴ください。\n複製、録音、録画、第三者への転用
 、転売等はご遠慮ください。\n複数端末から同時に視
 聴することやプロジェクター等による複数人での視聴
 もお断りいたします。\n個人、競合他社様のご視聴は
 ご遠慮いただいておりますので、ご了承ください。\n
 ご視聴定員100名様限定となります。お申込者が定員を
 超えた場合は、抽選となりますのでご了承ください。\
 n
LOCATION:オンライン
URL:https://techplay.jp/event/858951?utm_medium=referral&utm_source=ics&utm
 _campaign=ics
END:VEVENT
END:VCALENDAR
