BEGIN:VCALENDAR
VERSION:2.0
PRODID:-//https://techplay.jp//JP
CALSCALE:GREGORIAN
METHOD:PUBLISH
X-WR-CALDESC:《Cookie規制は怖くない！》規制後の対策はこ
 れに決まり！
X-WR-CALNAME:《Cookie規制は怖くない！》規制後の対策はこ
 れに決まり！
X-WR-TIMEZONE:Asia/Tokyo
BEGIN:VTIMEZONE
TZID:Asia/Tokyo
BEGIN:STANDARD
DTSTART:19700101T000000
TZOFFSETFROM:+0900
TZOFFSETTO:+0900
TZNAME:JST
END:STANDARD
END:VTIMEZONE
BEGIN:VEVENT
UID:859056@techplay.jp
SUMMARY:《Cookie規制は怖くない！》規制後の対策はこれに
 決まり！
DTSTART;TZID=Asia/Tokyo:20220525T150000
DTEND;TZID=Asia/Tokyo:20220525T160000
DTSTAMP:20260420T075237Z
CREATED:20220518T041141Z
DESCRIPTION:イベント詳細はこちら\nhttps://techplay.jp/event/85905
 6?utm_medium=referral&utm_source=ics&utm_campaign=ics\n\n段階的に行
 われるサードパーティCookieの利用規制強化によってリ
 マーケティングなどのターゲティング制度・分析制度
 低下が想定されるなどWEB広告において大きな変化が起
 こる2023年。\n当セミナーではCookie規制によりどのよう
 な影響があるのか、そして具体的な代替手法を事例に
 沿って解説していきます。\nWEB広告の最新情報を知り
 たいご担当者様、是非ともご参加ください！\n◆アジ
 ェンダ1.クッキー規制の現状\n2.クッキー規制によって
 何が起こる？\n3.クッキーレスにおけるターゲティング
 手法(代替手法)\n4.代替手法の活用事例\n5.データを活用
 したマーケティングにおける考え方\n6.まとめ\n———
 ——————————————————————–\n
 ◆セミナープログラム\nセミナータイトル : 【Cookie廃
 止も怖くない！廃止後の施策はこれだ！】参加費 : 無
 料定員 : 30名会場 : zoom（お申し込み完了メールに受講
 用URLをお送りいたします）\n◆注意事項\n※当セミナー
 は法人企業さまを対象としております。\n※広告代理
 店様のご参加は、恐れ入りますがお断りさせていただ
 いております。\n※セミナー開始予定時刻後のご入室
 はご遠慮いただいております。\n（開始後ご連絡をい
 ただきましても、セミナー担当者対応ができかねます
 ためご了承くださいませ。）\n\n——————————
 ———————————————–◆講師紹介\n株式
 会社ExKey堀田愛莉\n中小企業・法人中心にリスティング
 ・SNS広告の提案・運用を担当。 前職は大手出版社グ
 ループで企業ブランディング業務に携わり
 、様々な会社の書籍出版のご案内に従事。担当実績業
 界 : IT通信、税理士法人 など\n【メッセージ】コロ
 ナ禍になり、マーケティングや営業活動に大きな変化
 ・影響がある中、 自社のWEB施策の見直しを行う企業が
 増えてきました。最新の運用事例はもちろん、「今更
 聞けない…」と言ったWEB広告の基礎的な情報について
 もお伝えしたいと思います。 この機会にぜひご参加く
 ださい。\n担当サービス：リスティング広告、SNS広告
 、その他WEB広告媒体
LOCATION:オンライン(zoom)
URL:https://techplay.jp/event/859056?utm_medium=referral&utm_source=ics&utm
 _campaign=ics
END:VEVENT
END:VCALENDAR
