BEGIN:VCALENDAR
VERSION:2.0
PRODID:-//https://techplay.jp//JP
CALSCALE:GREGORIAN
METHOD:PUBLISH
X-WR-CALDESC:プロジェクトマネージャーの仕事紹介／カジ
 ュアル説明会
X-WR-CALNAME:プロジェクトマネージャーの仕事紹介／カジ
 ュアル説明会
X-WR-TIMEZONE:Asia/Tokyo
BEGIN:VTIMEZONE
TZID:Asia/Tokyo
BEGIN:STANDARD
DTSTART:19700101T000000
TZOFFSETFROM:+0900
TZOFFSETTO:+0900
TZNAME:JST
END:STANDARD
END:VTIMEZONE
BEGIN:VEVENT
UID:859183@techplay.jp
SUMMARY:プロジェクトマネージャーの仕事紹介／カジュア
 ル説明会
DTSTART;TZID=Asia/Tokyo:20220526T180000
DTEND;TZID=Asia/Tokyo:20220526T183000
DTSTAMP:20260423T174913Z
CREATED:20220519T000711Z
DESCRIPTION:イベント詳細はこちら\nhttps://techplay.jp/event/85918
 3?utm_medium=referral&utm_source=ics&utm_campaign=ics\n\nイベント概
 要\nラクスでは、ビジネスの業務効率化や付加価値向
 上を支援するSaaSを多数開発しており、延べ80\,000社の
 お客様にご利用いただいています。\n\n\nラクスのプロ
 ダクト一覧\n\n\n今回はラクスのプロジェクトマネージ
 ャーのキャリアにご興味をお持ちの方向けに、組織体
 制、開発事例、業務内容、キャリアパスなどを気楽に
 ご紹介するイベントです。\n導入社数急成長中のクラ
 ウド帳票発行サービス「楽楽明細」の開発事例を中心
 にお話する予定です。スクラム開発、オフショア活用
 、プロダクトマネジメント強化にも積極的に取り組む
 チームです。\nこんなことをお話します\n\n会社紹介/組
 織紹介\nチーム体制と開発プロセス\n開発事例/技術ス
 タック\nキャリアパス\n募集ポジション/選考フロー\n\n
 こんな方におススメ\n\nプロジェクトマネージャーのキ
 ャリアにご興味のある方\nラクスの開発チームの体制
 、技術スタック、働き方について知りたい方\nラクス
 の選考に興味がありポジションについて聞きたい方\n\n
 お申込はこちら\n\nお申込期日：2022/5/26(木) 17:00迄\nTechP
 lay画面 「このイベントに申し込む」 よりご登録くだ
 さい\n\n※ご参考 ラクスの技術スタック（一部）\n\n言
 語：Java\, PHP\, Go\, Python\, Node.js\, Kotlin\, Swift\nフレーム
 ワーク: Spring Boot\, Laravel 等\nフロントエンド： TypeScript
 \, React/Redux\, Vue.js\nインフラ：オンプレミス\, AWS\, Docker
 \, k8s\n開発プロセス：アジャイル（大規模スクラム LeSS
 等）、ウォーターフォール\nコードレビュー：Pull Reques
 t ベース（GitLabのMergeRequest）\nCI\,テスト：GitLab CI\, Jenki
 ns\, gradle\, Selenium/Selenide※ 技術構成はプロダクトによ
 り異なります。\n\n開催概要\n\n日時: 2022/5/26(木) 18:00-18:
 30\n会場: オンライン（Zoom）\n\nメッセージにて開催前
 にZoomURLを通知いたします。\nZoomへの入室は5分前から
 となります。\n\n\n参加費: 無料\n\n※イベント参加人数
 が少ない場合など、内容変更や中止とする場合がござ
 いますのでご了承ください。\nタイムスケジュール\n\n\
 n\n時間\n内容\n\n\n\n\n18:00 ～ 18:05\n会社紹介\n\n\n18:05 ～ 1
 8:25\n事例紹介（チーム体制・仕事の進め方・開発プロ
 セス・技術スタック etc）\n\n\n18:25 〜 18:30\nキャリア情
 報・アンケート\n\n\n18:30\n終了\n\n\n\n当社参加メンバー\
 n\nプロジェクトマネージャー参加調整中！\n米田慎太
 郎 / 技術広報2020年ラクス入社IT出版等で新規事業開発
 、マーケティング、経営企画・内部統制やセールス組
 織のマネジメントを経験。現在は技術広報として、イ
 ベントやテックブログの企画運営を担当。\n菊池伸匡 /
  技術広報2021年ラクス入社HR Techプロダクトのオフショ
 ア開発PL等を経験。技術広報として、エンジニア・デ
 ザイナー向けのイベント企画運営を担当。社会人大学
 で情報学を学んでいます。\n\nこちらもご覧ください\n
 【5分でわかる】開発本部紹介資料主催の技術イベント
 一覧テックブログ\n個別に話を聞きたいという方向け
 に・・・\n開発本部中途サイト当社サイトよりカジュ
 アル面談も常時受け付けております！\n注意事項\n\n当
 イベントの内容およびスケジュールは、予告なく変更
 となる場合があります。予めご了承ください。\n他の
 参加者の方の妨げになるような行為は禁止、運営側の
 判断でご退出をお願いする場合があります。\nブログ
 やSNSなどで当イベントに関する発信を行う際には、公
 序良俗に反する内容のないよう、ご協力をお願いしま
 す。\n当イベントはオンライン開催のため、通信状況
 によって音声や映像の乱れがある場合がございます。\
 nイベント風景を録画しておりますが、運営改善以外に
 は用いません。皆様の映像は録画されませんのでご安
 心ください。\n配信トラブル時のアナウンスはTwitterよ
 り行います。\n
LOCATION:オンライン
URL:https://techplay.jp/event/859183?utm_medium=referral&utm_source=ics&utm
 _campaign=ics
END:VEVENT
END:VCALENDAR
