BEGIN:VCALENDAR
VERSION:2.0
PRODID:-//https://techplay.jp//JP
CALSCALE:GREGORIAN
METHOD:PUBLISH
X-WR-CALDESC:SEOアクセス数を増やすカテゴリ設計
X-WR-CALNAME:SEOアクセス数を増やすカテゴリ設計
X-WR-TIMEZONE:Asia/Tokyo
BEGIN:VTIMEZONE
TZID:Asia/Tokyo
BEGIN:STANDARD
DTSTART:19700101T000000
TZOFFSETFROM:+0900
TZOFFSETTO:+0900
TZNAME:JST
END:STANDARD
END:VTIMEZONE
BEGIN:VEVENT
UID:859344@techplay.jp
SUMMARY:SEOアクセス数を増やすカテゴリ設計
DTSTART;TZID=Asia/Tokyo:20220607T120000
DTEND;TZID=Asia/Tokyo:20220607T130000
DTSTAMP:20260420T015239Z
CREATED:20220520T045850Z
DESCRIPTION:イベント詳細はこちら\nhttps://techplay.jp/event/85934
 4?utm_medium=referral&utm_source=ics&utm_campaign=ics\n\nSEOアクセス
 数を増やすカテゴリ設計\n2022年6月7日（火）12:00～13:00\
 nSEOにおいて、事前のリサーチや戦略が不在の中で、た
 だ単にコンテンツを書いてるだけでは集客力を最大限
 に引き出す事は難しいです。今回のウェビナーでは、
 検索ユーザーの意図に答えるコンテンツを発信すると
 同時に、それらコンテンツをカテゴリ（ディレクトリ
 ）ごとに束ね、WebサイトのSEO効果を最大限引き出す内
 部リンクの構築の方法について解説いたします。\n\n▼
 こんな方にオススメです！\n・Webサイトを新たに立ち
 上げに関わる方・Webサイトの運営に携わる方・マーケ
 ティング担当の方・SEO担当の方\n▼ウェビナー内容\n・
 SEOのキーワードリサーチ・トピッククラスター分析・
 カテゴリ/ディレクトリ設計・内部リンク設計\n▼開催
 概要\n・開催日時：2022年6月7日（火）12:00～13:00・参加
 費：無料・開催方法：ウェビナー　※Zoomを利用します
 ・参加方法：お申込後に、別途メールにてご案内致し
 ます\n▼登壇者\n尾崎 篤志\n株式会社CINCアナリティク
 ス事業本部 コンサルティンググループ チーフ\n以上と
 なります。皆様のご応募、お待ちしております！\n\n※
 企業向けのセミナーでございますので、フリーメール
 での登録はご遠慮くださいますようお願いいたします
 。※なお、競合他社/同業者/企業にご所属でない個人
 の方からのお申込みなど、 当社の判断によりセミナー
 参加をお断りする場合があります。予めご了承くださ
 い。※終了時刻は前後する可能性がございます。※予
 告なく登壇者・内容の変更がある場合がございます。
LOCATION:オンラインセミナー
URL:https://techplay.jp/event/859344?utm_medium=referral&utm_source=ics&utm
 _campaign=ics
END:VEVENT
END:VCALENDAR
