BEGIN:VCALENDAR
VERSION:2.0
PRODID:-//https://techplay.jp//JP
CALSCALE:GREGORIAN
METHOD:PUBLISH
X-WR-CALDESC:プロジェクトマネージャーの仕事紹介／カジ
 ュアル説明会
X-WR-CALNAME:プロジェクトマネージャーの仕事紹介／カジ
 ュアル説明会
X-WR-TIMEZONE:Asia/Tokyo
BEGIN:VTIMEZONE
TZID:Asia/Tokyo
BEGIN:STANDARD
DTSTART:19700101T000000
TZOFFSETFROM:+0900
TZOFFSETTO:+0900
TZNAME:JST
END:STANDARD
END:VTIMEZONE
BEGIN:VEVENT
UID:859880@techplay.jp
SUMMARY:プロジェクトマネージャーの仕事紹介／カジュア
 ル説明会
DTSTART;TZID=Asia/Tokyo:20220607T180000
DTEND;TZID=Asia/Tokyo:20220607T183000
DTSTAMP:20260424T035258Z
CREATED:20220524T095601Z
DESCRIPTION:イベント詳細はこちら\nhttps://techplay.jp/event/85988
 0?utm_medium=referral&utm_source=ics&utm_campaign=ics\n\nイベント概
 要\nラクスでは、ビジネスの業務効率化や付加価値向
 上を支援するSaaSを多数開発しており、延べ80\,000社の
 お客様にご利用いただいています。\n\n\nラクスのプロ
 ダクト一覧\n\n\n今回はラクスのプロジェクトマネージ
 ャーのキャリアにご興味をお持ちの方向けに、組織体
 制、開発事例、業務内容、キャリアパスなどを気楽に
 ご紹介するイベントです。\n導入社数急成長中のクラ
 ウド帳票発行サービス「楽楽明細」の開発事例を中心
 にお話する予定です。スクラム開発、オフショア活用
 、プロダクトマネジメント強化にも積極的に取り組む
 チームです。\nこんなことをお話します\n\n会社紹介/組
 織紹介\nチーム体制と開発プロセス\n開発事例/技術ス
 タック\nキャリアパス\n募集ポジション/選考フロー\n\n
 こんな方におススメ\n\nプロジェクトマネージャーのキ
 ャリアにご興味のある方\nラクスの開発チームの体制
 、技術スタック、働き方について知りたい方\nラクス
 の選考に興味がありポジションについて聞きたい方\n\n
 お申込はこちら\n\nお申込期日：2022/6/7(火) 17:00迄\nconnpa
 ss画面 「このイベントに申し込む」 よりご登録くだ
 さい\n\n※ご参考 ラクスの技術スタック（一部）\n\n言
 語：Java\, PHP\, Go\, Python\, Node.js\, Kotlin\, Swift\nフレーム
 ワーク: Spring Boot\, Laravel 等\nフロントエンド： TypeScript
 \, React/Redux\, Vue.js\nインフラ：オンプレミス\, AWS\, Docker
 \, k8s\n開発プロセス：アジャイル（大規模スクラム LeSS
 等）、ウォーターフォール\nコードレビュー：Pull Reques
 t ベース（GitLabのMergeRequest）\nCI\,テスト：GitLab CI\, Jenki
 ns\, gradle\, Selenium/Selenide※ 技術構成はプロダクトによ
 り異なります。\n\n開催概要\n\n日時: 2022/6/7(火) 18:00-18:3
 0\n会場: オンライン（Zoom）\n\nメッセージにて開催前に
 ZoomURLを通知いたします。\nZoomへの入室は5分前からと
 なります。\n\n\n参加費: 無料\n\n※イベント参加人数が
 少ない場合など、内容変更や中止とする場合がござい
 ますのでご了承ください。\nタイムスケジュール\n\n\n\n
 時間\n内容\n\n\n\n\n18:00 ～ 18:05\n会社紹介\n\n\n18:05 ～ 18:2
 5\n事例紹介（チーム体制・仕事の進め方 etc）\n\n\n18:25 
 〜 18:30\nキャリア情報・アンケート\n\n\n18:30\n終了\n\n\n\
 n当社参加メンバー\n\nプロジェクトマネージャー参加
 調整中！\n米田慎太郎 / 技術広報2020年ラクス入社IT出
 版等で新規事業開発、マーケティング、経営企画・内
 部統制やセールス組織のマネジメントを経験。現在は
 技術広報として、イベントやテックブログの企画運営
 を担当。\n菊池伸匡 / 技術広報2021年ラクス入社HR Techプ
 ロダクトのオフショア開発PL等を経験。技術広報とし
 て、エンジニア・デザイナー向けのイベント企画運営
 を担当。社会人大学で情報学を学んでいます。\n\nこち
 らもご覧ください\n【5分でわかる】開発本部紹介資料
 主催の技術イベント一覧テックブログ\n個別に話を聞
 きたいという方向けに・・・\n開発本部中途サイト当
 社サイトよりカジュアル面談も常時受け付けておりま
 す！\n注意事項\n\n当イベントの内容およびスケジュー
 ルは、予告なく変更となる場合があります。予めご了
 承ください。\n他の参加者の方の妨げになるような行
 為は禁止、運営側の判断でご退出をお願いする場合が
 あります。\nブログやSNSなどで当イベントに関する発
 信を行う際には、公序良俗に反する内容のないよう、
 ご協力をお願いします。\n当イベントはオンライン開
 催のため、通信状況によって音声や映像の乱れがある
 場合がございます。\nイベント風景を録画しておりま
 すが、運営改善以外には用いません。皆様の映像は録
 画されませんのでご安心ください。\n配信トラブル時
 のアナウンスはTwitterより行います。\n
LOCATION:オンライン
URL:https://techplay.jp/event/859880?utm_medium=referral&utm_source=ics&utm
 _campaign=ics
END:VEVENT
END:VCALENDAR
