BEGIN:VCALENDAR
VERSION:2.0
PRODID:-//https://techplay.jp//JP
CALSCALE:GREGORIAN
METHOD:PUBLISH
X-WR-CALDESC:【IBMキャリアセミナー】IBM戦略と金融サービ
 スが目指す未来
X-WR-CALNAME:【IBMキャリアセミナー】IBM戦略と金融サービ
 スが目指す未来
X-WR-TIMEZONE:Asia/Tokyo
BEGIN:VTIMEZONE
TZID:Asia/Tokyo
BEGIN:STANDARD
DTSTART:19700101T000000
TZOFFSETFROM:+0900
TZOFFSETTO:+0900
TZNAME:JST
END:STANDARD
END:VTIMEZONE
BEGIN:VEVENT
UID:859960@techplay.jp
SUMMARY:【IBMキャリアセミナー】IBM戦略と金融サービスが
 目指す未来
DTSTART;TZID=Asia/Tokyo:20220708T190000
DTEND;TZID=Asia/Tokyo:20220708T203000
DTSTAMP:20260422T045206Z
CREATED:20220525T010752Z
DESCRIPTION:イベント詳細はこちら\nhttps://techplay.jp/event/85996
 0?utm_medium=referral&utm_source=ics&utm_campaign=ics\n\nIBMキャリア
 セミナー 〜金融サービスが目指す未来〜\n今年3月に同
 テーマでイベント開催し、ご好評いただきましたので
 ７月も開催が決定いたしました！テクノロジーに強み
 のあるIBMだからこそご提案できるソリューション、DX
 戦略をご紹介します。\n当日は、IBMのビジネス戦略・
 事例紹介だけでなく、中途入社社員登壇のパネルディ
 スカッションを通じて、IBMでのキャリア等もお伝えさ
 せていただく予定です。\nみなさまのご予約、ご参加
 をお待ちしております！\nタイムスケジュール\n\n\n\n時
 間\n内容\n\n\n\n\n18:45〜\n受付開始\n\n\n19:00〜19:05\nOpening\n
 \n\n19:05〜19:20\nIBM戦略と金融が目指す未来\n\n\n19:20〜19:4
 0\nプロジェクト事例紹介\n\n\n19:40〜20:05\nパネルディス
 カッション\n\n\n20:05〜20:20\n質疑応答\n\n\n20:20〜20:30\n募
 集要項・人事制度説明＆Closing\n\n\n\n※ 当日予告なく時
 間配分・内容が変更になる可能性がございます。\n参
 加対象\n・新しいキャリアを模索されているエンジニ
 アやコンサルタントの方・転職先としてIBMに関心を抱
 いている方\n特にコンサルファームやITベンダー・SIer
 、金融機関において、金融関連のシステム開発やDX戦
 略、業務企画などの職務経験のある方にフィットした
 内容のイベントです。\n＜職種＞・システムエンジニ
 ア・プロジェクトマネージャー、リーダー・コンサル
 タント（IT、戦略、ビジネス（業務/分析）・金融機関
 のIT部門や経営企画でシステム構築やIT戦略に従事され
 たことのある方など\n参加費\n無料\nハッシュタグ\n#tech
 playjp
LOCATION:オンライン（事前予約制 予約者に接続情報をご
 案内いたします）
URL:https://techplay.jp/event/859960?utm_medium=referral&utm_source=ics&utm
 _campaign=ics
END:VEVENT
END:VCALENDAR
