BEGIN:VCALENDAR
VERSION:2.0
PRODID:-//https://techplay.jp//JP
CALSCALE:GREGORIAN
METHOD:PUBLISH
X-WR-CALDESC:日産自動車、日揮グループから学ぶ！スター
 トアップ共創のポイントとこれからの共創戦略につい
 て／カーボンリサイクル／車×ゲーミング、健康、美
 容etc【BAK CONNECTING DAY #07】
X-WR-CALNAME:日産自動車、日揮グループから学ぶ！スター
 トアップ共創のポイントとこれからの共創戦略につい
 て／カーボンリサイクル／車×ゲーミング、健康、美
 容etc【BAK CONNECTING DAY #07】
X-WR-TIMEZONE:Asia/Tokyo
BEGIN:VTIMEZONE
TZID:Asia/Tokyo
BEGIN:STANDARD
DTSTART:19700101T000000
TZOFFSETFROM:+0900
TZOFFSETTO:+0900
TZNAME:JST
END:STANDARD
END:VTIMEZONE
BEGIN:VEVENT
UID:859990@techplay.jp
SUMMARY:日産自動車、日揮グループから学ぶ！スタートア
 ップ共創のポイントとこれからの共創戦略について／
 カーボンリサイクル／車×ゲーミング、健康、美容etc
 【BAK CONNECTING DAY #07】
DTSTART;TZID=Asia/Tokyo:20220628T160000
DTEND;TZID=Asia/Tokyo:20220628T171000
DTSTAMP:20260419T172535Z
CREATED:20220525T045449Z
DESCRIPTION:イベント詳細はこちら\nhttps://techplay.jp/event/85999
 0?utm_medium=referral&utm_source=ics&utm_campaign=ics\n\n概要\nBAK（
 ビジネスアクセラレーターかながわ）は課題解決に取
 り組む企業と、斬新なアイデアや優れた技術を持つベ
 ンチャー企業との共創によって、新たな事業に繋がる
 出会いを生み出す神奈川県の取組です。\n本イベント
 では昨年（2021年度）に始まった共創プロジェクトに関
 わった方々をお招きしBAKの活動内容や共創の進め方、
 事業化へ向けた考え方などを広く共有いたします。\n
 共創にあたって意識したポイント（意識のギャップの
 そろえ方、進め方、寄り添っていったか）、昨年度、
 共創にあたって困ったことおよび乗り越え方（SU側に
 合わせたいがどうしても難しかったポイント）、今後
 のオープンイノベーション活動テーマについてお話い
 ただきます。\n①「日産自動車のオープンイノベーシ
 ョン～車離れしたZ世代に向けた新たな挑戦～　車×”
 〇〇”で生活がさらに楽しくなることを目指して！　
 ＃Gaming #健康 #美容 etc」　　日産自動車株式会社　商
 品企画部　石丸　嵩将　氏\nスタートアップとの共創
 の中で大手企業として乗り越えた壁、共創するにあた
 ってのTipsにくわえ、これからのVisionや取り組みたい領
 域についてもご紹介いただきます！\n②「日揮グルー
 プのオープンイノベーション～大規模プラントにおけ
 る作業者の位置情報取得ソリューション／カーボンリ
 サイクルに向けた取組～」　　日揮グローバル株式会
 社　DX部・エンジニア　細谷 竜馬　氏　　日揮ホール
 ディングス株式会社　サステナビリティ協創部　田中
 悠太　氏\n※「ビジネスアクセラレーターかながわ（BA
 K：バク）」とは…神奈川県では、県内に拠点を持つ大
 企業と質の高いベンチャー企業による事業連携プロジ
 ェクトの創出と、オープンイノベーションに向けたコ
 ミュニティ形成を目的として、大企業・ベンチャー企
 業・研究機関・支援機関等に参画いただく協議会「BAK
 」を運営しています（参加企業343社：2022年4月時点）
 。BAKでは、企業が抱える課題や実現したいテーマに基
 づき、大企業等とベンチャー企業のマッチングを行い
 、事業化に向けた支援を行っています。\nタイムスケ
 ジュール\n16：00～　オープニング\n16：05～　ビジネス
 アクセラレーターかながわ（BAK：バク）の取組につい
 て\n16：15～　プロジェクト内容の共有\n①「日産自動
 車のオープンイノベーション～車離れしたZ世代に向け
 た新たな挑戦～　車×”〇〇”で生活がさらに楽しく
 なることを目指して！　＃Gaming #健康 #美容 etc」　　
 日産自動車株式会社　商品企画部　石丸　嵩将　氏\n
 ②「日揮グループのオープンイノベーション～大規模
 プラントにおける作業者の位置情報取得ソリューショ
 ン／カーボンリサイクルに向けた取組～」　　日揮グ
 ローバル株式会社　DX部・エンジニア　細谷 竜馬　氏
 　　日揮ホールディングス株式会社　サステナビリテ
 ィ協創部　田中悠太　氏\n16：30～　参加者からのQ＆A
 をもとにパネルディスカッション\n17：00～　全体まと
 め、クロージング\n17：10　　終了\n※ 当日予告なく時
 間配分・内容が変更になる可能性がございます。\n登
 壇者\n・日産自動車株式会社　商品企画部　石丸 嵩将 
 氏・日揮グローバル株式会社　DX部・エンジニア　細
 谷 竜馬 氏　日揮ホールディングス株式会社　サステ
 ナビリティ協創部　田中悠太　氏\n主催・運営\n\n\n参
 加費・参加方法\n無料オンライン（Zoom）開催 (参加方
 法は別途ご案内させていただきます)\n\nこんな方にお
 すすめ\n\n\nスタートアップとの共創を希望する大手企
 業新事業担当者\n神奈川県のスタートアップと繋がり
 たい事業会社\nビジネスアクセラレーターかながわ（BA
 K）に関心のある企業など\n\n\n注意事項\n※ 営業、勧誘
 目的でのイベント参加はお断りいたします。※ 参加を
 辞退する場合は、詳細ページより申込のキャンセルを
 お願い致します。※ 無断キャンセル・欠席が続く場合
 、次回以降の参加をお断りさせていただく場合がござ
 いますのでご了承ください。\n
LOCATION:Zoom開催 (参加方法は別途ご案内させていただきま
 す)
URL:https://techplay.jp/event/859990?utm_medium=referral&utm_source=ics&utm
 _campaign=ics
END:VEVENT
END:VCALENDAR
