BEGIN:VCALENDAR
VERSION:2.0
PRODID:-//https://techplay.jp//JP
CALSCALE:GREGORIAN
METHOD:PUBLISH
X-WR-CALDESC:【SNS × 広告 × 営業ツール】発注率を最大化さ
 せるWEBマーケティング術一挙公開！
X-WR-CALNAME:【SNS × 広告 × 営業ツール】発注率を最大化さ
 せるWEBマーケティング術一挙公開！
X-WR-TIMEZONE:Asia/Tokyo
BEGIN:VTIMEZONE
TZID:Asia/Tokyo
BEGIN:STANDARD
DTSTART:19700101T000000
TZOFFSETFROM:+0900
TZOFFSETTO:+0900
TZNAME:JST
END:STANDARD
END:VTIMEZONE
BEGIN:VEVENT
UID:860262@techplay.jp
SUMMARY:【SNS × 広告 × 営業ツール】発注率を最大化させ
 るWEBマーケティング術一挙公開！
DTSTART;TZID=Asia/Tokyo:20220621T140000
DTEND;TZID=Asia/Tokyo:20220621T150000
DTSTAMP:20260419T114416Z
CREATED:20220527T005103Z
DESCRIPTION:イベント詳細はこちら\nhttps://techplay.jp/event/86026
 2?utm_medium=referral&utm_source=ics&utm_campaign=ics\n\n【SNS × 広告
  × 営業ツール】 発注率を最大化させるWEBマーケティ
 ング術一挙公開！\n\n第一部（14:03-14:13）：株式会社BESW
 \nSNSオーガニック運用から新規リーチを最大化させる
 方法をご紹介！\nSNS活用は今や当たり前とされる世の
 中ですが、本質的に成功している企業はどのくらい存
 在するのでしょうか？ 第一部ではSNSの基本的なノウ
 ハウはもちろん、土台となる運用体制や目的設定など
 、実際に企業がどうSNSを活用させていくか分かりやす
 く解説します！\n– こんな方におすすめです –\n・今
 後、SNS集客を強化していきたい方・SNSアカウントの戦
 略にお悩みの方・集客にお困りのマーケティング担当
 者・SNSを効果的に活用したい方\n– こんなことが学べ
 ます –\n・SNS最新動向・SNS集客におけるユーザーコミ
 ュニケーションの必要性・SNSの運用戦略の立て方\n– 
 スピーカー –\n\n田中 千晶\n株式会社BESW　代表取締役
 社長2009年、大学在学中に会社を設立し、1年半で大手
 企業、中小企業50社と取引をする。Webプロモーション
 支援を得意とし、特にSNS活用支援で多くの実績をもつ
 。2012年から全国各地でセミナーを精力的に実施。シリ
 コンバレーのFacebook本社やTwitter本社へ毎年出向いて直
 接SNSの最先端情報を仕入れてきている。角川出版社、
 マイナビ社、技術評論社、翔泳社、インプレス社でマ
 ーケティング支援の書籍を6冊出版。連載も7社で行う
 。自身のラジオ番組、パーソナリティとしても活動し
 、SNSの最新情報を届けている。\n\n第二部（14:14 – 14:24
 ）：ソル―株式会社\n超入門！インターネット広告\n情
 報も流行もツールも目まぐるしく変動する時代で可能
 性を限界づけないSOLUは厳密さをもち柔軟な思考でお客
 様と一緒に勝ちパターンを探ります。\n– こんな方に
 おすすめです –\n・リード獲得をしたい方・初めて広
 告を実施したい方・広告効果が上がらず悩んでいる方\
 n– こんなことが学べます –\n・幅広いリード獲得方
 法・広告からのリード獲得方法\n\n– スピーカー –\n\n
 木村 泰規\nソル―株式会社2021年9月にソルーへ参画。
 クライアント様の業界は人材紹介業・EC・不動産業・
 留学支援業など幅広く、媒体はリスティング広告・SNS
 広告・アドネットワークをはじめ数多くの媒体を活用
 した獲得型WEB広告の戦略設計を得意としている。営業
 ・各運用媒体の分析だけでなく、 Google Analytics分析、
 クリエイティブや記事・LP構成案の作成、タグマネー
 ジャーの設定全般などトータルで行う。\n\n第三部（14:
 25 – 14:35）：株式会社アイドマ・ホールディングス\n
 アイドマ式骨の髄まで食らいつくすリード活用術\nご
 発注頂くまでが営業。そんな言葉が存在しているアイ
 ドマ・ホールディングスですが、今回はアイドマでど
 のようにリードを創出してご発注まで繋げるかを紹介
 します。その中で中小企業でも明日からマネできるこ
 とをお伝えします。\n– こんな方におすすめです –\n
 ・営業強化したい企業様・商談数をもっと増やしたい
 企業様・アイドマでどのように営業しているか興味が
 ある企業様\n– こんなことが学べます –\n・リード不
 足改善方法・ゼロからコンテンツを作る方法・顧客育
 成方法\n\n– スピーカー\n\n柘植 信英\n株式会社アイド
 マ・ホールディングス  マーケティング課セミナー室
 長\n大学院時代「先進国」の所得格差などの労働経済
 を専門としており、「個人の生産性の最大化」を掲げ
 インターンしていた時に一緒にさせていただいたエン
 ジニアのメンバーと志をともにして創業。「どこでも
 デスクトップ」を開発着手。総額１億円程度の機関投
 資家\,個人投資家などから調達。２０２１年９月にア
 イドマ・ホールディングスに事業譲渡を実施。次世代
 の経営を広げるためにアイドマ・ホールディングスに
 参画。現在、マーケティング課でセミナー室長として
 活躍中。FB:https://www.facebook.com/T.nobuhide/ Twitter:https://twit
 ter.com/gorigoriran3\n\nセミナー詳細情報\n【日程】 6月21日(
 火)　14:00-15:00\n【タイムスケジュール】・14:00-14:02 司
 会アナウンス（笹本）・14:03-14:13 株式会社BESW・14:14-14:
 24 ソルー株式会社・14:25-14:35 株式会社アイドマ・ホー
 ルディングス・14:36-14:51 ディスカッション・14:52-14:58 
 質疑応答・14:59-15:00 司会アナウンス（笹本）\n【定員
 】100名\n【注意事項】・WEBのみの開催となりますので
 、ご了承ください。エントリーいただいた方に、前日
 までにWEBセミナー開催のURLをお送りします。※WEBツー
 ル：Zoomウェビナー・競合、同業社様（求人広告代理店
 、ウェブ広告代理店等）のご参加はお断りいたします
 。・お申し込み後にやむを得ずご欠席される場合は、
 お手数ですが前日までに（info@bes-japan.jp　担当:笹本）
 宛にご連絡ください。
LOCATION:オンライン
URL:https://techplay.jp/event/860262?utm_medium=referral&utm_source=ics&utm
 _campaign=ics
END:VEVENT
END:VCALENDAR
