BEGIN:VCALENDAR
VERSION:2.0
PRODID:-//https://techplay.jp//JP
CALSCALE:GREGORIAN
METHOD:PUBLISH
X-WR-CALDESC:QAエンジニアの仕事紹介／カジュアル説明会
X-WR-CALNAME:QAエンジニアの仕事紹介／カジュアル説明会
X-WR-TIMEZONE:Asia/Tokyo
BEGIN:VTIMEZONE
TZID:Asia/Tokyo
BEGIN:STANDARD
DTSTART:19700101T000000
TZOFFSETFROM:+0900
TZOFFSETTO:+0900
TZNAME:JST
END:STANDARD
END:VTIMEZONE
BEGIN:VEVENT
UID:860578@techplay.jp
SUMMARY:QAエンジニアの仕事紹介／カジュアル説明会
DTSTART;TZID=Asia/Tokyo:20220606T121500
DTEND;TZID=Asia/Tokyo:20220606T124500
DTSTAMP:20260424T100424Z
CREATED:20220530T073444Z
DESCRIPTION:イベント詳細はこちら\nhttps://techplay.jp/event/86057
 8?utm_medium=referral&utm_source=ics&utm_campaign=ics\n\nイベント概
 要\nエンジニアの皆様に、ラクスの開発組織の取り組
 みとキャリアを知っていただく気軽なトークイベント
 です。\nラクスはBtoB SaaSのマルチヒットメーカーとし
 て、延べ約80\,000社のお客様にプロダクトをご利用いた
 だいています。サービスの数だけ開発チーム、インフ
 ラチームが存在しており、品質向上・品質管理へ向け
 てQA体制を強化しています。\n今回は当社内でも最大の
 開発規模を持つ「楽楽精算」を事例に、 開発プロセス
 の品質管理体制を立ち上げるQAエンジニアの仕事をご
 紹介します！\nこんなことをお話します\n\nQAエンジニ
 アの役割、仕事内容\nプロダクト紹介\n開発プロセスと
 品質管理\nキャリアパス/得られる経験\n募集ポジショ
 ン/選考フロー\n\nこんな方におススメ\n\nラクスの選考
 に興味がありポジションについて聞きたい方\nラクス
 の開発チームの体制、技術スタック、働き方について
 知りたい方\nQAエンジニア、SET(SDET)エンジニア、テスト
 エンジニアの方\n\nお申込はこちら\n\nお申込期日：2022/
 6/6(月) 11:00迄\nイベント画面 「このイベントに申し込
 む」 よりご登録ください\n\n参考※当社技術スタック(
 一部)\n\n言語：Java\, PHP\, Go\, Python\, Node.js\nフレームワ
 ーク: Spring Boot\, Laravel 等\nフロントエンド： TypeScript\, 
 React/Redux\, Vue.js\nインフラ：オンプレミス\, AWS\, Docker\, 
 k8s\n開発プロセス：アジャイル（大規模スクラム LeSS等
 ）、ウォーターフォール\nコードレビュー：Pull Request 
 ベース（GitLabのMergeRequest）\nCI\,テスト：GitLab CI\, Jenkins
 \, gradle\, Selenium/Selenide\n\n※ 技術構成はプロダクトによ
 り異なります。\n開催概要\n\n日時: 2022/6/6(月) 12:15-12:45\
 n会場: オンライン（Zoom）\n\nメッセージにて開催前にZo
 omURLを通知いたします。\nZoomへの入室は10分前からとな
 ります。\n\n\n参加費: 無料\n\n※イベント参加人数が少
 ない場合など、中止とする場合がございますのでご了
 承ください。\nタイムスケジュール\n\n\n\n時間\n内容\n\n
 \n\n\n12:15 ～ 12:20\n司会紹介 / 会社概要\n\n\n12:20 ～ 12:40\n
 事例紹介（チーム体制・技術スタック・開発プロセス 
 etc）＆キャリア情報\n\n\n12:40 〜 12:45\nアンケート\n\n\n12
 :45\n終了\n\n\n\n当社参加メンバー\n\nQAマネージャー 登
 壇調整中！\n米田慎太郎 / 技術広報2020年ラクス入社IT
 出版等で新規事業開発、マーケティング、経営企画・
 内部統制やセールス組織のマネジメントを経験。現在
 は技術・採用広報として、イベントやテックブログの
 企画運営を担当。\n菊池伸匡 / 技術広報2021年ラクス入
 社HR Techプロダクトのオフショア開発PL等を経験。現在
 はラクスの技術広報として、エンジニア・デザイナー
 向けのイベント企画運営を担当。社会人大学で機械学
 習を学んでいました（先日無事卒業）\n\nこちらもご覧
 ください\n【5分でわかる】開発本部紹介資料主催の技
 術イベント一覧テックブログ開発本部中途サイト\n注
 意事項\n\n当イベントの内容およびスケジュールは、予
 告なく変更となる場合があります。予めご了承くださ
 い。\n他の参加者の方の妨げになるような行為は禁止
 、運営側の判断でご退出をお願いする場合があります
 。\nブログやSNSなどで当イベントに関する発信を行う
 際には、公序良俗に反する内容のないよう、ご協力を
 お願いします。\n当イベントはオンライン開催のため
 、通信状況によって音声や映像の乱れがある場合がご
 ざいます。\nイベント風景を録画しておりますが、運
 営改善以外には用いません。皆様の映像は録画されま
 せんのでご安心ください。\n配信トラブル時のアナウ
 ンスはTwitterより行います。\n
LOCATION:オンライン
URL:https://techplay.jp/event/860578?utm_medium=referral&utm_source=ics&utm
 _campaign=ics
END:VEVENT
END:VCALENDAR
