BEGIN:VCALENDAR
VERSION:2.0
PRODID:-//https://techplay.jp//JP
CALSCALE:GREGORIAN
METHOD:PUBLISH
X-WR-CALDESC:オンライン展示会×メールマーケティング完全
 ガイド ～低コストで多数のリードを獲得し育成する方
 法～
X-WR-CALNAME:オンライン展示会×メールマーケティング完全
 ガイド ～低コストで多数のリードを獲得し育成する方
 法～
X-WR-TIMEZONE:Asia/Tokyo
BEGIN:VTIMEZONE
TZID:Asia/Tokyo
BEGIN:STANDARD
DTSTART:19700101T000000
TZOFFSETFROM:+0900
TZOFFSETTO:+0900
TZNAME:JST
END:STANDARD
END:VTIMEZONE
BEGIN:VEVENT
UID:860682@techplay.jp
SUMMARY:オンライン展示会×メールマーケティング完全ガ
 イド ～低コストで多数のリードを獲得し育成する方法
 ～
DTSTART;TZID=Asia/Tokyo:20220622T140000
DTEND;TZID=Asia/Tokyo:20220622T150000
DTSTAMP:20260420T005333Z
CREATED:20220531T043310Z
DESCRIPTION:イベント詳細はこちら\nhttps://techplay.jp/event/86068
 2?utm_medium=referral&utm_source=ics&utm_campaign=ics\n\nオンライン
 展示会×メールマーケティング完全ガイド【オンライ
 ン・無料】\n概要\nコロナ禍でのデジタルシフトの影響
 もあり、Webでの集客に取り組む企業が増えています。\
 nしかしながら、新規リードの獲得において、思うよう
 な成果をあげられず課題を感じている企業が多いのも
 事実。より低コスト＆短期間で多数のリードを獲得す
 ることが重要となってきます。\nまた、BtoBマーケティ
 ングにおいては、リード獲得数を増やすことはもちろ
 ん、メルマガを活用し獲得したリードを育成すること
 が効果を最大限に発揮するポイントになります。\nそ
 こで今回は 『オンライン展示会×メールマーケティン
 グ完全ガイド～低コストで多数のリードを獲得し育成
 する方法～』 というテーマで、新規リード獲得からナ
 ーチャリングまでの手法を事例を交えて紹介。\n・オ
 ンライン展示会の成功方法が分からない・メールマー
 ケティングで思うような成果が出ない\nそんな課題を
 お持ちの方は是非ご参加ください。\nこんな人におす
 すめ\n\n新規リード獲得に苦戦している方\nオンライン
 展示会の成功方法を知りたい方\nメルマガ配信での顧
 客育成に興味のある方\nメールマーケティングで成果
 をあげる秘訣を知りたい方\n\n詳細\n\n\n\n\n詳細情報\n\n\
 n\n\n日程\n2022年6月22日(水)14時00分～15時00分\n\n\n参加費\
 n無料（オンライン開催）※お申し込み後に、専用URLを
 お送りします。\n\n\n定員\n100名\n\n\n内容1\nコロナ禍の
 新規リード獲得に最適！オンライン展示会のご紹介 
 ・オンライン展示会とは・リアル展示会との違いは？
 ・リード単価¥1\,000【Digital Shift EXPO】ご紹介・受注に
 つなげるコツ登壇者：株式会社アイエンター　大倉 洋
 央\n\n\n内容2\n見込み顧客を育成するメールマーケティ
 ング戦略・BtoBにおけるリードナーチャリングの設計方
 法・コールドリードをホットリード化するコツ・今日
 から使えるメールマーケティングTips登壇者：株式会社
 ラクスライトクラウド　森神 佑希\n\n\n参加方法\n・セ
 ミナー内容は変更となる場合があります・同業他社の
 方の申し込みはお断りをさせて頂いております・フリ
 ーメールアドレス（Gmail 等）でのお申込はご遠慮くだ
 さい・複数名でご参加される場合は、それぞれ別のメ
 ールアドレスでお申込ください\n\n\nお問合せ先\n株式
 会社ラクスライトクラウド セミナー運営事務局Mail：rl
 c-info@rakus-lc.co.jp\n\n\n
LOCATION:オンライン(zoom)
URL:https://techplay.jp/event/860682?utm_medium=referral&utm_source=ics&utm
 _campaign=ics
END:VEVENT
END:VCALENDAR
