BEGIN:VCALENDAR
VERSION:2.0
PRODID:-//https://techplay.jp//JP
CALSCALE:GREGORIAN
METHOD:PUBLISH
X-WR-CALDESC:UIデザイナーの仕事紹介／カジュアル説明会
X-WR-CALNAME:UIデザイナーの仕事紹介／カジュアル説明会
X-WR-TIMEZONE:Asia/Tokyo
BEGIN:VTIMEZONE
TZID:Asia/Tokyo
BEGIN:STANDARD
DTSTART:19700101T000000
TZOFFSETFROM:+0900
TZOFFSETTO:+0900
TZNAME:JST
END:STANDARD
END:VTIMEZONE
BEGIN:VEVENT
UID:860912@techplay.jp
SUMMARY:UIデザイナーの仕事紹介／カジュアル説明会
DTSTART;TZID=Asia/Tokyo:20220609T121500
DTEND;TZID=Asia/Tokyo:20220609T124500
DTSTAMP:20260425T021441Z
CREATED:20220601T083243Z
DESCRIPTION:イベント詳細はこちら\nhttps://techplay.jp/event/86091
 2?utm_medium=referral&utm_source=ics&utm_campaign=ics\n\nイベント概
 要\nラクスでは、ビジネスの業務効率化や付加価値向
 上を支援するSaaSを多数提供しており、延べ80\,000社の
 お客様にご利用いただいています。業務効率化SaaS「楽
 楽シリーズ」をはじめとする多くのサービスのUI/UXを
 プロダクトデザイン専門組織が手掛けています。\n\n\n
 ラクスのプロダクト一覧\n\n\nデザイナー組織紹介サイ
 ト\n\n\nデザインマネージャー紹介\n\n\n本イベントはSaaS
 のデザインにご興味をお持ちの方向けに、組織体制、
 プロダクトUI、業務内容、キャリアパスなどを気楽に
 ご紹介するイベントです。\nこんなことをお話します\n
 \n会社紹介/組織紹介\nチーム体制\nワークフロー\nキャ
 リアパス\n募集ポジション/選考フロー\n\nこんな方にお
 ススメ\n\nラクスのUI/UXデザイナーのキャリアにご興味
 のある方\nラクスのデザイン組織の体制、ワークフロ
 ー、働き方について知りたい方\nラクスの選考に興味
 がありポジションについて聞きたい方\n\nお申込はこち
 ら\n\nお申込期日：2022/6/9(木) 11:00迄\nconnpass画面 「こ
 のイベントに申し込む」 よりご登録ください\n\n※ご
 参考 ラクスのデザインツール・技術スタック（一部）
 \n\nデザインツール： Figma\, Illustrator\, Photoshop\n言語：Ja
 va\, PHP\, Go\, Python\, Node.js\, Kotlin\, Swift\nフレームワーク:
  Spring Boot\, Laravel 等\nフロントエンド： TypeScript\, React/R
 edux\, Vue.js\nインフラ：オンプレミス\, AWS\, Docker\, k8s\n
 開発プロセス：アジャイル（大規模スクラム LeSS等）
 、ウォーターフォール\nコードレビュー：Pull Request ベ
 ース（GitLabのMergeRequest）\nCI\,テスト：GitLab CI\, Jenkins\, 
 gradle\, Selenium/Selenide※ 技術構成はプロダクトにより異
 なります。\n\n開催概要\n\n日時: 2022/6/9(木) 12:15-12:45\n会
 場: オンライン（Zoom）\n\nメッセージにて開催前にZoomUR
 Lを通知いたします。\nZoomへの入室は5分前からとなり
 ます。\n\n\n参加費: 無料\n\n※イベント参加人数が少な
 い場合など、中止とする場合がございますのでご了承
 ください。\nタイムスケジュール\n\n\n\n時間\n内容\n\n\n\
 n\n12:15 ～ 12:20\n会社紹介\n\n\n12:20 ～ 12:40\n事例紹介（チ
 ーム体制・仕事の進め方、プロセス、デザイン事例 etc
 ）\n\n\n12:40 〜 12:45\nキャリア情報・アンケート\n\n\n12:45
 \n終了\n\n\n\n当社参加メンバー\n\nデザイナーマネージ
 ャー or メンバー登壇調整中\n菊池伸匡 / 技術広報2021年
 ラクス入社HR Techプロダクトのオフショア開発PL等を経
 験。技術広報として、エンジニア・デザイナー向けの
 イベント企画運営を担当。社会人大学で情報学を専攻
 しました。\n結城萌子 / 技術広報2022年ラクス入社新卒
 から約7年、総合出版社の広報担当を経験。現在は技術
 広報として技術・デザインイベント企画運営や開発組
 織のメディア担当。\n\nこちらもご覧ください\n【5分で
 わかる】開発本部紹介資料主催イベント一覧テックブ
 ログ開発本部中途サイト\n注意事項\n\n当イベントの内
 容およびスケジュールは、予告なく変更となる場合が
 あります。予めご了承ください。\n他の参加者の方の
 妨げになるような行為は禁止、運営側の判断でご退出
 をお願いする場合があります。\nブログやSNSなどで当
 イベントに関する発信を行う際には、公序良俗に反す
 る内容のないよう、ご協力をお願いします。\n当イベ
 ントはオンライン開催のため、通信状況によって音声
 や映像の乱れがある場合がございます。\nイベント風
 景を録画しておりますが、運営改善以外には用いませ
 ん。皆様の映像は録画されませんのでご安心ください
 。\n配信トラブル時のアナウンスはTwitterより行います
 。\n
LOCATION:オンライン
URL:https://techplay.jp/event/860912?utm_medium=referral&utm_source=ics&utm
 _campaign=ics
END:VEVENT
END:VCALENDAR
