BEGIN:VCALENDAR
VERSION:2.0
PRODID:-//https://techplay.jp//JP
CALSCALE:GREGORIAN
METHOD:PUBLISH
X-WR-CALDESC:集客の仕組み構築セミナー
X-WR-CALNAME:集客の仕組み構築セミナー
X-WR-TIMEZONE:Asia/Tokyo
BEGIN:VTIMEZONE
TZID:Asia/Tokyo
BEGIN:STANDARD
DTSTART:19700101T000000
TZOFFSETFROM:+0900
TZOFFSETTO:+0900
TZNAME:JST
END:STANDARD
END:VTIMEZONE
BEGIN:VEVENT
UID:861102@techplay.jp
SUMMARY:集客の仕組み構築セミナー
DTSTART;TZID=Asia/Tokyo:20220616T133000
DTEND;TZID=Asia/Tokyo:20220616T153000
DTSTAMP:20260420T153437Z
CREATED:20220603T001524Z
DESCRIPTION:イベント詳細はこちら\nhttps://techplay.jp/event/86110
 2?utm_medium=referral&utm_source=ics&utm_campaign=ics\n\n集客の仕組
 み構築セミナーを開催します！\n概要\n【告知】セミナ
 ー開催します\nこんにちは。株式会社SPSの新野です。\n
 この度、集客の仕組みに関するセミナーを開催します
 ！\nセミナーに参加することで\nホームページを使って
 売上を上げるための方法や事業を伸ばしていく方法を
 知ることができ、社内のWeb戦略が今後うまく行くのか
 を判断できるようになります。\nセミナー内容は以下
 のとおりです↓\n━━━━━━━━━━━━✅たった
 一枚のホームページでお問い合わせ数１０倍を達成し
 た方法\n✅売るで一番重要なベネフィットと機能の違
 いを理解できます\n✅競合に先んじて選ばれるための
 分析の仕方がわかります━━━━━━━━━━━━\n6/
 16日 香川県高松市の「香川県産業頭脳化センター」で1
 3:30より90分\n先着30名様限定で参加者を募集しておりま
 す。\n中小企業から大企業まで数多くのWeb集客のコン
 サルティングをしてきた新野がWeb集客の本質について
 、1時間半出し惜しみ無く説明をさせていただきます。
 \n興味ある方は今すぐお申し込みください！\nタイムス
 ケジュール\n\n\n\n時間\n内容\n\n\n\n\n13:30~\n会場\n\n\n14:00~
 14:45\nセミナー前半\n\n\n14:45~14:55\n休憩\n\n\n14:55~15:30\nセ
 ミナー後半\n\n\n\n\n\n\n※ 当日予告なく時間配分・内容
 が変更になる可能性がございます。\n\n\n\n\n登壇者\n\n
 新野 剛士（あらの たけし）\n株式会社SPS　Webマーケテ
 ィング部\n登壇者略歴\n福祉専門学校を卒業後、27歳ま
 では高齢者福祉施設、在宅介護支援センターで勤務。\
 n2003年に営業の世界へ転身。リフォーム、太陽光発電
 システム販売部門の取締役兼事業本部長へ就任。予算
 責任者として今後の採用教育、効率化と拡張性に悩む
 中でインターネット広告の存在を知り、独学でWEBマー
 ケティングを習得し、自ら数多くの成功体験を蓄積。\
 n2012年にはWEBマーケティング領域を専門としたコンサ
 ル会社を起業。\n（日本／フィリピンセブシティにて
 同時期に会社を設立）\n起業したコンサル会社では、
 海外ウェブマーケティングにも取り組み、大手食品メ
 ーカーの越境ECやホテルグループの海外向けのブラン
 ディング等に携わり、世界各国のトレンドにマッチし
 たマーケティング手法を生み出し、多くの企業の海外
 進出のサポートを経験。\nまた、フィリピンではオン
 ライン英会話事業、語学学校の運営に携わり、WEBマー
 ケティングのみで売上構築フローを確立。\nコンサル
 ティング業務の委託のみではなく、自社投資によるWEB
 セールスを継続的に実施。\nその後、現アドリヴ代表
 である縣へ事業譲渡し、急成長拡大中の会社の一翼を
 担っている。\n\n\n参加対象\n\n\n\nホームページを活用
 して売上をあげる方法を知りたい経営者様、ご担当者
 様\n\n\n事業を伸ばしていく方法が知りたい経営者、ご
 担当者様\n\n\nWebを使った集客が社内にまだ根付いてい
 ない経営者様、ご担当者様\n\n\n※同業者様の参加はご
 遠慮しております\n参加費\n無料\n\n注意事項\n\nリクル
 ーティング、勧誘など、採用目的でのイベント参加は
 お断りしております。\nキャンセル待ち・補欠・落選
 の方はご参加いただくことが出来ませんのでご了承く
 ださい。\n欠席される場合は、お手数ですが速やかに
 キャンセル処理をお願い致します。\n無断キャンセル
 や欠席が続く場合、次回以降の参加をお断りさせてい
 ただく場合がございます。\n
LOCATION:香川県産業頭脳化センター 〒761-0301 香川県高松
 市林町２２１７−１５
URL:https://techplay.jp/event/861102?utm_medium=referral&utm_source=ics&utm
 _campaign=ics
END:VEVENT
END:VCALENDAR
