BEGIN:VCALENDAR
VERSION:2.0
PRODID:-//https://techplay.jp//JP
CALSCALE:GREGORIAN
METHOD:PUBLISH
X-WR-CALDESC:【無料:オンライン】データサイエンス超入門
X-WR-CALNAME:【無料:オンライン】データサイエンス超入門
X-WR-TIMEZONE:Asia/Tokyo
BEGIN:VTIMEZONE
TZID:Asia/Tokyo
BEGIN:STANDARD
DTSTART:19700101T000000
TZOFFSETFROM:+0900
TZOFFSETTO:+0900
TZNAME:JST
END:STANDARD
END:VTIMEZONE
BEGIN:VEVENT
UID:861201@techplay.jp
SUMMARY:【無料:オンライン】データサイエンス超入門
DTSTART;TZID=Asia/Tokyo:20220708T200000
DTEND;TZID=Asia/Tokyo:20220708T213000
DTSTAMP:20260421T092206Z
CREATED:20220604T025124Z
DESCRIPTION:イベント詳細はこちら\nhttps://techplay.jp/event/86120
 1?utm_medium=referral&utm_source=ics&utm_campaign=ics\n\n概要\nデー
 タサイエンスとは何か？\nデータで溢れる現代社会に
 おいて、「データサイエンス」が広く活用されていま
 す。データサイエンスで問題解決をしたい、業務に活
 かしたいなど、要望はたくさんあるものの、書籍で学
 ぶには難しく、その中身があまり理解されていないか
 と思っています。\n近年では大量のデータが簡単に集
 められるようになり、社内においても使われていない
 データが多々ある状態になってきています。しかし、
 データサイエンスに長けた人材がなかなか育たずに、
 うまく実践的に活用できていない現実が待っています
 。\n本セミナーでは、データサイエンスの概要や全体
 像をつかみ、統計学・機械学習の違いを理解し、ビジ
 ネスでどのように活かされているかを学びます。代表
 的な手法である「記述統計とその応用」、「確率をと
 らえるための考え方」、「推定と統計的仮説検定につ
 いて」、「多変量解析」、「機械学習」などについて
 、データを元に実際にお見せしながら体感的にイメー
 ジできるよう説明していきます。※かんたんな入門的
 な内容となります。（数式を用いず、Excelベースで学
 べる範囲を行います。）\n初心者の方やはじめて学ぶ
 方、データサイエンスがどのようなものか知りたい方
 など、無料で受講できますのでお待ちしております。
 ※高度なデータ分析・解析を学びたい方は、無料の個
 別相談をご活用ください。\n本セミナーは別日にも開
 催しております。スケジュールが合わない場合は弊社W
 ebページ（こちら）から他日程をご確認ください。\nセ
 ミナー内容\n・データサイエンスとは何か・データを
 扱う手順と流れ・記述統計とその応用・確率をとらえ
 るための考え方・推定と検定について・多変量解析と
 は・機械学習とその概要・データサイエンスの勉強ス
 テップと学習方法\n講師\n綱島　佑介（つなしま　ゆう
 すけ）\n大学卒業後、金融・製造・医療・建設・ITなど
 幅広い業務経験を持つ。財務知識をベースとして幅広
 い業界のデータを集計・可視化して把握していること
 に強みを持ち、データ集計をどのように行い、経営に
 つなげ業務改善や雇用計画、売上アップなどに活用す
 るかを現在も実施中。\n簡単に活用できるデータから
 経営に活かす手法や、データ分析に必要なデータ収集
 をどのように設計するか等、現場の統計導入の業務に
 強みを持つ。\n受講対象\n・データサイエンスとは何か
 を簡潔に知りたい方・これからデータサイエンスを勉
 強したい方・統計学や機械学習に興味がある方・統計
 を難しいと思っている方・社内のデータを活用したい
 方・データに対する感覚を身に着けたい方・仕事で活
 かせるスキルを身に着けたい方\n必要事項\nzoomを用い
 てセミナーを行いますので、ブラウザが利用できるPC
 やタブレットなどの環境をご用意ください。\nご参加
 にあたって（必ずご確認ください）\n■開催当日は、
 以下の手順でご入場いただけます。\n\nメニューよりマ
 イページの「参加申込イベント」を選択\n本セミナー
 の「詳細ページへ」を選択\nセミナー詳細ページの「
 オンライン配信情報」にある【配信ページを表示】ボ
 タンを押すとzoomの会場ページに繋がります。\n\n■開
 場は開催の約15分前となります。それ以前のご入場は
 お控え下さい。■開催当日の電話対応はできかねます
 。お問合せはメール、もしくはお問合せフォームより
 お願い致します。■iPad等タブレットの使用は一部機能
 が制限される場合がございます。パソコン端末でのご
 参加を推奨いたします。\n参加費\n~~3\,00~~~~0~~円　→　
 期間限定 無料\n注意事項\n\n欠席される場合は、お手数
 ですが速やかにキャンセル処理をお願い致します。\n
 無断キャンセルや欠席が続く場合、次回以降の参加を
 お断りさせていただく場合がございます。\n
LOCATION:オンライン
URL:https://techplay.jp/event/861201?utm_medium=referral&utm_source=ics&utm
 _campaign=ics
END:VEVENT
END:VCALENDAR
