BEGIN:VCALENDAR
VERSION:2.0
PRODID:-//https://techplay.jp//JP
CALSCALE:GREGORIAN
METHOD:PUBLISH
X-WR-CALDESC:Rustで書かれたOS Redoxを読む会 #4
X-WR-CALNAME:Rustで書かれたOS Redoxを読む会 #4
X-WR-TIMEZONE:Asia/Tokyo
BEGIN:VTIMEZONE
TZID:Asia/Tokyo
BEGIN:STANDARD
DTSTART:19700101T000000
TZOFFSETFROM:+0900
TZOFFSETTO:+0900
TZNAME:JST
END:STANDARD
END:VTIMEZONE
BEGIN:VEVENT
UID:861335@techplay.jp
SUMMARY:Rustで書かれたOS Redoxを読む会 #4
DTSTART;TZID=Asia/Tokyo:20220704T200000
DTEND;TZID=Asia/Tokyo:20220704T220000
DTSTAMP:20260421T050619Z
CREATED:20220605T211815Z
DESCRIPTION:イベント詳細はこちら\nhttps://techplay.jp/event/86133
 5?utm_medium=referral&utm_source=ics&utm_campaign=ics\n\nRustで書かれ
 たOS Redoxをみんなで読んでいく会です。\n4回目(0-indexed)
 の今回は、hasimoto(k1ha410)さんが Redox Book の Advantages of mi
 crokernelsのあたりの内容を共有してくれる予定です！\n
 各回の発表者がそれぞれの興味範囲について調べ、そ
 れを発表し、みんなでわいわい盛り上がる、という流
 れでこの輪読会は進んでいます。\n初回はhikaliumが担当
 しますが、次回以降は参加者の誰かに発表をお願いし
 ようと思いますので、積極的な参加をお願いいたしま
 す！（終了の前に次の立候補者を募りますので、そこ
 で声をあげていただければ助かります。）\n隔週開催
 を予定していますが、準備状況によっては持ち越しに
 なる可能性もあります。\n聞くだけでの参加でも大歓
 迎です！（もちろん一緒に盛り上がってくれるならさ
 らに大歓迎です！）\n時間は2時間ほどの枠をとってい
 ますが、内容によってはそれより短く終わることも多
 くあります。発表の時間やその後の盛り上がりタイム
 は柔軟に変化します。（なので気軽に発表側に回って
 いただけると助かります…！）\nこの輪読会は、Google M
 eetを利用して開催します。connpassの参加登録をすると
 見える「参加者への情報」のところにリンクを貼って
 おきましたので、当日はそちらからご参加ください。
 （このURLは今後も同じものを利用する予定です。）\n
 なお、Google Meet 上での発表や会話、チャットについて
 は録画録音の上、後日osdev-jpのYouTubeチャンネルにアッ
 プロードさせていただきますので、その旨ご了承いた
 だいた上でご参加ください。（Googleアカウントのユー
 ザー名なども映り込む可能性がありますので、気をつ
 けてください。）\n質問などありましたら @hikalium まで
 ご連絡をお願いします。\nこれまでの開催と録画・資
 料一覧はこちら！\nhttps://docs.google.com/spreadsheets/d/1yInvL3a
 Do7Mv_BFIN5WkiFCOHCa6TIaXHXrsKNZFCoo/edit?usp=sharing
LOCATION:インターネットの海 オンライン
URL:https://techplay.jp/event/861335?utm_medium=referral&utm_source=ics&utm
 _campaign=ics
END:VEVENT
END:VCALENDAR
