BEGIN:VCALENDAR
VERSION:2.0
PRODID:-//https://techplay.jp//JP
CALSCALE:GREGORIAN
METHOD:PUBLISH
X-WR-CALDESC:急成長SaaS開発を主導！Javaエンジニア／カジュ
 アル説明会
X-WR-CALNAME:急成長SaaS開発を主導！Javaエンジニア／カジュ
 アル説明会
X-WR-TIMEZONE:Asia/Tokyo
BEGIN:VTIMEZONE
TZID:Asia/Tokyo
BEGIN:STANDARD
DTSTART:19700101T000000
TZOFFSETFROM:+0900
TZOFFSETTO:+0900
TZNAME:JST
END:STANDARD
END:VTIMEZONE
BEGIN:VEVENT
UID:861405@techplay.jp
SUMMARY:急成長SaaS開発を主導！Javaエンジニア／カジュア
 ル説明会
DTSTART;TZID=Asia/Tokyo:20220613T180000
DTEND;TZID=Asia/Tokyo:20220613T183000
DTSTAMP:20260424T022147Z
CREATED:20220606T083226Z
DESCRIPTION:イベント詳細はこちら\nhttps://techplay.jp/event/86140
 5?utm_medium=referral&utm_source=ics&utm_campaign=ics\n\nイベント概
 要\nラクスでは、ビジネスの業務効率化や付加価値向
 上を支援するSaaSを多数提供しており、延べ70\,000社の
 お客様にご利用いただいています。業務効率化SaaS「楽
 楽シリーズ」をはじめとする多くのプロダクトがJavaで
 開発されており、安定して好調な成長を続けています
 。\n\n\nラクスのプロダクト一覧\n\n\n本イベントはJavaの
 開発経験をお持ちの方向けに、プロダクト、開発体制
 やプロセス、ラクスでのキャリアパスなどをQ&Aも交え
 つつ気楽にご紹介するイベントです。\nこんなことを
 お話します\n\n会社紹介/組織紹介\n開発プロセス\n技術
 スタック\nキャリアパス\n募集ポジション/選考フロー\n
 \nこんな方におススメ\n\nエンジニアとしてJavaの開発経
 験をお持ちの方\nラクスの開発チームの体制、技術ス
 タック、働き方について知りたい方\nラクスの選考に
 興味がありポジションについて聞きたい方\n\nお申込は
 こちら\n\nお申込期日：2022/6/13(月) 17:00迄\nイベント画
 面 「このイベントに申し込む」 よりご登録ください
 \n\n※ご参考 ラクスの技術スタック（一部）\n\n言語：J
 ava\, PHP\, Go\, Python\, Node.js\, Kotlin\, Swift\nフレームワーク
 : Spring Boot\, Laravel 等\nフロントエンド： TypeScript\, React/
 Redux\, Vue.js\nインフラ：オンプレミス\, AWS\, Docker\, k8s\n
 開発プロセス：ウォーターフォール、アジャイル（大
 規模スクラム LeSS等）\nコードレビュー：Pull Request ベ
 ース（GitLabのMergeRequest）\nCI\,テスト：GitLab CI\, Jenkins\, 
 gradle\, Selenium/Selenide※ 技術構成はプロダクトにより異
 なります。\n\n開催概要\n\n日時: 2022/6/13(月) 18:00-18:30\n
 会場: オンライン（Zoom）\n\nメッセージにて開催前にZoo
 mURLを通知いたします。\nZoomへの入室は5分前からとな
 ります。\n\n\n参加費: 無料\n\n※イベント参加人数が少
 ない場合など、中止とする場合がございますのでご了
 承ください。\nタイムスケジュール\n\n\n\n時間\n内容\n\n
 \n\n\n18:00 ～ 18:05\n会社紹介\n\n\n18:05 ～ 18:25\n体制／技術
 スタック／開発事例／開発プロセス／キャリアパス 等
 \n\n\n18:25 〜 18:30\nキャリア情報・アンケート\n\n\n18:30\n
 終了\n\n\n\n当社参加メンバー\n\n開発チーム参加メンバ
 ー調整中！\n米田慎太郎 / 技術広報2020年ラクス入社IT
 出版等で新規事業開発、マーケティング、経営企画・
 内部統制やセールス組織のマネジメントを経験。現在
 は技術広報として、イベントやテックブログの企画運
 営を担当。\n菊池伸匡 / 技術広報2021年ラクス入社HR Tech
 プロダクトのオフショア開発PL等を経験。技術広報と
 して、エンジニア・デザイナー向けのイベント企画運
 営を担当。社会人大学で情報学を学んでいます。\n\nこ
 ちらもご覧ください\n【5分でわかる】開発本部紹介資
 料主催の技術イベント一覧テックブログ\n個別に話を
 聞きたいという方向けに・・・\n開発本部中途サイト
 当社サイトよりデザイナーの方向けカジュアル面談も
 常時受け付けております！\n注意事項\n\n当イベントの
 内容およびスケジュールは、予告なく変更となる場合
 があります。予めご了承ください。\n他の参加者の方
 の妨げになるような行為は禁止、運営側の判断でご退
 出をお願いする場合があります。\nブログやSNSなどで
 当イベントに関する発信を行う際には、公序良俗に反
 する内容のないよう、ご協力をお願いします。\n当イ
 ベントはオンライン開催のため、通信状況によって音
 声や映像の乱れがある場合がございます。\nイベント
 風景を録画しておりますが、運営改善以外には用いま
 せん。皆様の映像は録画されませんのでご安心くださ
 い。\n配信トラブル時のアナウンスはTwitterより行いま
 す。\n
LOCATION:オンライン
URL:https://techplay.jp/event/861405?utm_medium=referral&utm_source=ics&utm
 _campaign=ics
END:VEVENT
END:VCALENDAR
