BEGIN:VCALENDAR
VERSION:2.0
PRODID:-//https://techplay.jp//JP
CALSCALE:GREGORIAN
METHOD:PUBLISH
X-WR-CALDESC:【エンジニアのためのカジュアル交流会】エ
 ンジニアの輪 at 東京（勉強会・LT会）
X-WR-CALNAME:【エンジニアのためのカジュアル交流会】エ
 ンジニアの輪 at 東京（勉強会・LT会）
X-WR-TIMEZONE:Asia/Tokyo
BEGIN:VTIMEZONE
TZID:Asia/Tokyo
BEGIN:STANDARD
DTSTART:19700101T000000
TZOFFSETFROM:+0900
TZOFFSETTO:+0900
TZNAME:JST
END:STANDARD
END:VTIMEZONE
BEGIN:VEVENT
UID:861474@techplay.jp
SUMMARY:【エンジニアのためのカジュアル交流会】エンジ
 ニアの輪 at 東京（勉強会・LT会）
DTSTART;TZID=Asia/Tokyo:20220702T130000
DTEND;TZID=Asia/Tokyo:20220702T170000
DTSTAMP:20260420T233132Z
CREATED:20220606T142721Z
DESCRIPTION:イベント詳細はこちら\nhttps://techplay.jp/event/86147
 4?utm_medium=referral&utm_source=ics&utm_campaign=ics\n\n【エンジニ
 アの輪】とは\nこのイベントでは現役エンジニアや今
 後エンジニアになりたい人たちが交流できることを重
 視しております。\n現役エンジニア同士あるいは、今
 後エンジニアになりたい人同士、現役エンジニアと今
 後エンジニアになりたい人との横のつながりを作って
 いく環境を作りたいと考え、このようなイベントを開
 催させていただきました！  \n希望される方たちで、勉
 強会後に飲み会も予定してます！\n事前アンケートで
 お聞きしますが、当日にやっぱり参加したい！などあ
 ればお気軽にお声がけ下さい！\n概要\nLTで新しい気づ
 きを得たり、雑談を通して横のつながりを築くことを
 目的とした雑談勉強会  \n対象者\n・現役エンジニア、
 デザイナー等のIT業界で活躍されている方\n・異業種か
 らエンジニア、デザイナーを目指して学習中の方  \nタ
 イムテーブル\n\n\n\nスケジュール\n内容\n\n\n\n\n12:45 ~ 13:
 00\n受付\n\n\n13:00 ~ 13:20\n自己紹介\n\n\n13:20 ~ 14:05\nトーク
 タイム①\n\n\n14:05 ~ 14:35\nLT会①\n\n\n14:35 ~ 14:45\n休憩\n\n\
 n14:45 ~ 15:30\nトークタイム②\n\n\n15:30 ~ 16:20\nLT会②\n\n\n1
 6:20 ~ 16:45\nトークタイム③\n\n\n16:45 ~ 17:00\n片付け\n\n\n\n
 LT 登壇者\n\n\n\n登壇者名\nテーマ\n時間\n\n\n\n\n未定\n未
 定\n7 min\n\n\n未定\n未定\n7 min\n\n\n未定\n未定\n7 min\n\n\n未
 定\n未定\n7 min\n\n\n未定\n未定\n7 min\n\n\nスペシャル登壇\
 n未定\n30 min\n\n\n\nイベントに関する注意事項\n■ イベ
 ント内外で発生した事故、盗難等は主催者・会場・参
 加者は一切責任を負いません。\n■ 天候/災害などの理
 由でイベント関係者の安全を考慮し、イベントの内容
 を変更/中止する場合がございます。\n■ イベント参加
 にはconnpassでの申し込みが必要です。お申し込みがな
 い場合は参加できませんのでご注意ください。\n■ ト
 ラブルによる遅刻の場合は主催者までご一報ください
 。\n■ 当日キャンセルや直前でのキャンセルの場合は
 主催者までご一報ください。\n■ 参加費は当日会場で
 お預かりいたします。  \nお願い\nコロナウイルスの状
 況が少しずつ改善してきておりますが、下記内容を意
 識していただけると幸いです。  \n■ covid19の感染防止
 にご配慮ください（マスク着用、体調不良時の参加辞
 退など）\n■ コミュニケーションを取る際は、なるべ
 くマスクをしながら会話をお願いします  \n禁止事項に
 関してご理解とご協力をお願いします！\nなるべく参
 加した皆さんが「参加してよかった！」と思っていた
 だけるように、コミュニケーションを取りやすい環境
 を作りたいと考えております。そのため、下記にあて
 はまる方の参加は、主旨に反する恐れがあるため、お
 断りさせていただいております。 イベント中に発覚し
 た場合は途中でも退場していただく可能性があります
 のでご了承ください。（その場合の返金は一切いたし
 ません。）\n■ ネットワークビジネス/マルチビジネス
 などへの勧誘・宣伝に関する行為\n■ 政治・宗教・思
 想団体への勧誘行為\n■ その他物品や情報の販売に類
 する行為\n■ 個人情報の詮索・収集を目的とする行為\
 n■ 迷惑行為・ハラスメント・ナンパなど、他の参加
 者を不快にさせる行為\n■ 無断キャンセル/特別な事情
 のない当日キャンセル\n■ 反社会勢力に関わる方\n■ 
 その他、主催者が参加にふさわしくないと判断した方
LOCATION:ふれあい貸し会議室 〒108-0014 東京都港区芝5-32-9 E
 CS第5ビル5F
URL:https://techplay.jp/event/861474?utm_medium=referral&utm_source=ics&utm
 _campaign=ics
END:VEVENT
END:VCALENDAR
