BEGIN:VCALENDAR
VERSION:2.0
PRODID:-//https://techplay.jp//JP
CALSCALE:GREGORIAN
METHOD:PUBLISH
X-WR-CALDESC:プロダクトマネージャーの仕事紹介／カジュ
 アル説明会
X-WR-CALNAME:プロダクトマネージャーの仕事紹介／カジュ
 アル説明会
X-WR-TIMEZONE:Asia/Tokyo
BEGIN:VTIMEZONE
TZID:Asia/Tokyo
BEGIN:STANDARD
DTSTART:19700101T000000
TZOFFSETFROM:+0900
TZOFFSETTO:+0900
TZNAME:JST
END:STANDARD
END:VTIMEZONE
BEGIN:VEVENT
UID:861558@techplay.jp
SUMMARY:プロダクトマネージャーの仕事紹介／カジュアル
 説明会
DTSTART;TZID=Asia/Tokyo:20220615T180000
DTEND;TZID=Asia/Tokyo:20220615T183000
DTSTAMP:20260424T003154Z
CREATED:20220607T101042Z
DESCRIPTION:イベント詳細はこちら\nhttps://techplay.jp/event/86155
 8?utm_medium=referral&utm_source=ics&utm_campaign=ics\n\nイベント概
 要\nラクスでは、ビジネスの業務効率化や付加価値向
 上を支援するSaaSを多数提供しており、延べ70\,000社の
 お客様にご利用いただいています。これまでも約2年に
 1回のペースで新たなプロダクトをリリースしてきまし
 た。\n\n\nラクスのプロダクト一覧\n\n\n今回のキャリア
 座談会はプロダクトマネージャー（PdM）がテーマ。プ
 ロダクトマネジメント絶賛強化中の「楽楽精算」開発
 事例を中心にご紹介します！\nこんなことをお話しま
 す\n\n会社紹介/組織紹介\nプロダクト紹介\nPdMの役割・
 チーム体制紹介\nラクスのPdM体制の特徴\nキャリアパス
 \n募集ポジション\n\nこんな方におススメ\n\nエンジニア
 として開発経験をお持ちの方\nラクスの開発チームの
 体制、技術スタック、働き方について知りたい方\nラ
 クスの選考に興味がありポジションについて聞きたい
 方\n\nお申込はこちら\n\nお申込期日：2022/6/15(水) 17:00迄
 \nイベント画面 「このイベントに申し込む」 よりご
 登録ください\n\n※ご参考 ラクスの技術スタック（一
 部）\n\n言語：Java\, PHP\, Go\, Python\, Node.js\, Kotlin\, Swift\n
 フレームワーク: Spring Boot\, Laravel 等\nフロントエンド
 ： TypeScript\, React/Redux\, Vue.js\nインフラ：オンプレミス\
 , AWS\, Docker\, k8s\n開発プロセス：アジャイル（大規模ス
 クラム LeSS等）、ウォーターフォール\nコードレビュー
 ：Pull Request ベース（GitLabのMergeRequest）\nCI\,テスト：Git
 Lab CI\, Jenkins\, gradle\, Selenium/Selenide\n\n※ 技術構成はプ
 ロダクトにより異なります。\n開催概要\n\n日時: 2022/6/1
 5(水) 18:00-18:30\n会場: オンライン（Zoom）\n\nconnpassメッ
 セージにて開催前にZoomURLを通知いたします。\nZoomへの
 入室は5分前からとなります。\n\n\n参加費: 無料\n\n※イ
 ベント参加人数が少ない場合など、中止とする場合が
 ございますのでご了承ください。\nタイムスケジュー
 ル\n\n\n\n時間\n内容\n\n\n\n\n18:00 ～ 18:05\n会社紹介\n\n\n18:
 05 ～ 18:25\nPdMチーム体制・プロダクト・PMMとの関係・
 ラクスPdMの特徴等紹介\n\n\n18:25 〜 18:30\nキャリア情報
 ・アンケート\n\n\n18:30\n終了\n\n\n\n当社参加メンバー\n\n
 プロダクトマネージャー 登壇調整中！\n菊池伸匡 / 技
 術広報HR Techプロダクトのオフショア開発PL（フィリピ
 ン）等を経験。受託開発、スタートアップ等でHRを経
 験したのち、2021年ラクス入社。社会人大学で情報学（
 機械学習）を専攻しました。\n結城萌子 / 技術広報2022
 年ラクス入社新卒から約7年、総合出版社の広報担当を
 経験。現在は技術広報として技術・デザインイベント
 企画運営や開発組織のメディア担当。\n\nこちらもご覧
 ください\n【5分でわかる】開発本部紹介資料主催の技
 術イベント一覧テックブログエンジニアチーム紹介サ
 イト\n注意事項\n\n当イベントの内容およびスケジュー
 ルは、予告なく変更となる場合があります。予めご了
 承ください。\n他の参加者の方の妨げになるような行
 為は禁止、運営側の判断でご退出をお願いする場合が
 あります。\nブログやSNSなどで当イベントに関する発
 信を行う際には、公序良俗に反する内容のないよう、
 ご協力をお願いします。\n当イベントはオンライン開
 催のため、通信状況によって音声や映像の乱れがある
 場合がございます。\nイベント風景を録画しておりま
 すが、運営改善以外には用いません。皆様の映像は録
 画されませんのでご安心ください。\n配信トラブル時
 のアナウンスはTwitterより行います。\n
LOCATION:オンライン
URL:https://techplay.jp/event/861558?utm_medium=referral&utm_source=ics&utm
 _campaign=ics
END:VEVENT
END:VCALENDAR
